Workbook
Name \a: #REF!
Name \z: #REF!
Name __ml1: #REF!
Name __sp1: #REF!
Name __tc1: #REF!
Name _ml1: #REF!
Name _Pm2544: #REF!
Name _sp1: #REF!
Name _sp2: #REF!
Name _tc1: #REF!
Name A: #REF!
Name aa: #REF!
Name ACW: #REF!
Name AT: #REF!
Name ATF: #REF!
Name ATH: #REF!
Name ATJ: #REF!
Name ATS: #REF!
Name AV.SP: #REF!
Name av1.sp: #REF!
Name B: #REF!
Name BA: #REF!
Name BB: #REF!
Name bd: '[1]Cal Fto'!#REF!
Name BD.: #REF!
Name BG: #REF!
Name BL: #REF!
Name Bm: #REF!
Name BOne: #REF!
Name BR: #REF!
Name bu: #REF!
Name BU.: #REF!
Name BZ: #REF!
Name c.: #REF!
Name Cnl: #REF!
Name CR: #REF!
Name cs: #REF!
Name CT: #REF!
Name CV: #REF!
Name D: '[1]Cal Fto'!#REF!
Name DS: #REF!
Name DT: #REF!
Name e: #REF!
Name EL.1: '[1]Cal Fto'!#REF!
Name EL.10: '[1]Cal Fto'!#REF!
Name EL.11: #REF!
Name EL.2: '[1]Cal Fto'!#REF!
Name EL.3: '[1]Cal Fto'!#REF!
Name EL.4: '[1]Cal Fto'!#REF!
Name EL.5: '[1]Cal Fto'!#REF!
Name EL.6: '[1]Cal Fto'!#REF!
Name EL.7: '[1]Cal Fto'!#REF!
Name EL.8: '[1]Cal Fto'!#REF!
Name EL.9: '[1]Cal Fto'!#REF!
Name ER: #REF!
Name f: #REF!
Name froad: #REF!
Name FSL: #REF!
Name GR: #REF!
Name H: #REF!

Sheet สรุปรวม
B1: เอกสารประกวดราคาหมายเลข 1
B3: งานจ้างปรับปรุงประสิทธิภาพและเพิ่มกำลังผลิต โครงการไฟฟ้าพลังน้ำคลองทุ่งเพล
B4: ตำบลพลวง อำเภอเขาคิชฌกูฏ จังหวัดจันทบุรี
B6: ลำดับ | C6: รายการ | E6: ราคารวม
E7: (บาท)
B8: 1 | C8: โครงการไฟฟ้าพลังน้ำคลองทุ่งเพล 2
B9: 2 | C9: โครงการไฟฟ้าพลังน้ำขนาดเล็กมากท้ายเขื่อนพลวง 1
B10: 3 | C10: โครงการไฟฟ้าพลังน้ำขนาดเล็กมากท้ายเขื่อนพลวง 2
D12: (รวมภาษีมูลค่าเพิ่มร้อยละ 7)
C14: รวมราคางานจ้างปรับปรุงประสิทธิภาพและเพิ่มกำลังผลิต
C15: โครงการไฟฟ้าพลังน้ำคลองทุ่งเพล ตำบลพลวง อำเภอเขาคิชฌกูฏ จังหวัดจันทบุรี
C16: เป็นเงินทั้งสิ้น

Sheet สรุปรวม KTP2
B1: โครงการไฟฟ้าพลังน้ำคลองทุ่งเพล 2
B2: งานโยธา งานอุปกรณ์ไฟฟ้า-เครื่องจักรกลและงานสายส่งไฟฟ้าแรงสูง
B3: งานจ้างปรับปรุงประสิทธิภาพและเพิ่มกำลังผลิต โครงการไฟฟ้าพลังน้ำคลองทุ่งเพล
B4: ลำดับ | C4: รายการ | E4: ราคารวม
E5: (บาท)
B6: 1 | C6: งานโยธา (ส่วนที่ 1)
D7: หมวดงานอาคาร
D8: หมวดงานชลประทาน
D9: หมวดงานสะพานและท่อเหลี่ยม
D10: หมวดงานทาง
D11: รวมงานโยธาส่วนที่ 1
B14: 2 | C14: งานอุปกรณ์เครื่องจักรกลและไฟฟ้า (ส่วนที่ 2)
C17: รวมราคาค่าก่อสร้างโครงการไฟฟ้าพลังน้ำคลองทุ่งเพล 2 ทั้งสิ้น | E17: =E14+E11 -> 0

Sheet KTP2สรุปรวมงานโยธา-F
B1: โครงการไฟฟ้าพลังน้ำคลองทุ่งเพล 2
B2: ส่วนที่ 1
B3: งานจ้างปรับปรุงประสิทธิภาพและเพิ่มกำลังผลิต โครงการไฟฟ้าพลังน้ำคลองทุ่งเพล
B5: ที่ | D5: รายการ | E5: ราคารวม
E6: (บาท)
C7: หมวดงานอาคาร
B8: 1 | D8: ='1 House'!B3 -> งานจ้างปรับปรุงประสิทธิภาพและเพิ่มกำลังผลิต โครงการไฟฟ้าพลังน้ำคลองทุ่งเพล
D9: รวมเงินค่าก่อสร้างหมวดงานอาคาร
C11: หมวดงานชลประทาน
B12: 1 | D12: ='2controlhouse'!B3 -> งานจ้างปรับปรุงประสิทธิภาพและเพิ่มกำลังผลิต โครงการไฟฟ้าพลังน้ำคลองทุ่งเพล
B13: 2 | D13: ='3PS'!B3 -> งานจ้างปรับปรุงประสิทธิภาพและเพิ่มกำลังผลิต โครงการไฟฟ้าพลังน้ำคลองทุ่งเพล
B14: 3 | D14: ='4PH'!B3 -> งานจ้างปรับปรุงประสิทธิภาพและเพิ่มกำลังผลิต โครงการไฟฟ้าพลังน้ำคลองทุ่งเพล
B15: 4 | D15: ='5TR'!B3 -> งานจ้างปรับปรุงประสิทธิภาพและเพิ่มกำลังผลิต โครงการไฟฟ้าพลังน้ำคลองทุ่งเพล
B16: 5 | D16: กลุ่มที่ 6 : งานระบบไฟฟ้าแรงสูงและแรงต่ำ
B17: 6 | D17: =' 7สายส่ง'!B4 -> กลุ่มที่ 7 : งานสายส่งไฟฟ้าแรงสูง
D18: รวมเงินค่าก่อสร้างหมวดงานชลประทาน
C20: หมวดงานสะพานและท่อเหลี่ยม
B21: 1 | D21: กลุ่มที่ 2 : งานอาคารควบคุม
B22: 2 | D22: กลุ่มที่ 3 : ท่อส่งน้ำ (Penstock)
B23: 3 | D23: กลุ่มที่ 4 : อาคารโรงไฟฟ้า (Power House)
B24: 4 | D24: กลุ่มที่ 5 : อาคารระบายท้ายน้ำ (Tailrace)
D25: รวมเงินค่าก่อสร้างหมวดงานสะพานและท่อเหลี่ยม
C27: หมวดงานทาง
B28: 1 | D28: กลุ่มที่ 1 : งานทั่วไปและงานสาธารณูปโภคบริเวณโรงไฟฟ้า
D29: รวมเงินค่าก่อสร้างหมวดงานทาง
D31: ค่าก่อสร้างรวมเป็นเงินทั้งสิ้น (รวมภาษีมูลค่าเพิ่มร้อยละ 7)

Sheet 1 House
B1: โครงการไฟฟ้าพลังน้ำคลองทุ่งเพล 2
B2: งานโยธา
B3: งานจ้างปรับปรุงประสิทธิภาพและเพิ่มกำลังผลิต โครงการไฟฟ้าพลังน้ำคลองทุ่งเพล
B5: หมวดที่ | C5: รายการงาน | G5: ราคาค่าก่อสร้าง (บาท)
C7: หมวดงานอาคาร
B8: 12 | C8: การก่อสร้างอาคารควบคุม
C10: หมวดงานทาง
B11: 14 | C11: งานระบบไฟฟ้า
C13: รวมเงินงานกลุ่มที่ 1 หมวดงานอาคาร (รวมภาษีมูลค่าเพิ่มร้อยละ 7)
C14: รวมเงินงานกลุ่มที่ 2 หมวดงานอาคาร

Sheet กลุ่มที่1
B1: โครงการไฟฟ้าพลังน้ำคลองทุ่งเพล 2 | Y1: วิวรรธน์
B2: งานโยธา
B3: งานจ้างปรับปรุงประสิทธิภาพและเพิ่มกำลังผลิต โครงการไฟฟ้าพลังน้ำคลองทุ่งเพล
B5: รายการ ที่ | C5: รายละเอียดงาน | G5: ปริมาณงาน | I5: ราคาต่อหน่วย | J5: รวมเป็น
J6: จำนวนเงิน
G7: หน่วย | H7: ปริมาณ | I7: (บาท) | J7: (บาท)
C9: หมวดงานอาคาร | I9: =#REF! -> #REF! | AB9: 1.733 | AC9: 0.266
C10: หมวดที่ 12 การก่อสร้างอาคารควบคุม
B11: 1 | C11: งานก่อสร้างอาคารสำนักงาน | G11: เหมา | H11: 1
B12: 2 | C12: งานลานอเนกประสงค์พร้อมส่วนประกอบและแสงสว่าง | G12: เหมา | H12: 1 | Y12: =H12/$AA$12 -> 0.0019083969 | Z12: ตร.ม. / ยาว (ม.) | AA12: 524 | AB12: ยาว (ม.) | AC12: 4 | AD12: กว้าง (ม.) | AE12: =AF12/#REF! -> #REF! | AF12: 8274 | AH12: =J12-AF12 -> -8274
C13: รวมเงินงานหมวดที่ 12 | AH13: =J13-AF13 -> 0
C15: งานระบบโซล่าเซลล์บนหลังคา
B16: 1 | C16: ระบบโซล่าเซลล์ติดตั้งบนหลังคาบริเวณอาคารสำนักงานพร้อมส่วนประกอบอื่นๆ 10 kW | G16: เหมา | H16: 1
C17: พร้อมทดสอบ
B18: 2 | C18: ระบบโซล่าเซลล์ติดตั้งบนหลังคาบริเวณโรงไฟฟ้าพร้อมส่วนประกอบอื่นๆ 10 kW | G18: เหมา | H18: 1 | Y18: =H18/$AA$18 -> 0.0047619048 | Z18: ตร.ม. / ยาว (ม.) | AA18: 210 | AB18: ยาว (ม.) | AC18: 3 | AD18: กว้าง (ม.) | AE18: =AF18/#REF! -> #REF! | AF18: 2909.69 | AH18: =J18-AF18 -> -2909.69
C19: พร้อมทดสอบ
C20: รวมเงินงานระบบโซล่าเซลล์บนหลังคา
C22: รวมเงินกลุ่มที่ 1 หมวดงานอาคาร
C24: หมวดงานทาง | I24: =#REF! -> #REF!
C25: หมวดที่ 14 งานระบบไฟฟ้า | Y25: =H25/#REF! -> #REF! | Z25: ลบ.ม. / ยาว (ม.) | AE25: =AF25/#REF! -> #REF! | AF25: 185888.22 | AH25: =J25-AF25 -> -185888.22
B26: 1 | C26: งานระบบไฟฟ้าสาธารณะสำหรับชุมชนรอบโรงไฟฟ้า ประกอบไปด้วย | AH26: =J26-AF26 -> 0
B27: 1.1 | C27: หม้อแปลง 30 kVA 3 เฟส พร้อมชุดฟิวส์ อุปกรณ์ประกอบ และติดตั้ง | G27: ชุด | H27: 1
B28: 1.2 | C28: ตู้ควบคุมไฟฟ้าแสงสว่าง พร้อมอุปกรณ์ประกอบ และติดตั้ง | G28: ชุด | H28: 1
B29: 1.3 | C29: โคมไฟฟ้าถนน LED ขนาด 50W | G29: ชุด | H29: 85
C30: พร้อมติดตั้งคาร์ทริคฟิวส์กันฝน, กิ่งโคมชุบกาวาไนซ์
C31: ขาจับกิ่งโคมแบบปรับได้ชุบกาวาไนซ์
C32: สายไฟฟ้าต่อเข้าโคม และอุปกรณ์ประกอบครบชุด
B33: 1.4 | C33: สาย THW-A 50 sq.mm. พร้อมอุปกรณ์ประกอบ | G33: เมตร | H33: 8800
B34: 1.5 | C34: แรค พร้อมลูกถ้วย 4 ชุด และอุปกรณ์ประกอบ | G34: ชุด | H34: 44
B35: 1.6 | C35: แรค พร้อมลูกถ้วย 2 ชุด และอุปกรณ์ประกอบ | G35: ชุด | H35: 41
B36: 1.7 | C36: แรค พร้อมลูกถ้วย 1 ชุด และอุปกรณ์ประกอบ | G36: ชุด | H36: 44
C38: รวมเงินกลุ่มที่ 1 หมวดงานทาง
C42: รวมเงินงานกลุ่มที่ 1 | J42: =J22+J38 -> 0 | L42: =SUM(L11:L36) -> 0 | Z42: =J42/2300 -> 0
D134: PVC Waterstop " B "

Sheet 2controlhouse
B1: โครงการไฟฟ้าพลังน้ำคลองทุ่งเพล 2
B2: งานโยธา
B3: งานจ้างปรับปรุงประสิทธิภาพและเพิ่มกำลังผลิต โครงการไฟฟ้าพลังน้ำคลองทุ่งเพล
B5: หมวดที่ | C5: รายการงาน | G5: ราคาค่าก่อสร้าง (บาท)
C7: หมวดงานชลประทาน
B8: 2 | C8: งานถางป่า ขุดตอ และงานเปิดหน้าดิน
B9: 4 | C9: งานขุดดินและขุด-ระเบิดหิน
B10: 5 | C10: งานถมบดอัด
B11: 10 | C11: งานเหล็กและอุปกรณ์ชลศาสตร์
B12: 12 | C12: งานก่อสร้างอาคารควบคุม
C13: รวมเงินงานกลุ่มที่ 2 หมวดงานชลประทาน
C15: หมวดงานสะพานและท่อเหลี่ยม
B16: 7 | C16: งานคอนกรีต
C17: รวมเงินงานกลุ่มที่ 2 หมวดงานสะพานและท่อเหลี่ยม
C19: รวมเงินงานกลุ่มที่ 1 (รวมภาษีมูลค่าเพิ่มร้อยละ 7)

Sheet กลุ่มที่2controlhouse
B1: โครงการไฟฟ้าพลังน้ำคลองทุ่งเพล 2
B2: งานโยธา
B3: งานจ้างปรับปรุงประสิทธิภาพและเพิ่มกำลังผลิต โครงการไฟฟ้าพลังน้ำคลองทุ่งเพล
B5: รายการ ที่ | C5: รายละเอียดงาน | G5: ปริมาณงาน | I5: ราคาต่อหน่วย | J5: รวมเป็น
J6: จำนวนเงิน
G7: หน่วย | H7: ปริมาณ | I7: (บาท) | J7: (บาท)
C9: หมวดงานชลประทาน | I9: =#REF! -> #REF!
C10: หมวดที่ 2 งานถางป่า ขุดตอ และงานเปิดหน้าดิน
B11: 2.4(1) | C11: งานถางป่า ขุดตอ และรากไม้ | G11: ตร.ม. | H11: 270
B12: 2.4(2) | C12: งานขุดเปิดหน้าดิน | G12: ลบ.ม. | H12: 81
C13: รวมเงินงานหมวดที่ 2
C14: หมวดที่ 4 งานขุดดินและขุด-ระเบิดหิน
B15: 4.7(1) | C15: งานขุดขนย้ายดิน | G15: ลบ.ม. | H15: 742
B16: 4.7(2) | C16: งานขุดหินผุหรือดินขุดยาก | G16: ลบ.ม. | H16: 186
C17: รวมเงินงานหมวดที่ 4
C19: หมวดที่ 5 งานถมบดอัด
B20: 5.11(1) | C20: งานถมวัสดุบดอัดแน่น | G20: ลบ.ม. | H20: 445
B21: 5.11(2) | C21: งานดินถมบดอัดแน่น | G21: ลบ.ม. | H21: 111
C22: รวมเงินงานหมวดที่ 5
C24: รวมเงิน (ยอดยกไป)
C25: รวมเงิน (ยอดยกมา)
C26: หมวดที่ 10 งานเหล็กและอุปกรณ์ชลศาสตร์
B27: 10.12(1) | C27: งานเหล็กแพลตฟอร์ม (STEEL PLATFORM) | G27: กก. | H27: 308
B28: 10.12(2) | C28: งานเหล็กแผ่น Steel Plate Collar | G28: กก. | H28: 231
B29: 10.12(3) | C29: งานเหล็กฝังในคอนกรีต | G29: กก. | H29: 437
B30: 10.12(4) | C30: งานติดตั้ง Hatchway ขนาด 3.84 x 3.44 ม. | G30: ชุด | H30: 1
B31: 10.12(5) | C31: งานติดตั้ง Hatchway ขนาด 2.94 x 2.62 ม. | G31: ชุด | H31: 1
B32: 10.12(6) | C32: งานติดตั้งประตูบานเหล็กพร้อมวงกบเหล็ก ขนาด 0.9 x 2.0 ม. | G32: ชุด | H32: 1
B33: 10.12(7) | C33: งานจัดหาและติดตั้งราวกันตก | G33: ม. | H33: 66
C34: รวมเงินงานหมวดที่ 10
C35: หมวดที่ 12 การก่อสร้างอาคารควบคุม
B36: 12.11(1) | D36: งานพื้นขัดหยาบ | G36: ตร.ม. | H36: 169
C37: รวมเงินงานหมวดที่ 12
C39: หมวดงานสะพานและท่อเหลี่ยม
C40: หมวดที่ 7 งานคอนกรีต
B41: 7.16(1) | C41: งานคอนกรีตหยาบ | G41: ลบ.ม. | H41: 9.5
B42: 7.16(2) | C42: งานคอนกรีตไม่รวมเหล็กเสริม | G42: ลบ.ม. | H42: 213
B43: 7.16(3) | C43: งานเหล็กเสริมคอนกรีต | G43: กก. | H43: 12780
B44: 7.16(4) | C44: งาน Waterstop type A | G44: ม. | H44: 71.4
B45: 7.16(5) | C45: งาน Joint sealer | G45: ม. | H45: 3
C46: รวมเงินงานหมวดที่ 7
C48: รวมเงินงานกลุ่มที่ 2
D140: PVC Waterstop " B "

Sheet 3PS
B1: โครงการไฟฟ้าพลังน้ำคลองทุ่งเพล 2
B2: งานโยธา
B3: งานจ้างปรับปรุงประสิทธิภาพและเพิ่มกำลังผลิต โครงการไฟฟ้าพลังน้ำคลองทุ่งเพล
B4: หมวดที่ | C4: รายการงาน | G4: ราคาค่าก่อสร้าง (บาท)
C6: หมวดงานชลประทาน
B7: 2 | C7: งานถางป่า ขุดตอ และงานเปิดหน้าดิน
B8: 4 | C8: งานขุดดินและขุด-ระเบิดหิน
B9: 5 | C9: งานถมบดอัด
B10: 10 | C10: งานเหล็กและอุปกรณ์ชลศาสตร์
B11: 11 | C11: งานท่อเหล็ก
C12: รวมเงินงานกลุ่มที่ 3 หมวดงานชลประทาน
C14: หมวดงานสะพานและท่อเหลี่ยม
B15: 7 | C15: งานคอนกรีต
C16: รวมเงินงานกลุ่มที่ 3 หมวดงานสะพานและท่อเหลี่ยม
C19: รวมเงินงานกลุ่มที่ 3 (รวมภาษีมูลค่าเพิ่มร้อยละ 7)
D47: PVC waterstop Type "B"
D51: PVC Waterstop Type "B"
D117: PVC Waterstop " B "

Sheet กลุ่มที่3PS
B1: โครงการไฟฟ้าพลังน้ำคลองทุ่งเพล 2
B2: งานโยธา
B3: งานจ้างปรับปรุงประสิทธิภาพและเพิ่มกำลังผลิต โครงการไฟฟ้าพลังน้ำคลองทุ่งเพล
B4: รายการ ที่ | C4: รายละเอียดงาน | G4: ปริมาณงาน | I4: จำนวนเงิน | J4: รวมเป็น
J5: จำนวนเงิน
G6: หน่วย | H6: ปริมาณ | I6: (บาท) | J6: (บาท)
C7: หมวดงานชลประทาน | I7: =#REF! -> #REF!
C8: หมวดที่ 2 งานถางป่า ขุดตอ และงานเปิดหน้าดิน
B9: 2.4(1) | C9: งานถางป่า ขุดตอ และรากไม้ | G9: ตร.ม. | H9: 10740
B10: 2.4(2) | C10: งานขุดเปิดหน้าดิน | G10: ลบ.ม. | H10: =H9*0.3 -> 3222
C11: รวมเงินงานหมวดที่ 2
C13: หมวดที่ 4 งานขุดดินและขุด-ระเบิดหิน
B14: 4.7(1) | C14: งานขุดขนย้ายดิน | G14: ลบ.ม. | H14: 2680
B15: 4.7(2) | C15: งานขุดหินผุหรือดินขุดยาก | G15: ลบ.ม. | H15: 600
C16: รวมเงินงานหมวดที่ 4
C18: หมวดที่ 5 งานถมบดอัด
B19: 5.11(1) | C19: งานถมวัสดุบดอัดแน่น | G19: ลบ.ม. | H19: =ROUND(2690*1,2) -> 2690
C20: รวมเงินงานหมวดที่ 5
C22: หมวดที่ 10 งานเหล็กและอุปกรณ์ชลศาสตร์
B23: 10.13(1) | C23: งานจัดหาและติดตั้ง Gate Valve ขนาด Ø 1" | G23: ชุด | H23: 3
B24: 10.13(2) | C24: งานจัดหาและติดตั้ง Gate Valve ขนาด Ø 150 mm. | G24: ชุด | H24: 2
B25: 10.13(3) | C25: งานจัดหาและติดตั้ง Gate Valve ขนาด Ø 300 mm. | G25: ชุด | H25: 2
B26: 10.13(4) | C26: งานจัดหาและติดตั้ง Gate Valve ขนาด Ø 800 mm. | G26: ชุด | H26: 1
B27: 10.13(5) | C27: งานจัดหาและติดตั้ง Gate Valve ขนาด Ø 1,500 mm. | G27: ชุด | H27: 1
B28: 10.13(6) | C28: งานจัดหาและติดตั้ง Butterfly Valve Ø 400 มม. | G28: ชุด | H28: 1
B29: 10.13(7) | C29: งานจัดหาและติดตั้ง Howell Bunger Valve ขนาด Ø 400 mm. | G29: ชุด | H29: 1
B30: 10.13(8) | C30: งานจัดหาและติดตั้ง Double Orifice Air valve ขนาด Ø 150 mm. | G30: ชุด | H30: 4
B31: 10.13(9) | C31: งานจัดหาและติดตั้ง Double Orifice Air valve ขนาด Ø 200 mm. | G31: ชุด | H31: 1
C32: รวมเงินงานหมวดที่ 10
C34: หมวดที่ 11 งานท่อเหล็ก
B35: 11.18(1) | C35: งานจัดหาและติดตั้ง ท่อเหล็กเหนียว Ø 800 มม. ความหนา 12.7 มม. | G35: ม. | H35: 1200
B36: 11.18(2) | C36: งานจัดหาและติดตั้ง ท่อเหล็กเหนียว Ø 600 มม. ความหนา 9 มม. | G36: ม. | H36: 36
B37: 11.18(3) | C37: งานจัดหาและติดตั้ง ท่อเหล็กเหนียว Ø 400 มม. ความหนา 7.9 มม. | G37: ม. | H37: 55
B38: 11.18(4) | C38: งานจัดหาและติดตั้ง ท่อเหล็กเหนียว Ø 300 มม. ความหนา 6 มม. | G38: ม. | H38: 6
B39: 11.18(5) | C39: งานจัดหาและติดตั้ง ท่อเหล็กเหนียว Ø 150 มม. ความหนา 6 มม. | G39: ม. | H39: 6
B40: 11.18(6) | C40: งานจัดหาและติดตั้ง ท่อ GALVANIZE STEEL PIPE Ø 1" | G40: ม. | H40: 12
B41: 11.18(7) | C41: งานท่อแยก Wye Branch จากขนาด 1,500 มม. เป็น 800 มม. | G41: ท่อน | H41: 1
B42: 11.18(8) | C42: งานท่อแยก Wye Branch จากขนาด 800 มม. เป็น 400-800 มม. | G42: ท่อน | H42: 1
B43: 11.18(9) | C43: งานท่อแยก Wye Branch จากขนาด 800 มม. เป็น 2-600 มม. | G43: ท่อน | H43: 1
B44: 11.18(10) | C44: งานท่อเหล็กโค้ง Ø 800 มม. หนา 9 มม. | G44: ท่อน | H44: 12
B45: 11.18(11) | C45: งานจัดหาและติดตั้งงานรอยต่อท่อ Ø 800 มม. (Expansion Joint) | G45: ชุด | H45: 12
B46: 11.18(12) | C46: MECHANICAL COUPLING ขนาด 800 มม. | G46: ชุด | H46: 1
... B49: 11.18(15) | C49: งานจัดหาและติดตั้ง Manhole Grating พร้อมอุปกรณ์ประกอบ | G49: ชุด | H49: 3
C50: รวมเงินงานหมวดที่ 11
C51: รวมเงิน (ยอดยกไป)
C52: รวมเงิน (ยอดยกมา)
C53: หมวดงานสะพานและท่อเหลี่ยม
C54: หมวดที่ 7 งานคอนกรีต
B55: 7.16(1) | C55: งานคอนกรีตหยาบ | G55: ลบ.ม. | H55: 20
B56: 7.16(2) | C56: งานคอนกรีตไม่รวมเหล็กเสริม (Thrust Block, Anchor Block , Pipe Support) | G56: ลบ.ม. | H56: =ROUND(1250*1.1,0) -> 1375
B57: 7.16(3) | C57: งานเหล็กเสริมคอนกรีต | G57: กก. | H57: =ROUND(H56*45,0) -> 61875
C58: รวมเงินงานหมวดที่ 7
C59: รวมเงินงานกลุ่มที่ 3
D109: PVC Waterstop " B "

Sheet 4PH
B1: โครงการไฟฟ้าพลังน้ำคลองทุ่งเพล 2
B2: งานโยธา
B3: งานจ้างปรับปรุงประสิทธิภาพและเพิ่มกำลังผลิต โครงการไฟฟ้าพลังน้ำคลองทุ่งเพล
B5: หมวดที่ | C5: รายการงาน | G5: ราคาค่าก่อสร้าง (บาท)
C7: หมวดงานชลประทาน
B8: 2 | C8: งานถางป่า ขุดตอ และงานเปิดหน้าดิน
B9: 4 | C9: งานขุดดินและขุด-ระเบิดหิน
B10: 5 | C10: งานถมบดอัด
B11: 10 | C11: งานเหล็กและอุปกรณ์ชลศาสตร์
B12: 12 | C12: งานก่อสร้างอาคารควบคุม
C13: รวมเงินงานกลุ่มที่ 3 หมวดงานชลประทาน
C15: หมวดงานสะพานและท่อเหลี่ยม
B16: 7 | C16: งานคอนกรีต
C17: รวมเงินงานกลุ่มที่ 3 หมวดงานสะพานและท่อเหลี่ยม
C19: รวมเงินงานกลุ่มที่ 4 (รวมภาษีมูลค่าเพิ่มร้อยละ 7)
D49: PVC waterstop Type "B"
D53: PVC Waterstop Type "B"

Sheet กลุ่มที่4 PH
B1: โครงการไฟฟ้าพลังน้ำคลองทุ่งเพล 2
B2: งานโยธา
B3: งานจ้างปรับปรุงประสิทธิภาพและเพิ่มกำลังผลิต โครงการไฟฟ้าพลังน้ำคลองทุ่งเพล
B4: รายการ ที่ | C4: รายละเอียดงาน | G4: ปริมาณงาน | I4: ราคาต่อหน่วย | J4: รวมเป็น
J5: จำนวนเงิน
G6: หน่วย | H6: ปริมาณ | I6: (บาท) | J6: (บาท)
C8: หมวดงานชลประทาน | I8: =#REF! -> #REF!
C9: หมวดที่ 2 งานถางป่า ขุดตอ และงานเปิดหน้าดิน
B10: 2.4(1) | C10: งานถางป่า ขุดตอ และรากไม้ | G10: ตร.ม. | H10: =ROUND(2970*1,2) -> 2970
B11: 2.4(2) | C11: งานขุดเปิดหน้าดิน | G11: ลบ.ม. | H11: 297
C12: รวมเงินงานหมวดที่ 2
C14: หมวดที่ 4 งานขุดดินและขุด-ระเบิดหิน
B15: 4.7(1) | C15: งานขุดขนย้ายดิน | G15: ลบ.ม. | H15: 2730
B16: 4.7(2) | C16: งานขุด-ระเบิดหิน | G16: ลบ.ม. | H16: 5460
B17: 4.7(3) | C17: งานขุดหินผุหรือดินขุดยาก | G17: ลบ.ม. | H17: 910
C18: รวมเงินงานหมวดที่ 4
C20: หมวดที่ 5 งานถมบดอัด
B21: 5.11(1) | C21: งานถมวัสดุบดอัดแน่น | G21: ลบ.ม. | H21: 1024
B22: 5.11(2) | C22: งานถมวัสดุกลับบดอัดแน่น | G22: ลบ.ม. | H22: 256
C23: รวมเงินงานหมวดที่ 5
C26: หมวดที่ 10 งานเหล็กและอุปกรณ์ชลศาสตร์
B27: 10.12(1) | C27: งานจัดหาและติดตั้งบันไดลิง | G27: กก. | H27: 153
B28: 10.12(2) | C28: งานเหล็กแผ่น Steel Plate Collar | G28: กก. | H28: 302
B29: 10.12(3) | C29: งานเหล็กแผ่น Stainless Steel Liner 12 mm. | G29: กก. | H29: 1424
B30: 10.12(4) | C30: งานจัดหาและติดตั้งราวกันตก | G30: ม. | H30: 62
C31: รวมเงินงานหมวดที่ 10
C33: รวมเงิน (ยอดยกไป)
C34: รวมเงิน (ยอดยกมา)
C36: หมวดที่ 12 การก่อสร้างอาคารควบคุม
B37: 12.11(1) | C37: งานอาคาร Power House และ EDG House
C38: 1) | D38: งานผนัง
D39: - | E39: ผนัง 1 งานผนังอิฐก่อฉาบปูน | G39: ตร.ม. | H39: =539+53 -> 592
D40: - | E40: ผนัง 2 บุกระเบื้อง 8" x 8" | G40: ตร.ม. | H40: 12
D41: - | E41: ทาสีผนังภายนอก | G41: ตร.ม. | H41: =450+53 -> 503
D42: - | E42: ทาสีผนังภายใน | G42: ตร.ม. | H42: =683+53 -> 736
C43: 2) | D43: งานพื้น
D44: - | E44: พื้นขัดหยาบ | G44: ตร.ม. | H44: =125+135+88 -> 348
D45: - | E45: พื้นกระเบื้องกันลื่น 12"x12" | G45: ตร.ม. | H45: 4
D46: - | E46: พื้นกระเบื้องขนาด 12"x12" | G46: ตร.ม. | H46: 46
D47: - | E47: พื้นเคลือบอีพอกซี่ | G47: ตร.ม. | H47: 280
C48: 3) | D48: งานประตูและหน้าต่าง
D49: - | E49: ประตู D1 | G49: ชุด | H49: 1
D50: - | E50: ประตู D2 | G50: ชุด | H50: 1
D51: - | E51: ประตู D3 | G51: ชุด | H51: 3
D52: - | E52: ประตู D4 | G52: ชุด | H52: 1
D53: - | E53: ประตู D5 | G53: ชุด | H53: 1
D54: - | E54: ประตู ขนาด 2.7x3.8 ม. | G54: ชุด | H54: 1
D55: - | E55: หน้าต่าง W1 | G55: ชุด | H55: 10
D56: - | E56: หน้าต่าง W2 | G56: ชุด | H56: 2
D57: - | E57: หน้าต่าง W3 | G57: ชุด | H57: 1
D58: - | E58: หน้าต่าง W4 | G58: ชุด | H58: 10
D59: - | E59: หน้าต่าง W5 | G59: ชุด | H59: 6
C61: รวมเงิน (ยอดยกไป)
C62: รวมเงิน (ยอดยกมา)
C64: 4) | D64: งานหลังคา
D65: 4.1 | E65: งานปูแผ่น Metal Sheet | G65: ตร.ม. | H65: 667
D66: 4.2 | E66: งานโครงหลังคา | G66: กก. | H66: 13026
D67: 4.3 | E67: 0.60 x 0.60 m. Gypsum Board with Aluminium T-Bar | G67: ตร.ม. | H67: 4
D68: 4.4 | E68: งานฝ้าเพดานยิปซั่มโครงอลูมิเนียม | G68: ตร.ม. | H68: 130
C69: 5) | D69: งานสุขภัณฑ์
D70: - | E70: ชักโครก | G70: ชุด | H70: 1
D71: - | E71: อ่างล้างหน้า | G71: ชุด | H71: 1
D72: - | E72: กระจกเงา | G72: ชุด | H72: 1
D73: - | E73: สายชำระ | G73: ชุด | H73: 1
D74: - | E74: Septic Tank | G74: แห่ง | H74: 1
D75: - | E75: งานตะแกรงดักผงขนาด 4" | G75: ชุด | H75: 1
A76: - | D76: - | E76: งานระบบท่อน้ำดี-ท่อน้ำเสีย | G76: เหมาจ่าย | H76: 1
C77: 6) | D77: งาน Cable Trench พร้อมฝาปิด
D78: 6.1 | E78: Cable Trench Type "A" | G78: ม. | H78: 62
D79: 6.2 | E79: Cable Trench Type "B" | G79: ม. | H79: 5
D80: 6.3 | E80: Cable Trench Type "C" | G80: ม. | H80: 12
D81: 6.4 | E81: Cable Trench Type "D" | G81: ม. | H81: 26
C82: รวมเงินงานหมวดที่ 12
C84: หมวดงานสะพานและท่อเหลี่ยม
C85: หมวดที่ 7 งานคอนกรีต
B86: 7.16(1) | C86: งานคอนกรีตหยาบ | G86: ลบ.ม. | H86: 31
B87: 7.16(2) | C87: งานคอนกรีตไม่รวมเหล็กเสริม | G87: ลบ.ม. | H87: =ROUND(1000*1.061,0) -> 1061
B88: 7.16(3) | C88: งาน Waterstop type A | G88: ม. | H88: 150
B89: 7.16(4) | C89: งาน Joint sealer | G89: ม. | H89: 571
B90: 7.16(5) | C90: งานเหล็กเสริมคอนกรีต | G90: กก. | H90: 80000
C91: รวมเงินงานหมวดที่ 7
C93: รวมเงินงานกลุ่มที่ 4

Sheet 5TR
B1: โครงการไฟฟ้าพลังน้ำคลองทุ่งเพล 2
B2: งานโยธา
B3: งานจ้างปรับปรุงประสิทธิภาพและเพิ่มกำลังผลิต โครงการไฟฟ้าพลังน้ำคลองทุ่งเพล
B5: หมวดที่ | C5: รายการงาน | G5: ราคาค่าก่อสร้าง (บาท)
C7: หมวดงานชลประทาน
B8: 2 | C8: งานถางป่า ขุดตอ และงานเปิดหน้าดิน
B9: 4 | C9: งานขุดดินและขุด-ระเบิดหิน
B10: 5 | C10: งานถมบดอัด
B11: 8 | C11: งานป้องกัน และเพิ่มเสถียรภาพลาดงานขุด
B12: 10 | C12: งานเหล็กและอุปกรณ์ชลศาสตร์
C13: รวมเงินงานกลุ่มที่ 5 หมวดงานชลประทาน
C15: หมวดงานสะพานและท่อเหลี่ยม
B16: 7 | C16: งานคอนกรีต
C17: รวมเงินงานกลุ่มที่ 5 หมวดงานสะพานและท่อเหลี่ยม
C20: รวมเงินงานกลุ่มที่ 5 (รวมภาษีมูลค่าเพิ่มร้อยละ 7)
D52: PVC waterstop Type "B"
D56: PVC Waterstop Type "B"
D122: PVC Waterstop " B "

Sheet กลุ่มที่5 TR
B1: โครงการไฟฟ้าพลังน้ำคลองทุ่งเพล 2
B2: งานโยธา
B3: งานจ้างปรับปรุงประสิทธิภาพและเพิ่มกำลังผลิต โครงการไฟฟ้าพลังน้ำคลองทุ่งเพล
B4: รายการที่ | C4: รายละเอียดงาน | G4: ปริมาณงาน | I4: ราคาต่อหน่วย | J4: รวมเป็น
J5: จำนวนเงิน
G6: หน่วย | H6: ปริมาณ | I6: (บาท) | J6: (บาท)
C7: หมวดงานชลประทาน | I7: ='กลุ่มที่4 PH'!I8 -> #REF!
C8: หมวดที่ 2 งานถางป่า ขุดตอ และงานเปิดหน้าดิน
B9: 2.4(1) | C9: งานถางป่า ขุดตอ และรากไม้ | G9: ตร.ม. | H9: 2200
B10: 2.4(2) | C10: งานขุดเปิดหน้าดิน | G10: ลบ.ม. | H10: =ROUND(H9*0.2,2) -> 440
C11: รวมเงินงานหมวดที่ 2
C13: หมวดที่ 4 งานขุดดินและขุด-ระเบิดหิน
B14: 4.7(1) | C14: งานขุดขนย้ายดิน | G14: ลบ.ม. | H14: 1100
B15: 4.7(2) | C15: งานขุดหินผุหรือดินขุดยาก | G15: ลบ.ม. | H15: 13302
C16: รวมเงินงานหมวดที่ 4
C18: หมวดที่ 5 งานถมบดอัดดิน
B19: 5.11(1) | C19: งานถมวัสดุบดอัดแน่น | G19: ลบ.ม. | H19: 6405
C20: รวมเงินงานหมวดที่ 5
C22: หมวดที่ 8 งานป้องกัน และเพิ่มเสถียรภาพลาดงานขุด
B23: 8.8(3) | C23: งานท่อ และรูระบายน้ำ
C24: - Side Drain | G24: ชุด
C25: - Under Drain | G25: ชุด
B26: 8.8(1) | C26: งานหินเรียง | G26: ลบ.ม. | H26: 675
B27: 8.8(2) | C27: งานแผ่น Geotextile | G27: ตร.ม. | H27: =ROUND(H26*0.5*2*1.2,2) -> 810
B28: 8.8(3) | C28: งานท่อ และรูระบายน้ำ | G28: ชุด | H28: 100
C29: รวมเงินงานหมวดที่ 8
C31: หมวดที่ 10 งานเหล็กและอุปกรณ์ชลศาสตร์
B32: 10.12(1) | C32: งาน Bluck Head Gate | G32: ชุด | H32: 2
B33: 10.12(2) | C33: ='กลุ่มที่4 PH'!C27 -> งานจัดหาและติดตั้งบันไดลิง | G33: ม. | H33: 150
B34: 10.12(3) | C34: Gantry Crane 5 Tons | G34: ชุด | H34: 1
C35: รวมเงินงานหมวดที่ 10
C37: หมวดงานสะพานและท่อเหลี่ยม
C38: หมวดที่ 7 งานคอนกรีต
B39: 7.16(1) | C39: งานคอนกรีตหยาบ | G39: ลบ.ม. | H39: 14
B40: 7.16(2) | C40: งานคอนกรีตไม่รวมเหล็กเสริม | G40: ลบ.ม. | H40: =ROUND(585*1.05,0) -> 614
B41: 7.16(3) | C41: งานเหล็กเสริมคอนกรีต | G41: กก. | H41: =ROUND(H40*75,2) -> 46050
B42: 7.16(4) | C42: งาน PVC Waterstop "A" | G42: ม. | H42: 110
B43: 7.16(5) | C43: งาน Elastic Sealer | G43: ม. | H43: 110
B44: 7.16(6) | C44: งาน Sealing Compound | G44: ตร.ม. | H44: 2
C45: รวมเงินงานหมวดที่ 7
C46: รวมเงินงานกลุ่มที่ 4
D107: PVC Waterstop " B "

Sheet 6Elec.
B1: โครงการไฟฟ้าพลังน้ำคลองทุ่งเพล 2 | I1: วิวรรธน์
B2: งานโยธา
B3: งานจ้างปรับปรุงประสิทธิภาพและเพิ่มกำลังผลิต โครงการไฟฟ้าพลังน้ำคลองทุ่งเพล
B5: หมวดที่ | C5: รายการงาน | G5: ราคาค่าก่อสร้าง (บาท)
C7: หมวดงานชลประทาน
B9: 14 | C9: งานระบบไฟฟ้า
C11: รวมเงินงานกลุ่มที่ 7 หมวดงานชลประทาน (รวมภาษีมูลค่าเพิ่มร้อยละ 7)
C13: รวมเงินงานกลุ่มที่ 5
D107: PVC Waterstop " B "

Sheet กลุ่มที่6 Elec.
B1: โครงการไฟฟ้าพลังน้ำคลองทุ่งเพล 2
B2: งานโยธา
B3: งานจ้างปรับปรุงประสิทธิภาพและเพิ่มกำลังผลิต โครงการไฟฟ้าพลังน้ำคลองทุ่งเพล
B5: รายการ ที่ | C5: รายละเอียดงาน | G5: ปริมาณงาน | I5: ราคาต่อหน่วย | J5: รวมเป็น
J6: จำนวนเงิน
G7: หน่วย | H7: ปริมาณ | I7: (บาท) | J7: (บาท)
C8: หมวดงานชลประทาน | I8: ='กลุ่มที่5 TR'!I7 -> #REF!
C9: หมวดที่ 14 งานระบบไฟฟ้า
B10: 14.13 (1) | C10: แผงจ่ายไฟย่อย | G10: เหมาจ่าย | H10: 1
B11: 14.13 (2) | C11: โคมไฟ สวิทช์ เต้ารับไฟฟ้า พร้อมงานเดินสายไฟฟ้าจาก LP (Powerhouse) | G11: เหมาจ่าย | H11: 1
B12: 14.13 (3) | C12: ระบบไฟถนนบริเวณ Powerhouse | G12: เหมาจ่าย | H12: 1
B13: 14.13 (4) | C13: งานพื้นฐานราก และรั้ว SWITCHYARD | H13: 1
C14: รวมเงินงานกลุ่มที่ 5
D55: PVC waterstop Type "B"
D59: PVC Waterstop Type "B"
D125: PVC Waterstop " B "

Sheet  7สายส่ง
B1: โครงการไฟฟ้าพลังน้ำคลองทุ่งเพล 2 | I1: วิวรรธน์
B2: โครงการไฟฟ้าพลังน้ำคลองทุ่งเพล 2
B3: งานจ้างปรับปรุงประสิทธิภาพและเพิ่มกำลังผลิต โครงการไฟฟ้าพลังน้ำคลองทุ่งเพล
B4: กลุ่มที่ 7 : งานสายส่งไฟฟ้าแรงสูง
B5: หมวดที่ | C5: รายการงาน | G5: ราคาค่าก่อสร้าง (บาท)
C7: หมวดงานชลประทาน
B9: 14 | C9: งานสายส่งไฟฟ้าแรงสูง
C11: รวมเงินงานกลุ่มที่ 6 หมวดงานชลประทาน (รวมภาษีมูลค่าเพิ่มร้อยละ 7)
C13: รวมเงินงานกลุ่มที่ 6
D107: PVC Waterstop " B "

Sheet 7สายส่งไฟฟ้า
B1: โครงการไฟฟ้าพลังน้ำคลองทุ่งเพล 2
B2: งานโยธา
B3: งานจ้างปรับปรุงประสิทธิภาพและเพิ่มกำลังผลิต โครงการไฟฟ้าพลังน้ำคลองทุ่งเพล
B4: รายการ ที่ | C4: รายละเอียดงาน | G4: ปริมาณงาน | I4: ราคาต่อหน่วย | J4: รวมเป็น
J5: จำนวนเงิน
G6: หน่วย | H6: ปริมาณ | I6: (บาท) | J6: (บาท)
C7: หมวดงานชลประทาน
C8: หมวดงานชลประทาน | I8: ='กลุ่มที่4 PH'!I8 -> #REF!
C9: งานสายส่งไฟฟ้าแรงสูง
B10: 14.2(1) | C10: สายส่งไฟฟ้า 22kV 70 sq.mm (SAC) 3 เฟส พร้อมเสาคอนกรีต | G10: กม. | H10: =2.43 -> 2.43
C11: และอุปกรณ์ประกอบแรงสูง
B12: 14.2(3) | C12: โหลดเบรคสวิตซ์ พร้อมอุปกรณ์สำหรับควบคุม | G12: ชุด | H12: 1
C13: งานปรับปรุงและขยายเขตสายส่งไฟฟ้า
B14: 14.2(4) | C14: งานปรับปรุงและขยายเขตสายส่งไฟฟ้า | G14: งาน | H14: 1
C16: รวมเงินงานกลุ่มที่ 6
D57: PVC waterstop Type "B"
D61: PVC Waterstop Type "B"
D127: PVC Waterstop " B "

Sheet Schedule 3
B1: โครงการไฟฟ้าพลังน้ำคลองทุ่งเพล 2
B2: ส่วนที่ 2
B3: งานจ้างปรับปรุงประสิทธิภาพและเพิ่มกำลังผลิต โครงการไฟฟ้าพลังน้ำคลองทุ่งเพล
B4: ตารางแสดงปริมาณงานและราคา
B6: Item No. | C6: Details | D6: Total
D7: (Baht)
B9: 1 | C9: Total Price of Equipment
B10: 2 | C10: Total Price of Maintenance Tools and Instruments
B11: 3 | C11: Price of Erection
B12: 4 | C12: Price of Field Performance Tests
C14: รวมราคาย่อย
C15: ภาษีมูลค่าเพิ่ม 7%
B16: ราคารวมทั้งสิ้น
B18: Note : The Bidder shall breakdown the Price of Maintenance Tools and Instruments as specified
B19: in Clause S1.05 Volume 2 in Schedule 6

Sheet Schedule 4 Sum
B1: ='Schedule 3'!B1 -> โครงการไฟฟ้าพลังน้ำคลองทุ่งเพล 2
B2: ='Schedule 3'!B2 -> ส่วนที่ 2
B3: งานจ้างปรับปรุงประสิทธิภาพและเพิ่มกำลังผลิต โครงการไฟฟ้าพลังน้ำคลองทุ่งเพล
B4: ='Schedule 3'!B4 -> ตารางแสดงปริมาณงานและราคา
B6: Item No. | C6: Details | G6: Total
G7: (Baht)
B9: 1 | C9: ='Schedule 4 Price'!C8 -> Turbine and Governor
B10: 2 | C10: ='Schedule 4 Price'!C13 -> Inlet Valve
B11: 3 | C11: ='Schedule 4 Price'!C16 -> Mechanical Auxiliary Equipment
B12: 4 | C12: ='Schedule 4 Price'!C24 -> Electrical Equipment
B13: 5 | C13: ='Schedule 4 Price'!C43 -> Control, Protection and Alarm System
B24: ราคารวมทั้งสิ้น

Sheet Schedule 4 Price
B1: ='Schedule 3'!B1 -> โครงการไฟฟ้าพลังน้ำคลองทุ่งเพล 2
B2: ='Schedule 3'!B2 -> ส่วนที่ 2
B3: งานจ้างปรับปรุงประสิทธิภาพและเพิ่มกำลังผลิต โครงการไฟฟ้าพลังน้ำคลองทุ่งเพล
B4: รายการเครื่องผลิตไฟฟ้ากังหันน้ำและชุดควบคุม
B6: Item No. | C6: Details | D6: Quantity | E6: Unit | F6: UNIT RATE | G6: Total
F7: BAHT/UNIT | G7: (Baht)
B8: 1 | C8: Turbine and Governor
C9: (1) Turbine | D9: 2 | E9: Set
C10: (2) Hydraulic Governing System | D10: 2 | E10: Set
C11: (3) PLC Governor Cubicle | D11: 2 | E11: Set
C12: Sub - Total
B13: 2 | C13: Inlet Valve
C14: (1) Inet Valve and Bypass Valve | D14: 2 | E14: Set
C15: Sub - Total
B16: 3 | C16: Mechanical Auxiliary Equipment
C17: (1) Overhead Traveling Crane | D17: 1 | E17: Set
C18: (2) Unit Cooling Water System | D18: 2 | E18: Set
C19: (3) Diesel-driven Standby Electric Power System | D19: 1 | E19: Set
C20: (4) Air conditioning, ventilation system | D20: 1 | E20: LS
C21: (5) Water Drainage System | D21: 1 | E21: LS
C22: (6) Portable Fire Extinguishers | D22: 1 | E22: LS
C23: Sub - Total
B24: 4 | C24: Electrical Equipment
C25: (1) Generator with Flywheel | D25: 2 | E25: Set
C26: (2) Excitation System | D26: 2 | E26: Set
C27: (3) Power Transformer | D27: 2 | E27: Set
C28: (4) Station Service Transformer | D28: 1 | E28: Set
C29: (5) 22kV VCB, CT, PT, 22kV Protection and Metering System Panel | D29: 1 | E29: Set
C30: (6) Gen Switchgear, NGR, Relay and Metering System | D30: 2 | E30: Set
C31: (7) LV Distribution Board 400V (MDB) | D31: 1 | E31: set
C32: (8) Station Service DS Cubicle | D32: 1 | E32: System
C33: (9) Battery and Battery Charger | D33: 1 | E33: Set
C34: (10) UPS System | D34: 1 | E34: Set
C35: (11) DC Distribution Panel Board | D35: 1 | E35: Set
C36: (12) Disconnecting Switch, Drop Out fuse and Lightning Arrester | D36: 1 | E36: Lot
... C41: (17) Revenue Meter with Auxiliary | D41: 1 | E41: Set
C42: Sub - Total
B43: 5 | C43: Control, Protection and Alarm System
C44: (1) Control, Protection and Alarm Equipment | D44: 1 | E44: System
C45: (2) Network Communication System with Accessories | D45: 1 | E45: System
C46: (3) Engineering Workstation | D46: 1 | E46: Set
C47: (4) Control Console and Chair | D47: 3 | E47: Set
C48: (5) Master Clock System with Digital Clock | D48: 1 | E48: Set
C49: (6) A3 Laser Printer With Desk | D49: 1 | E49: Lot
C50: Sub - Total

Sheet สรุปรวม PL1
B1: โครงการไฟฟ้าพลังน้ำขนาดเล็กมากท้ายเขื่อนพลวง 1
B2: งานโยธา งานอุปกรณ์ไฟฟ้า-เครื่องจักรกลและงานสายส่งไฟฟ้า
B3: งานจ้างปรับปรุงประสิทธิภาพและเพิ่มกำลังผลิต โครงการไฟฟ้าพลังน้ำคลองทุ่งเพล
B4: ลำดับ | C4: รายการ | E4: ราคารวม
E5: (บาท)
B6: 1 | C6: งานโยธา (ส่วนที่ 1)
D7: หมวดงานชลประทาน
D8: หมวดงานสะพานและท่อเหลี่ยม
C9: รวมงานโยธา (ส่วนที่ 1)
B11: 2 | C11: งานอุปกรณ์เครื่องจักรกลและไฟฟ้า (ส่วนที่ 2)
C14: รวมราคาค่าก่อสร้างโครงการทั้งสิ้น (รวมภาษีมูลค่าเพิ่มร้อยละ 7)

Sheet PL1 สรุปรวมงานโยธา-F
B1: โครงการไฟฟ้าพลังน้ำขนาดเล็กมากท้ายเขื่อนพลวง 1
B2: ส่วนที่ 1
B3: งานจ้างปรับปรุงประสิทธิภาพและเพิ่มกำลังผลิต โครงการไฟฟ้าพลังน้ำคลองทุ่งเพล
B5: กลุ่มที่ | D5: รายการ | E5: ราคารวม
E6: (บาท)
C7: หมวดงานชลประทาน
B8: 1 | D8: ท่อส่งน้ำ (Penstock)
B9: 2 | D9: อาคารโรงไฟฟ้า (Power Box)
B10: 3 | D10: งานสายส่งไฟฟ้าแรงสูง
D11: รวมเงินค่าก่อสร้างหมวดงานชลประทาน
C13: หมวดงานสะพานและท่อเหลี่ยม
B14: 1 | D14: ท่อส่งน้ำ (Penstock)
B15: 2 | D15: อาคารโรงไฟฟ้า(Power Box)
D16: รวมเงินค่าก่อสร้างหมวดงานสะพานและท่อเหลี่ยม
D18: รวมเป็นเงินทั้งสิ้น (รวมภาษีมูลค่าเพิ่มร้อยละ 7)

Sheet 1 PS
B1: โครงการไฟฟ้าพลังน้ำขนาดเล็กมากท้ายเขื่อนพลวง 1
B2: งานโยธา
B3: งานจ้างปรับปรุงประสิทธิภาพและเพิ่มกำลังผลิต โครงการไฟฟ้าพลังน้ำคลองทุ่งเพล
B4: หมวดที่ | C4: รายการงาน | G4: ราคาค่าก่อสร้าง (บาท)
C5: หมวดงานชลประทาน
B6: 2 | C6: งานถางป่า ขุดตอ และงานเปิดหน้าดิน
B7: 3 | C7: งานขุดดินและขุด-ระเบิดหิน
B8: 4 | C8: งานถมบดอัด
B9: 6 | C9: งานเหล็กและอุปกรณ์ชลศาสตร์
B10: 7 | C10: งานท่อเหล็ก
B11: 8 | C11: งานเบ็ดเตล็ด (MISCELLANEOUS)
C12: รวมเงินหมวดงานชลประทาน
C14: หมวดงานสะพานและท่อเหลี่ยม
B15: 5 | C15: งานคอนกรีต
C16: รวมเงินหมวดงานสะพานและท่อเหลี่ยม
C18: รวมเงินงานกลุ่มที่ 1 (รวมภาษีมูลค่าเพิ่มร้อยละ 7)
D46: PVC waterstop Type "B"
D50: PVC Waterstop Type "B"
D116: PVC Waterstop " B "

Sheet กลุ่มที่1 PS
B1: โครงการไฟฟ้าพลังน้ำขนาดเล็กมากท้ายเขื่อนพลวง 1
B2: งานโยธา
B3: งานจ้างปรับปรุงประสิทธิภาพและเพิ่มกำลังผลิต โครงการไฟฟ้าพลังน้ำคลองทุ่งเพล
B4: รายการ ที่ | C4: รายละเอียดงาน | G4: ปริมาณงาน | I4: ราคาต่อหน่วย | J4: รวมเป็น
J5: จำนวนเงิน
G6: หน่วย | H6: ปริมาณ | I6: (บาท) | J6: (บาท)
C7: หมวดงานชลประทาน
C8: หมวดที่ 2 งานถางป่า ขุดตอ และงานเปิดหน้าดิน
B9: 2.4(1) | C9: งานถางป่า ขุดตอ และรากไม้ | G9: ตร.ม. | H9: 120
B10: 2.4(2) | C10: งานขุดเปิดหน้าดิน | G10: ลบ.ม. | H10: =120*0.2 -> 24
C11: รวมเงินงานหมวดที่ 2
C13: หมวดที่ 3 งานขุดดินและขุด-ระเบิดหิน
B14: 3.4(1) | C14: งานขุดขนย้ายดิน | G14: ลบ.ม. | H14: 31
B15: 3.4(2) | C15: งานขุดหินผุหรือดินขุดยาก | G15: ลบ.ม. | H15: 3
C16: รวมเงินงานหมวดที่ 3
C18: หมวดที่ 4 งานถมบดอัด
B19: 4.11(1) | C19: งานดินถมบดอัดแน่น | G19: ลบ.ม. | H19: 30
C20: รวมเงินงานหมวดที่ 4
C22: หมวดที่ 6 งานเหล็กและอุปกรณ์ชลศาสตร์
B23: 6.12(1) | C23: งานจัดหาและติดตั้ง Butterfly valve Ø 600 มม. | G23: ชุด | H23: 2
B24: 6.12(2) | C24: งานจัดหาและติดตั้ง Reducing valve Ø 600 มม. | G24: ชุด | H24: 1
C25: รวมเงินงานหมวดที่ 6
C27: หมวดที่ 7 งานท่อเหล็ก
B28: 7.17(1) | C28: งานจัดหาและติดตั้ง ท่อเหล็กเหนียว Ø 600 มม. ความหนา 6 มม. | G28: ม. | H28: 30
B29: 7.17(2) | C29: งานจัดหาและติดตั้ง ท่อเหล็กเหนียว Ø 500 มม. ความหนา 6 มม. | G29: ม. | H29: 3
B30: 7.17(3) | C30: งานท่อลดจากขนาด 600 มม. เป็น 500 มม. | G30: ท่อน | H30: 1
B31: 7.17(4) | C31: งานท่อแยก Wye Branch จากขนาด 600 มม. เป็น 600 มม. | G31: ท่อน | H31: 1
B32: 7.17(5) | C32: งานท่อเหล็กโค้ง Ø 600 มม. หนา 6 มม. | G32: ชุด | H32: 2
B33: 7.17(6) | C33: งานเหล็กยึดและรองรับท่อเหล็ก Ø 600 มม. พร้อมอุปกรณ์ประกอบ | G33: ชุด | H33: 7
B34: 7.17(7) | C34: งานจัดหาและติดตั้ง Mechanical Coupling ขนาด Ø 500 มม. | G34: ชุด | H34: 1
B35: 7.17(8) | C35: งานจัดหาและติดตั้ง Mechanical Coupling ขนาด Ø 600 มม. | G35: ชุด | H35: 3
C36: รวมเงินงานหมวดที่ 7
C38: หมวดที่ 8 งานเบ็ดเตล็ด (MISCELLANEOUS)
B39: 8.7(1) | C39: งานหินเรียง | G39: ลบ.ม. | H39: 15
B40: 8.7(2) | C40: งานแผ่น Geotextile | G40: ตร.ม. | H40: 20
C41: รวมเงินงานหมวดที่ 8
C43: หมวดงานสะพานและท่อเหลี่ยม
C44: หมวดที่ 5 งานคอนกรีต
B45: 5.16(1) | C45: งานคอนกรีตหยาบ | G45: ลบ.ม. | H45: 1
B46: 5.16(2) | C46: งานคอนกรีตผสมหินใหญ่ | G46: ลบ.ม. | H46: 22
B47: 5.16(3) | C47: งานคอนกรีตไม่รวมเหล็กเสริม | G47: ลบ.ม. | H47: 17
B48: 5.16(4) | C48: งานเหล็กเสริมคอนกรีต | G48: กก. | H48: 641
B49: 5.16(5) | C49: งานเจาะเหล็กเสียบด้วยน้ำยาเคมี | G49: จุด | H49: 150
C50: รวมเงินงานหมวดที่ 5
C52: รวมเงินงานกลุ่มที่ 1
D102: PVC Waterstop " B "

Sheet 2 PH
B1: โครงการไฟฟ้าพลังน้ำขนาดเล็กมากท้ายเขื่อนพลวง 1
B2: งานโยธา
B3: งานจ้างปรับปรุงประสิทธิภาพและเพิ่มกำลังผลิต โครงการไฟฟ้าพลังน้ำคลองทุ่งเพล
B5: หมวดที่ | C5: รายการงาน | G5: ราคาค่าก่อสร้าง (บาท)
C6: หมวดงานชลประทาน
B7: 2 | C7: งานถางป่า ขุดตอ และงานเปิดหน้าดิน
B8: 3 | C8: งานขุดดินและขุด-ระเบิดหิน
B9: 4 | C9: งานถมบดอัด
B10: 6 | C10: งานเหล็ก
C11: รวมเงินหมวดงานชลประทาน
C13: หมวดงานสะพานและท่อเหลี่ยม
B14: 5 | C14: งานคอนกรีต
C15: รวมเงินหมวดงานสะพานและท่อเหลี่ยม
C17: รวมเงินงานกลุ่มที่ 2 (รวมภาษีมูลค่าเพิ่มร้อยละ 7)
D47: PVC waterstop Type "B"
D51: PVC Waterstop Type "B"

Sheet กลุ่มที่2 PH
B1: โครงการไฟฟ้าพลังน้ำขนาดเล็กมากท้ายเขื่อนพลวง 1
B2: งานโยธา
B3: งานจ้างปรับปรุงประสิทธิภาพและเพิ่มกำลังผลิต โครงการไฟฟ้าพลังน้ำคลองทุ่งเพล
B4: รายการ ที่ | C4: รายละเอียดงาน | G4: ปริมาณงาน | I4: ราคาต่อหน่วย | J4: รวมเป็น
J5: จำนวนเงิน
G6: หน่วย | H6: ปริมาณ | I6: (บาท) | J6: (บาท)
C7: หมวดงานชลประทาน
C8: หมวดที่ 2 งานถางป่า ขุดตอ และงานเปิดหน้าดิน
B9: 2.4(1) | C9: งานถางป่า ขุดตอ และรากไม้ | G9: ตร.ม. | H9: 50
B10: 2.4(2) | C10: งานขุดเปิดหน้าดิน | G10: ลบ.ม. | H10: 10
C11: รวมเงินงานหมวดที่ 2
C13: หมวดที่ 3 งานขุดดินและขุด-ระเบิดหิน
B14: 3.4(1) | C14: งานขุดขนย้ายดิน | G14: ลบ.ม. | H14: 20
C15: รวมเงินงานหมวดที่ 3
C17: หมวดที่ 4 งานถมบดอัด
B18: 4.11(1) | C18: งานดินถมบดอัดแน่น | G18: ลบ.ม. | H18: 20
B19: 4.11(2) | C19: งานถมวัสดุกลับบดอัดแน่น | G19: ลบ.ม. | H19: 5
C20: รวมเงินงานหมวดที่ 4
C22: หมวดที่ 6 งานเหล็กและอุปกรณ์ชลศาสตร์
B23: 6.12(1) | C23: งานเหล็กแผ่น Stainless Steel Liner 12 mm. | G23: กก. | H23: 232.91
C24: รวมเงินงานหมวดที่ 6
C26: หมวดงานสะพานและท่อเหลี่ยม
C27: หมวดที่ 5 งานคอนกรีต
B28: 5.16(1) | C28: งานคอนกรีตหยาบ | G28: ลบ.ม. | H28: 3
B29: 5.16(2) | C29: งานคอนกรีตไม่รวมเหล็กเสริม | G29: ลบ.ม. | H29: 40
B30: 5.16(3) | C30: งานเหล็กเสริมคอนกรีต | G30: กก. | H30: 760
B31: 5.16(4) | C31: งาน Waterstop type A | G31: ม. | H31: 10
B32: 5.16(5) | C32: งาน Joint sealer | G32: ม. | H32: 10
C33: รวมเงินงานหมวดที่ 5
C35: รวมเงินงานกลุ่มที่ 2

Sheet part 3สายส่ง
B1: โครงการไฟฟ้าพลังน้ำคลองทุ่งเพล 2 | I1: วิวรรธน์
B2: โครงการไฟฟ้าพลังน้ำขนาดเล็กมากท้ายเขื่อนพลวง 1
B3: งานจ้างปรับปรุงประสิทธิภาพและเพิ่มกำลังผลิต โครงการไฟฟ้าพลังน้ำคลองทุ่งเพล
B4: กลุ่มที่ 3 : งานสายส่งไฟฟ้า
B5: หมวดที่ | C5: รายการงาน | G5: ราคาค่าก่อสร้าง (บาท)
C7: หมวดงานชลประทาน
B8: 1.4 | C8: งานสายส่งไฟฟ้าแรงสูง
C13: รวมเงินงานกลุ่มที่ 3 (รวมภาษีมูลค่าเพิ่มร้อยละ 7)
D107: PVC Waterstop " B "

Sheet สายส่งไฟฟ้า
B1: โครงการไฟฟ้าพลังน้ำขนาดเล็กมากท้ายเขื่อนพลวง 1
B2: งานโยธา
B3: งานจ้างปรับปรุงประสิทธิภาพและเพิ่มกำลังผลิต โครงการไฟฟ้าพลังน้ำคลองทุ่งเพล
B5: รายการ ที่ | C5: รายละเอียดงาน | G5: ปริมาณงาน | I5: ราคาต่อหน่วย | J5: รวมเป็น
J6: จำนวนเงิน
G7: หน่วย | H7: ปริมาณ | I7: (บาท) | J7: (บาท)
C8: หมวดงานชลประทาน
C9: หมวดงานชลประทาน | I9: =#REF! -> #REF!
C10: งานสายส่งไฟฟ้า
C11: งานระบบไฟฟ้า
B12: 1.4(1) | C12: สายส่งไฟฟ้า 400V พร้อมอุปกรณ์ประกอบ | G12: m | H12: =1150*4 -> 4600
B13: 1.4(2) | C13: เสาคอนกรีตสูง 9 เมตรพร้อมอุปกรณ์ประกอบ | H13: 2
B14: 1.4(3) | C14: แรค พร้อมลูกถ้วย 4 ชุด และอุปกรณ์ประกอบ | G14: set | H14: 37
C16: รวมเงินงานกลุ่มที่ 3
D57: PVC waterstop Type "B"
D61: PVC Waterstop Type "B"
D127: PVC Waterstop " B "

Sheet Schedule 2
B1: โครงการไฟฟ้าพลังน้ำขนาดเล็กมากท้ายเขื่อนพลวง 1
B2: ส่วนที่ 2
B3: งานจ้างปรับปรุงประสิทธิภาพและเพิ่มกำลังผลิต โครงการไฟฟ้าพลังน้ำคลองทุ่งเพล
B4: ตารางแสดงปริมาณงานและราคา
B6: รายการที่ | C6: รายละเอียดงาน | D6: ราคารวมทั้งสิ้น
D7: (บาท)
B9: 1 | C9: Total Price of Equipment
B10: 2 | C10: Total Price of Maintenance Tools and Instruments*
B11: 3 | C11: Price of Erection
B12: 4 | C12: Price of Field Performance Tests
C14: รวมราคา
C15: ภาษีมูลค่าเพิ่ม 7%
B16: ราคารวมทั้งสิ้น
B18: Note : The Bidder shall breakdown the Price of Maintenance Tools and Instruments in Schedule 6

Sheet Schedule 2 Sum
B1: ='Schedule 2'!B1 -> โครงการไฟฟ้าพลังน้ำขนาดเล็กมากท้ายเขื่อนพลวง 1
B2: ='Schedule 2'!B2 -> ส่วนที่ 2
B3: งานจ้างปรับปรุงประสิทธิภาพและเพิ่มกำลังผลิต โครงการไฟฟ้าพลังน้ำคลองทุ่งเพล
B4: ='Schedule 2'!B4 -> ตารางแสดงปริมาณงานและราคา
B6: รายการที่ | C6: รายละเอียดงาน | G6: ราคารวมทั้งสิ้น
G7: (บาท)
B9: 1 | C9: ='Schedule 2 Price'!C8 -> TURBINE AND GOVERNOR
B10: 2 | C10: ='Schedule 2 Price'!C12 -> INLET VALVE
B11: 3 | C11: ='Schedule 2 Price'!C15 -> GEAR BOX
B12: 4 | C12: ='Schedule 2 Price'!C18 -> MECHANICAL AUXILIARY EQUIPMENT
B13: 5 | C13: ='Schedule 2 Price'!C23 -> ELECTRICAL EQUIPMENT
B14: 6 | C14: ='Schedule 2 Price'!C35 -> CONTROL, PROTECTION AND MONITORING
B24: ราคารวมทั้งสิ้น

Sheet Schedule 2 Price
B1: โครงการไฟฟ้าพลังน้ำขนาดเล็กมากท้ายเขื่อนพลวง 1
B2: ส่วนที่ 2
B3: งานจ้างปรับปรุงประสิทธิภาพและเพิ่มกำลังผลิต โครงการไฟฟ้าพลังน้ำคลองทุ่งเพล
B4: รายการเครื่องผลิตไฟฟ้ากังหันน้ำและชุดควบคุม
B6: รายการที่ | C6: รายละเอียดงาน | D6: ปริมาณงาน | E6: หน่วย | F6: ราคาต่อหน่วย | G6: ราคารวมทั้งสิ้น
G7: (บาท)
B8: 1 | C8: TURBINE AND GOVERNOR
C9: (1) TURBINE | D9: 1 | E9: SET
C10: (2) GOVERNING SYSTEM | D10: 1 | E10: SET
C11: ราคารวมรายการ 1
B12: 2 | C12: INLET VALVE
C13: (1) INLET VALVE AND BYPASS VALVE | D13: 1 | E13: SET
C14: ราคารวมรายการ 2
B15: 3 | C15: GEAR BOX
C16: (1) GEAR BOX | D16: 1 | E16: SET
C17: ราคารวมรายการ 3
B18: 4 | C18: MECHANICAL AUXILIARY EQUIPMENT
C19: (1) ElECTRIC HOIST AND SUPPORT | D19: 1 | E19: LS
C20: (2) POWER BOX WITH VENTILATION AND AIR CONDITIONING | D20: 1 | E20: LS
C21: (3) FIRE PROTECTION EQUIPMENT | D21: 1 | E21: LS
C22: ราคารวมรายการ 4
B23: 5 | C23: ELECTRICAL EQUIPMENT
C24: (1) GENERATOR AND AUXILIARY EQUIPMENT | D24: 1 | E24: SET
C25: (2) LV SWITCHGEAR AC,DC PANEL | D25: 1 | E25: SYSTEM
C26: DISCONNECTING SWITCH AND ATS
C27: (3) DUMMY LOAD | D27: 1 | E27: SET
C28: (4) CABLE AND RACEWAY | D28: 1 | E28: LS
C29: (5) GROUNDING SYSTEM AND LIGHTNING PROTECTION SYSTEM | D29: 1 | E29: LS
C30: (6) LIGHTING AND RECEPTACLE SOCKET | D30: 1 | E30: LS
C31: (7) EMERGENCY LIGHTING AND EXIT SIGN | D31: 1 | E31: SET
C32: (8) CCTV SYSTEM | D32: 1 | E32: SYSTEM
C33: (9) FIRE DETECTION AND ALARM SYSTEM | D33: 1 | E33: SYSTEM
C34: ราคารวมรายการ 5
B35: 6 | C35: CONTROL, PROTECTION AND MONITORING
C36: (1) CONTROL, PROTECTION, METERING | D36: 1 | E36: LS
C37: AND MONITORING SYSTEM
C38: ราคารวมรายการ 6

Sheet สรุปรวม PL2
B1: โครงการไฟฟ้าพลังน้ำขนาดเล็กมากท้ายเขื่อนพลวง 2
B2: งานโยธา งานอุปกรณ์ไฟฟ้า-เครื่องจักรกลและงานสายส่งไฟฟ้า
B3: งานจ้างปรับปรุงประสิทธิภาพและเพิ่มกำลังผลิต โครงการไฟฟ้าพลังน้ำคลองทุ่งเพล
B4: ลำดับ | C4: รายการ | E4: ราคารวม
E5: (บาท)
B6: 1 | C6: งานโยธา (ส่วนที่ 1)
D7: หมวดงานชลประทาน
D8: หมวดงานสะพานและท่อเหลี่ยม
C9: รวมงานโยธา (ส่วนที่ 1)
B11: 2 | C11: งานอุปกรณ์เครื่องจักรกลและไฟฟ้า (ส่วนที่ 2)
C15: รวมราคาค่าก่อสร้างโครงการทั้งสิ้น (รวมภาษีมูลค่าเพิ่มร้อยละ 7)

Sheet PL2 สรุปรวมงานโยธา-F
B1: โครงการไฟฟ้าพลังน้ำขนาดเล็กมากท้ายเขื่อนพลวง 2
B2: ส่วนที่ 1
B3: งานจ้างปรับปรุงประสิทธิภาพและเพิ่มกำลังผลิต โครงการไฟฟ้าพลังน้ำคลองทุ่งเพล
B5: กลุ่มที่ | D5: รายการ | E5: ราคารวม
E6: (บาท)
D7: หมวดงานชลประทาน
B8: 1 | D8: ท่อส่งน้ำ (Penstock)
B9: 2 | D9: อาคารโรงไฟฟ้า (Power Box)
B10: 3 | D10: งานสายส่งไฟฟ้าแรงสูง
D11: รวมเงินค่าก่อสร้างหมวดงานชลประทาน
D13: หมวดงานสะพานและท่อเหลี่ยม
B14: 1 | D14: ท่อส่งน้ำ (Penstock)
B15: 2 | D15: อาคารโรงไฟฟ้า (Power Box)
D16: รวมเงินค่าก่อสร้างหมวดงานสะพานและท่อเหลี่ยม
D18: รวมเป็นเงินทั้งสิ้น (รวมภาษีมูลค่าเพิ่มร้อยละ 7)

Sheet 1 PS PL2
B1: โครงการไฟฟ้าพลังน้ำขนาดเล็กมากท้ายเขื่อนพลวง 2
B2: งานโยธา
B3: งานจ้างปรับปรุงประสิทธิภาพและเพิ่มกำลังผลิต โครงการไฟฟ้าพลังน้ำคลองทุ่งเพล
B5: หมวดที่ | C5: รายการงาน | G5: ราคาค่าก่อสร้าง (บาท)
C7: หมวดงานชลประทาน
B8: 2 | C8: งานถางป่า ขุดตอ และงานเปิดหน้าดิน
B9: 3 | C9: งานขุดดินและขุด-ระเบิดหิน
B10: 4 | C10: งานถมบดอัด
B11: 6 | C11: งานเหล็กและอุปกรณ์ชลศาสตร์
B12: 7 | C12: งานท่อเหล็ก
C13: รวมเงินหมวดงานชลประทาน
C15: หมวดงานสะพานและท่อเหลี่ยม
B16: 5 | C16: งานคอนกรีต
C17: รวมเงินหมวดงานสะพานและท่อเหลี่ยม
C19: รวมเงินงานกลุ่มที่ 1 (รวมภาษีมูลค่าเพิ่มร้อยละ 7)
D47: PVC waterstop Type "B"
D51: PVC Waterstop Type "B"
D117: PVC Waterstop " B "

Sheet กลุ่มที่1 PS PL2
B1: โครงการไฟฟ้าพลังน้ำขนาดเล็กมากท้ายเขื่อนพลวง 2
B2: งานโยธา
B3: งานจ้างปรับปรุงประสิทธิภาพและเพิ่มกำลังผลิต โครงการไฟฟ้าพลังน้ำคลองทุ่งเพล
B4: รายการ ที่ | C4: รายละเอียดงาน | G4: ปริมาณงาน | I4: ราคาต่อหน่วย | J4: รวมเป็น
J5: จำนวนเงิน
G6: หน่วย | H6: ปริมาณ | I6: (บาท) | J6: (บาท)
C7: หมวดงานชลประทาน | I7: =#REF! -> #REF!
C8: หมวดที่ 2 งานถางป่า ขุดตอ และงานเปิดหน้าดิน
B9: 2.4(1) | C9: งานถางป่า ขุดตอ และรากไม้ | G9: ตร.ม. | H9: 40
B10: 2.4(2) | C10: งานขุดเปิดหน้าดิน | G10: ลบ.ม. | H10: 8
C11: รวมเงินงานหมวดที่ 2
C13: หมวดที่ 3 งานขุดดินและขุด-ระเบิดหิน
B14: 3.4(1) | C14: งานขุดขนย้ายดิน | G14: ลบ.ม. | H14: 6
B15: 3.4(2) | C15: งานขุดหินผุหรือดินขุดยาก | G15: ลบ.ม. | H15: 1
C16: รวมเงินงานหมวดที่ 3
C18: หมวดที่ 4 งานถมบดอัด
B19: 4.11(1) | C19: งานดินถมบดอัดแน่น | G19: ลบ.ม. | H19: 2
C20: รวมเงินงานหมวดที่ 4
C22: หมวดที่ 6 งานเหล็กและอุปกรณ์ชลศาสตร์
B23: 6.12(1) | C23: งานจัดหาและติดตั้ง Butterfly valve Ø 600 มม. | G23: ชุด | H23: 1
C24: รวมเงินงานหมวดที่ 6
C26: หมวดที่ 7 งานท่อเหล็ก
B27: 7.17(1) | C27: งานจัดหาและติดตั้ง ท่อเหล็กเหนียว Ø 600 มม. ความหนา 7.9 มม. | G27: ม. | H27: 12
B28: 7.17(2) | C28: งานท่อแยก Wye Branch จากขนาด 1000 มม. เป็น 600 มม. | G28: ท่อน | H28: 1
B29: 7.17(3) | C29: MECHANICAL COUPLING ขนาด 0.60 ม. | G29: ชุด | H29: 2
C30: รวมเงินงานหมวดที่ 7
C32: หมวดงานสะพานและท่อเหลี่ยม
C33: หมวดที่ 5 งานคอนกรีต
B34: 5.16(1) | C34: งานคอนกรีตหยาบ | G34: ลบ.ม. | H34: 1
B35: 5.16(2) | C35: งานคอนกรีตไม่รวมเหล็กเสริม (Thrust Block, Anchor Block ,Pipe Support) | G35: ลบ.ม. | H35: 10
B36: 5.16(3) | C36: งานเหล็กเสริมคอนกรีต | G36: กก. | H36: 500
C37: รวมเงินงานหมวดที่ 5
C40: รวมเงินงานกลุ่มที่ 1
D90: PVC Waterstop " B "

Sheet 2 PH PL2
B1: โครงการไฟฟ้าพลังน้ำขนาดเล็กมากท้ายเขื่อนพลวง 2
B2: งานโยธา
B3: งานจ้างปรับปรุงประสิทธิภาพและเพิ่มกำลังผลิต โครงการไฟฟ้าพลังน้ำคลองทุ่งเพล
B5: หมวดที่ | C5: รายการงาน | G5: ราคาค่าก่อสร้าง (บาท)
C7: หมวดงานชลประทาน
B8: 2 | C8: งานถางป่า ขุดตอ และงานเปิดหน้าดิน
B9: 3 | C9: งานขุดดินและขุด-ระเบิดหิน
B10: 4 | C10: งานถมบดอัด
B11: 6 | C11: งานเหล็ก
C12: รวมเงินหมวดงานชลประทาน
C14: หมวดงานสะพานและท่อเหลี่ยม
B15: 5 | C15: งานคอนกรีต
C16: รวมเงินหมวดงานงานสะพานและท่อเหลี่ยม
C18: รวมเงินงานกลุ่มที่ 2 (รวมภาษีมูลค่าเพิ่มร้อยละ 7)
D48: PVC waterstop Type "B"
D52: PVC Waterstop Type "B"

Sheet กลุ่มที่2 PH PL2
B1: โครงการไฟฟ้าพลังน้ำขนาดเล็กมากท้ายเขื่อนพลวง 2
B2: งานโยธา
B3: งานจ้างปรับปรุงประสิทธิภาพและเพิ่มกำลังผลิต โครงการไฟฟ้าพลังน้ำคลองทุ่งเพล
B4: รายการ ที่ | C4: รายละเอียดงาน | G4: ปริมาณงาน | I4: ราคาต่อหน่วย | J4: รวมเป็น
J5: จำนวนเงิน
G6: หน่วย | H6: ปริมาณ | I6: (บาท) | J6: (บาท)
C7: หมวดงานชลประทาน | I7: =#REF! -> #REF!
C8: หมวดที่ 2 งานถางป่า ขุดตอ และงานเปิดหน้าดิน
B9: 2.4(1) | C9: งานถางป่า ขุดตอ และรากไม้ | G9: ตร.ม. | H9: 95
B10: 2.4(2) | C10: งานขุดเปิดหน้าดิน | G10: ลบ.ม. | H10: 20
C11: รวมเงินงานหมวดที่ 2
C13: หมวดที่ 3 งานขุดดินและขุด-ระเบิดหิน
B14: 3.4(1) | C14: งานขุดขนย้ายดิน | G14: ลบ.ม. | H14: 110
C15: รวมเงินงานหมวดที่ 3
C17: หมวดที่ 4 งานถมบดอัด
B18: 4.11(1) | C18: งานดินถมบดอัดแน่น | G18: ลบ.ม. | H18: 35
B19: 4.11(2) | C19: งานถมวัสดุกลับบดอัดแน่น | G19: ลบ.ม. | H19: 5
C20: รวมเงินงานหมวดที่ 4
C22: หมวดที่ 6 งานเหล็กและอุปกรณ์ชลศาสตร์
B23: 6.12(1) | C23: งานเหล็กแผ่น Stainless Steel Liner 12 mm. | G23: กก. | H23: =1.8*2*0.012*7850 -> 339.12
B24: 6.12(2) | C24: งานจัดหาและติดตั้งราวกันตก | G24: ม. | H24: 16
C25: รวมเงินงานหมวดที่ 6
C27: หมวดงานสะพานและท่อเหลี่ยม
C28: หมวดที่ 5 งานคอนกรีต
B29: 5.16(1) | C29: งานคอนกรีตหยาบ | G29: ลบ.ม. | H29: 5
B30: 5.16(2) | C30: งานคอนกรีตไม่รวมเหล็กเสริม | G30: ลบ.ม. | H30: 35
B31: 5.16(3) | C31: งานเหล็กเสริมคอนกรีต | G31: กก. | H31: 2100
B32: 5.16(4) | C32: งาน Waterstop type A | G32: ม. | H32: 6
B33: 5.16(5) | C33: งาน Joint sealer | G33: ม. | H33: 6
C34: รวมเงินงานหมวดที่ 5
C36: รวมเงินงานกลุ่มที่ 2

Sheet 3สายส่ง PL2
B1: โครงการไฟฟ้าพลังน้ำคลองทุ่งเพล 2 | I1: วิวรรธน์
B2: โครงการไฟฟ้าพลังน้ำขนาดเล็กมากท้ายเขื่อนพลวง 2
B3: งานจ้างปรับปรุงประสิทธิภาพและเพิ่มกำลังผลิต โครงการไฟฟ้าพลังน้ำคลองทุ่งเพล
B4: กลุ่มที่ 3 : งานสายส่งไฟฟ้า
B5: หมวดที่ | C5: รายการงาน | G5: ราคาค่าก่อสร้าง (บาท)
C7: หมวดงานชลประทาน
B9: 14 | C9: งานสายส่งไฟฟ้า
C11: รวมเงินงานกลุ่มที่ 3 หมวดงานชลประทาน (รวมภาษีมูลค่าเพิ่มร้อยละ 7)
C13: รวมเงินงานกลุ่มที่ 3
D107: PVC Waterstop " B "

Sheet สายส่งไฟฟ้า PL2
B1: โครงการไฟฟ้าพลังน้ำขนาดเล็กมากท้ายเขื่อนพลวง 2
B2: งานโยธา
B3: งานจ้างปรับปรุงประสิทธิภาพและเพิ่มกำลังผลิต โครงการไฟฟ้าพลังน้ำคลองทุ่งเพล
B5: รายการ ที่ | C5: รายละเอียดงาน | G5: ปริมาณงาน | I5: ราคาต่อหน่วย | J5: รวมเป็น
J6: จำนวนเงิน
G7: หน่วย | H7: ปริมาณ | I7: (บาท) | J7: (บาท)
C8: หมวดงานชลประทาน
C9: หมวดงานชลประทาน | I9: =#REF! -> #REF!
C10: งานสายส่งไฟฟ้า
C11: งานระบบไฟฟ้า
B12: 14(1) | C12: สายส่งไฟฟ้า 400V พร้อมอุปกรณ์ประกอบ | G12: m | H12: =(320*7) -> 2240
B13: 14(2) | C13: เสาคอนกรีตสูง 9 เมตรพร้อมอุปกรณ์ประกอบ | H13: 3
B14: 14(3) | C14: แรค พร้อมลูกถ้วย 4 ชุด และอุปกรณ์ประกอบ | G14: set | H14: 12
B15: 14(4) | C15: แรค พร้อมลูกถ้วย 3 ชุด และอุปกรณ์ประกอบ | G15: set | H15: 12
C17: รวมเงินงานกลุ่มที่ 3
D58: PVC waterstop Type "B"
D62: PVC Waterstop Type "B"
D128: PVC Waterstop " B "

Sheet Schedule 2 PL2
B1: โครงการไฟฟ้าพลังน้ำขนาดเล็กมากท้ายเขื่อนพลวง 2
B2: ส่วนที่ 2
B3: งานจ้างปรับปรุงประสิทธิภาพและเพิ่มกำลังผลิต โครงการไฟฟ้าพลังน้ำคลองทุ่งเพล
B4: ตารางแสดงปริมาณงานและราคา
B6: รายการที่ | C6: รายละเอียดงาน | D6: ราคารวมทั้งสิ้น
D7: (บาท)
B9: 1 | C9: Total Price of Equipment
B10: 2 | C10: Total Price of Maintenance Tools and Instruments*
B11: 3 | C11: Price of Erection
B12: 4 | C12: Price of Field Performance Tests
C14: รวมราคา
C15: ภาษีมูลค่าเพิ่ม 7%
B16: ราคารวมทั้งสิ้น
B18: Note : The Bidder shall breakdown the Price of Maintenance Tools and Instruments in Schedule 6

Sheet Schedule 2 Sum PL2
B1: ='Schedule 2 PL2'!B1 -> โครงการไฟฟ้าพลังน้ำขนาดเล็กมากท้ายเขื่อนพลวง 2
B2: ='Schedule 2 PL2'!B2 -> ส่วนที่ 2
B3: งานจ้างปรับปรุงประสิทธิภาพและเพิ่มกำลังผลิต โครงการไฟฟ้าพลังน้ำคลองทุ่งเพล
B4: ='Schedule 2 PL2'!B4 -> ตารางแสดงปริมาณงานและราคา
B6: รายการที่ | C6: รายละเอียดงาน | G6: ราคารวมทั้งสิ้น
G7: (บาท)
B9: 1 | C9: TURBINE AND GOVERNOR
B10: 2 | C10: INLET VALVE
B11: 3 | C11: GEAR BOX
B12: 4 | C12: MECHANICAL AUXILIARY EQUIPMENT
B13: 5 | C13: ELECTRICAL EQUIPMENT
B14: 6 | C14: CONTROL, PROTECTION AND MONITORING
B24: SUB - TOTAL

Sheet Schedule 2 Price PL2
B1: โครงการไฟฟ้าพลังน้ำขนาดเล็กมากท้ายเขื่อนพลวง 2
B2: ส่วนที่ 2
B3: งานจ้างปรับปรุงประสิทธิภาพและเพิ่มกำลังผลิต โครงการไฟฟ้าพลังน้ำคลองทุ่งเพล
B4: รายการเครื่องผลิตไฟฟ้ากังหันน้ำและชุดควบคุม
B6: รายการที่ | C6: รายละเอียดงาน | D6: ปริมาณงาน | E6: ราคาต่อ | F6: ราคาต่อหน่วย | G6: ราคารวมทั้งสิ้น
G7: (บาท)
B8: 1 | C8: Turbine and Governor
C9: (1) Turbine | D9: 1 | E9: SET
C10: (2) Governing System | D10: 1 | E10: SET
C11: ราคารวมรายการ 1
B12: 2 | C12: Inlet Valve
C13: (1) Inet Valve and Bypass Valve | D13: 1 | E13: SET
C14: ราคารวมรายการ 2
B15: 3 | C15: GEAR BOX
C16: (1) GEAR BOX | D16: 1 | E16: SET
C17: ราคารวมรายการ 3
B18: 4 | C18: MECHANICAL AUXILIARY EQUIPMENT
C19: (1) ELECTRIC HOIST AND SUPPORT | D19: 1 | E19: LS
C20: (2) POWER BOX WITH VENTILATION AND AIR CONDITIONING | D20: 1 | E20: LS
C21: (3) FIRE PROTECTION EQUIPMENT | D21: 1 | E21: LS
C22: ราคารวมรายการ 4
B23: 5 | C23: ELECTRICAL EQUIPMENT
C24: (1) GENERATOR AND AUXILIARY EQUIPMENT | D24: 1 | E24: SET
C25: (2) LV SWITCHGEAR AC,DC PANEL AND MCCB PANEL | D25: 1 | E25: SET
C26: (3) CABLE AND RACEWAY | D26: 1 | E26: LS
C27: (4) GROUNDING SYSTEM AND LIGHTNING PROTECTION SYSTEM | D27: 1 | E27: LS
C28: (5) LIGHTING AND RECEPTACLE SOCKET | D28: 1 | E28: LS
C29: (6) EMERGENCY LIGHTING AND EXIT SIGN | D29: 1 | E29: SET
C30: (7) CCTV SYSTEM | D30: 1 | E30: SYSTEM
C31: (8) FIRE DETECTION AND ALARM SYSTEM | D31: 1 | E31: SYSTEM
C32: ราคารวมรายการ 5
B33: 6 | C33: CONTROL, PROTECTION AND MONITORING
C34: (1) CONTROL, PROTECTION, METERING | D34: 1 | E34: LS
C35: AND MONITORING SYSTEM
C36: ราคารวมรายการ 6

Sheet Sheet2

Sheet 15-รื้ออาคารเดิม
A1: ราคาสินค้าเฉลี่ยวัสดุก่อสร้าง (ไม่รวมภาษี) ของจังหวัดน่าน เดือนเมษายน ปี 2560
B2: หลักเกณฑ์การคำนวณราคางานต้นทุนต่อหน่วย
B3: โครงการไฟฟ้าพลังน้ำขนาดเล็กท้ายน้ำปัว จังหวัดน่าน
B4: ลำดับ | I4: รายการ | N4: หน่วย | O4: ราคา | P4: หมายเหตุ | R4: ( คิดเท่ากับ ปริมาณงานคอนกรีตของอาคารใหม่ )
B5: ที่ | O5: ต่อหน่วย | R5: ใช้ 20% ของราคาต่อหน่วยของคอนกรีตเสริมเหล็ก
C6: หมวดที่ 15 งานรื้อย้ายอาคารเดิม | R6: - ราคาคอนกรีตไม่เสริมเหล็ก | V6: = | X6: 2368 | Z6: บาท
C7: งานรื้อย้ายอาคารเดิม | O7: =+L17 -> #REF! | R7: - หักค่าเหล็กเสริมฯ (เมื่อนำไปขาย) | V7: = | X7: =25.94*70*0.35 -> 635.53 | Z7: บาท
C8: - งานดินขุดด้วยเครื่องจักร | R8: รวมราคาคอนกรีตเสริมเหล็ก | V8: = | X8: =X6-X7 -> 1732.47 | Z8: บาท/ลบ.ม.
D9: ปริมาณงาน | F9: = | G9: 400 | H9: ลบ.ม. | J9: 25.665 | K9: = | L9: =+J9*G9 -> 10266 | M9: บาท | R9: ราคาค่ารื้อย้ายอาคารสลายพลังงาน | V9: = | X9: =+X8*0.2 -> 346.494 | Z9: บาท/ลบ.ม.
C11: - งานคอนกรีตเสริมเหล็ก
D12: ปริมาณงาน | F12: = | G12: 200 | H12: ลบ.ม. | J12: =+X9 -> 346.494 | K12: = | L12: =+J12*G12 -> 69298.8 | M12: บาท
C14: - งานหินทิ้งและรองพื้น
D15: ปริมาณงาน | F15: = | G15: 200 | H15: ลบ.ม. | J15: =#REF! -> #REF! | K15: = | L15: =+J15*G15 -> #REF! | M15: บาท
J17: รวมทั้งสิ้น | L17: =ROUND(SUM(L9:L15),-2) -> #REF! | M17: บาท

Sheet 16-อุปกรณ์ชลฯ
B2: หลักเกณฑ์การคำนวณราคางานต้นทุนต่อหน่วย
B3: โครงการไฟฟ้าพลังน้ำขนาดเล็กน้ำปัว จังหวัดน่าน
B4: ลำดับ | I4: รายการ | N4: หน่วย | O4: ราคา | P4: หมายเหตุ
B5: ที่ | O5: ต่อหน่วย
C6: หมวดที่ 16 งานอุปกรณ์ชลศาสตร์
B7: 16.1 | C7: งานจัดหาและติดตั้ง Butterfly Valve ขนาด 1,500 มม.และ Bypass Pipe & Gate Valve | N7: ชุด | O7: =+J11 -> 2929000 | P7: CS Flow Solution
D8: - | E8: ค่าวัสดุพร้อมขนส่งถึงสถานที่ก่อสร้าง | I8: = | J8: 2252900 | M8: บาท | P8: Tel: 029484183-4
D9: - | E9: ค่าติดตั้ง (30%) | I9: = | J9: =SUM(J8:J8)*0.3 -> 675870 | M9: บาท
G10: รวมทั้งสิ้น | I10: = | J10: =SUM(J8:J9) -> 2928770 | M10: บาท
G11: ขอใช้ | I11: = | J11: =ROUND(J10,-3) -> 2929000 | M11: บาท
B13: 16.2 | C13: งานจัดหาและติดตั้ง High Pressure Slide Gate 1.5x1.5 ม. พร้อมอุปกรณ์ประกอบ | O13: =+J16 -> 6500000
E14: ค่าวัสดุพร้อมขนส่งถึงสถานที่ก่อสร้าง | I14: = | J14: 5000000 | M14: บาท
E15: ค่าติดตั้ง (30%) | I15: = | J15: =+J14*0.3 -> 1500000 | M15: บาท
I16: = | J16: =SUM(J14:J15) -> 6500000 | M16: บาท
B18: 16.3 | C18: งานจัดหาและติดตั้ง Travelling Crane ขนาด 2 ตัน | N18: ชุด | O18: =+J21 -> 273000
D19: - ค่า Travelling Crane | I19: = | J19: =180000+30000 -> 210000 | M19: บาท
D20: - ค่าประกอบ ติดตั้ง | I20: = | J20: =+J19*0.3 -> 63000 | M20: บาท
I21: = | J21: =SUM(J19:J20) -> 273000 | M21: บาท
B23: 16.3 | C23: งานจัดหาและติดตั้ง Travelling Crane ขนาด 5 ตัน | N23: ชุด | O23: =+J26 -> 577850
D24: - ค่า Travelling Crane | I24: = | J24: =412500+32000 -> 444500 | M24: บาท
D25: - ค่าประกอบ ติดตั้ง | I25: = | J25: =+J24*0.3 -> 133350 | M25: บาท
I26: = | J26: =SUM(J24:J25) -> 577850 | M26: บาท
B28: 16.3 | C28: งานจัดหาและติดตั้ง Travelling Crane ขนาด 16 ตัน | N28: ชุด | O28: =+J31 -> 3250000
D29: - ค่า Travelling Crane | I29: = | J29: 2500000 | M29: บาท
D30: - ค่าประกอบ ติดตั้ง | I30: = | J30: =+J29*0.3 -> 750000 | M30: บาท
I31: = | J31: =SUM(J29:J30) -> 3250000 | M31: บาท
B33: 16.5 | C33: งานจัดหาและติดตั้ง Air Relief Valve ขนาด 150 มม. ( High Speed Air Valve ) | N33: ชุด | O33: =+J37 -> 24000 | P33: สยามซินดิเคท
D34: - | E34: ค่าวัสดุพร้อมขนส่งถึงสถานที่ก่อสร้าง | I34: = | J34: 18500 | M34: บาท | P34: เทคโนโลยี
D35: - | E35: ค่าติดตั้ง (30%) | I35: = | J35: =SUM(J34:J34)*0.3 -> 5550 | M35: บาท | P35: Tel: 02 7336080-99
G36: รวมทั้งสิ้น | I36: = | J36: =SUM(J34:J35) -> 24050 | M36: บาท
G37: ขอใช้ | I37: = | J37: =ROUND(J36,-3) -> 24000 | M37: บาท
B39: 16.6 | C39: งานจัดหาและติดตั้ง Air Relief Valve ขนาด 200 มม. ( High Speed Air Valve ) | N39: ชุด | O39: =+J43 -> 35000 | P39: สยามซินดิเคท
D40: - | E40: ค่าวัสดุพร้อมขนส่งถึงสถานที่ก่อสร้าง | I40: = | J40: 27100 | M40: บาท | P40: เทคโนโลยี
D41: - | E41: ค่าติดตั้ง (30%) | I41: = | J41: =SUM(J40:J40)*0.3 -> 8130 | M41: บาท | P41: Tel: 02 7336080-99
G42: รวมทั้งสิ้น | I42: = | J42: =SUM(J40:J41) -> 35230 | M42: บาท
G43: ขอใช้ | I43: = | J43: =ROUND(J42,-3) -> 35000 | M43: บาท
B45: 16.7 | C45: งานจัดหาและติดตั้ง Gate Valve ขนาด 300 มม. ( Rising Stem ) | N45: ชุด | O45: =+J49 -> 51000 | P45: สยามซินดิเคท
D46: - | E46: ค่าวัสดุพร้อมขนส่งถึงสถานที่ก่อสร้าง | I46: = | J46: 39400 | M46: บาท | P46: เทคโนโลยี
D47: - | E47: ค่าติดตั้ง (30%) | I47: = | J47: =SUM(J46:J46)*0.3 -> 11820 | M47: บาท | P47: Tel: 02 7336080-99
G48: รวมทั้งสิ้น | I48: = | J48: =SUM(J46:J47) -> 51220 | M48: บาท
G49: ขอใช้ | I49: = | J49: =ROUND(J48,-3) -> 51000 | M49: บาท
B51: 16.7 | C51: งานจัดหาและติดตั้ง Gate Valve ขนาด 500 มม. ( Rising Stem ) | N51: ชุด | O51: =+J55 -> 158000 | P51: สยามซินดิเคท
D52: - | E52: ค่าวัสดุพร้อมขนส่งถึงสถานที่ก่อสร้าง | I52: = | J52: 121500 | M52: บาท | P52: เทคโนโลยี
D53: - | E53: ค่าติดตั้ง (30%) | I53: = | J53: =SUM(J52:J52)*0.3 -> 36450 | M53: บาท | P53: Tel: 02 7336080-99
G54: รวมทั้งสิ้น | I54: = | J54: =SUM(J52:J53) -> 157950 | M54: บาท
G55: ขอใช้ | I55: = | J55: =ROUND(J54,-3) -> 158000 | M55: บาท
B57: 16.8 | C57: งานจัดหาและติดตั้ง Gate Valve ขนาด 150 มม. ( Rising Stem ) | N57: ชุด | O57: =+J61 -> 13000 | P57: สยามซินดิเคท
D58: - | E58: ค่าวัสดุพร้อมขนส่งถึงสถานที่ก่อสร้าง | I58: = | J58: 9900 | M58: บาท | P58: เทคโนโลยี
D59: - | E59: ค่าติดตั้ง (30%) | I59: = | J59: =SUM(J58:J58)*0.3 -> 2970 | M59: บาท | P59: Tel: 02 7336080-99
G60: รวมทั้งสิ้น | I60: = | J60: =SUM(J58:J59) -> 12870 | M60: บาท
G61: ขอใช้ | I61: = | J61: =ROUND(J60,-3) -> 13000 | M61: บาท
B63: 16.9 | C63: งานจัดหาและติดตั้ง Pressure Relief Valve ขนาด 600 มม. ( Quick Relief Valve ) | N63: ชุด | O63: =+J67 -> 1951000 | P63: สยามซินดิเคท
D64: - | E64: ค่าวัสดุพร้อมขนส่งถึงสถานที่ก่อสร้าง | I64: = | J64: 1500700 | M64: บาท | P64: เทคโนโลยี
D65: - | E65: ค่าติดตั้ง (30%) | I65: = | J65: =SUM(J64:J64)*0.3 -> 450210 | M65: บาท | P65: Tel: 02 7336080-99
G66: รวมทั้งสิ้น | I66: = | J66: =SUM(J64:J65) -> 1950910 | M66: บาท
G67: ขอใช้ | I67: = | J67: =ROUND(J66,-3) -> 1951000 | M67: บาท
B75: 16.11 | C75: งานจัดหาและติดตั้ง Dismanting Joint ขนาด 1,500 mm. x 722 mm. L | N75: ชุด | O75: =+J79 -> 630000 | P75: สยามซินดิเคท
D76: - | E76: ค่าวัสดุพร้อมขนส่งถึงสถานที่ก่อสร้าง | I76: = | J76: 484700 | M76: บาท | P76: เทคโนโลยี
D77: - | E77: ค่าติดตั้ง (30%) | I77: = | J77: =SUM(J76:J76)*0.3 -> 145410 | M77: บาท | P77: Tel: 02 7336080-99
G78: รวมทั้งสิ้น | I78: = | J78: =SUM(J76:J77) -> 630110 | M78: บาท
G79: ขอใช้ | I79: = | J79: =ROUND(J78,-3) -> 630000 | M79: บาท

Sheet 14EE
A2: 14. งานไฟฟ้า
A3: โครงการไฟฟ้าพลังน้ำขนาดเล็กน้ำปัว จังหวัดน่าน
A4: ลำดับ | B4: รายละเอียด | C4: หน่วย | D4: ปริมาณ | E4: วัสดุ | G4: ค่าแรง | I4: รวม | J4: รวมค่าดำเนินการ
E5: ราคาต่อหน่วย | F5: จำนวน | G5: ราคาต่อหน่วย | H5: จำนวน | J5: และกำไร
B6: 14. งานระบบไฟฟ้า
A7: 1 | B7: Transmission Line (PEA - Power House)
B8: เสา คอร. ขนาด 12.0 เมตร | C8: ต้น | D8: 261 | E8: =L8 -> 4040 | F8: =D8*E8 -> 1054440 | G8: 870 | H8: =D8*G8 -> 227070 | I8: =F8+H8 -> 1281510 | J8: =I8*1.15 -> 1473736.5 | L8: =M8*1 -> 4040 | M8: 4040
B9: รีโครสเซอร์ 3 เฟส 22 เควี 560 แอมป์ | C9: ชุด | D9: 1 | E9: =L9 -> 400200 | F9: =D9*E9 -> 400200 | G9: 2000 | H9: =D9*G9 -> 2000 | I9: =F9+H9 -> 402200 | J9: =I9*1.15 -> 462530 | L9: =M9*1 -> 400200 | M9: 400200
B10: อุปกรณ์สำหรับแขวนรีโครสเซอร์บนเสาเดี่ยว | C10: ชุด | D10: 1 | E10: 3196 | F10: =D10*E10 -> 3196 | G10: 500 | H10: =D10*G10 -> 500 | I10: =F10+H10 -> 3696 | J10: =I10*1.15 -> 4250.4
B11: คอน คอร. ขนาด 120x120x2000 มม. | C11: อัน | D11: 120 | E11: =L11 -> 460 | F11: =D11*E11 -> 55200 | G11: 210 | H11: =D11*G11 -> 25200 | I11: =F11+H11 -> 80400 | J11: =I11*1.15 -> 92460 | L11: =M11*1 -> 460 | M11: 460
B12: คอน คอร. ขนาด 100x100x2500 มม. | C12: อัน | D12: 340 | E12: =L12 -> 360 | F12: =D12*E12 -> 122400 | G12: 130 | H12: =D12*G12 -> 44200 | I12: =F12+H12 -> 166600 | J12: =I12*1.15 -> 191590 | L12: =M12*1 -> 360 | M12: 360
B13: ลูกถ้วยแขวนชนิด 52-1 | C13: ลูก | D13: 1392 | E13: =L13 -> 257 | F13: =D13*E13 -> 357744 | G13: 20 | H13: =D13*G13 -> 27840 | I13: =F13+H13 -> 385584 | J13: =I13*1.15 -> 443421.6 | L13: =M13*1 -> 257 | M13: 257
B14: ลูกถ้วย PIN POST TYPE | C14: ลูก | D14: 1186 | E14: =L14 -> 762 | F14: =D14*E14 -> 903732 | G14: 80 | H14: =D14*G14 -> 94880 | I14: =F14+H14 -> 998612 | J14: =I14*1.15 -> 1148403.8 | L14: =M14*1 -> 762 | M14: 762
B15: เหล็กประกับคอน | C15: ชุด | D15: 514 | E15: =L15 -> 48 | F15: =D15*E15 -> 24672 | G15: 30 | H15: =D15*G15 -> 15420 | I15: =F15+H15 -> 40092 | J15: =I15*1.15 -> 46105.8 | L15: =M15*1 -> 48 | M15: 48
B16: แคล้มสแตรนขนาด 185 ต.มม. | C16: ชุด | D16: 348 | E16: =L16 -> 145 | F16: =D16*E16 -> 50460 | G16: 80 | H16: =D16*G16 -> 27840 | I16: =F16+H16 -> 78300 | J16: =I16*1.15 -> 90045 | L16: =M16*1 -> 145 | M16: 145
B17: สายอลูมิเนียมเปลือยขนาด 185 ต.มม. | C17: เมตร | D17: 22490 | E17: =L17 -> 75 | F17: =D17*E17 -> 1686750 | G17: 3.6 | H17: =D17*G17 -> 80964 | I17: =F17+H17 -> 1767714 | J17: =I17*1.15 -> 2032871.1 | L17: =M17*1 -> 75 | M17: 75
B18: กราวด์ร๊อด | C18: แท่ง | D18: 25 | E18: =L18 -> 468 | F18: =D18*E18 -> 11700 | G18: 270 | H18: =D18*G18 -> 6750 | I18: =F18+H18 -> 18450 | J18: =I18*1.15 -> 21217.5 | L18: =M18*1 -> 468 | M18: 468
B19: ลวดเหล็กตีเกลียว 25 ต.มม. | C19: เมตร | D19: 7625 | E19: =L19 -> 11 | F19: =D19*E19 -> 83875 | G19: 2 | H19: =D19*G19 -> 15250 | I19: =F19+H19 -> 99125 | J19: =I19*1.15 -> 113993.75 | L19: =M19*1 -> 11 | M19: 11
B20: เหล็กรับสายล่อฟ้าทางตรงขนาด 65x65x6x2250 มม. | C20: อัน | D20: 46 | E20: =L20 -> 409 | F20: =D20*E20 -> 18814 | G20: 130 | H20: =D20*G20 -> 5980 | I20: =F20+H20 -> 24794 | J20: =I20*1.15 -> 28513.1 | L20: =M20*1 -> 409 | M20: 409
B21: เหล็กรับสายล่อฟ้าปลายสายขนาด 100x50x5x2250 มม. | C21: อัน | D21: 56 | E21: =L21 -> 915 | F21: =D21*E21 -> 51240 | G21: 130 | H21: =D21*G21 -> 7280 | I21: =F21+H21 -> 58520 | J21: =I21*1.15 -> 67298 | L21: =M21*1 -> 915 | M21: 915
B22: เหล็กรับสายล่อฟ้าทางโค้งขนาด 65x65x6x2250 มม. | C22: อัน | D22: 147 | E22: =L22 -> 409 | F22: =D22*E22 -> 60123 | G22: 130 | H22: =D22*G22 -> 19110 | I22: =F22+H22 -> 79233 | J22: =I22*1.15 -> 91117.95 | L22: =M22*1 -> 409 | M22: 409
B23: สมอบกคอนกรีตขนาด 550x550x150 มม. | C23: อัน | D23: 51 | E23: =L23 -> 150 | F23: =D23*E23 -> 7650 | G23: 130 | H23: =D23*G23 -> 6630 | I23: =F23+H23 -> 14280 | J23: =I23*1.15 -> 16422 | L23: =M23*1 -> 150 | M23: 150
B24: อุปกรณ์ฮาร์ดแวร์ | C24: เหมารวม | D24: 1 | E24: 250000 | F24: =D24*E24 -> 250000 | G24: 0 | H24: =D24*G24 -> 0 | I24: =F24+H24 -> 250000 | J24: =I24*1.15 -> 287500
B26: รวมทั้งหมดงาน Transmission Line (PEA - Power House) | F26: =SUM(F8:F24) -> 5142196 | H26: =SUM(H8:H24) -> 606914 | I26: =SUM(I8:I24) -> 5749110 | J26: =I26*1.15 -> 6611476.5
A28: 2 | B28: Transmission Line (Power House - Weir)
B29: เสา คอร. ขนาด 12.0 เมตร | C29: ต้น | D29: 30 | E29: =L29 -> 4040 | F29: =D29*E29 -> 121200 | G29: 870 | H29: =D29*G29 -> 26100 | I29: =F29+H29 -> 147300 | J29: =I29*1.15 -> 169395 | L29: =M29*1 -> 4040 | M29: 4040
B30: คอน คอร. ขนาด 120x120x2000 มม. | C30: อัน | D30: 26 | E30: =L30 -> 460 | F30: =D30*E30 -> 11960 | G30: 210 | H30: =D30*G30 -> 5460 | I30: =F30+H30 -> 17420 | J30: =I30*1.15 -> 20033 | L30: =M30*1 -> 460 | M30: 460
B31: คอน คอร. ขนาด 100x100x2500 มม. | C31: อัน | D31: 29 | E31: =L31 -> 360 | F31: =D31*E31 -> 10440 | G31: 130 | H31: =D31*G31 -> 3770 | I31: =F31+H31 -> 14210 | J31: =I31*1.15 -> 16341.5 | L31: =M31*1 -> 360 | M31: 360
B32: ลูกถ้วยแขวนชนิด 52-1 | C32: ลูก | D32: 312 | E32: =L32 -> 257 | F32: =D32*E32 -> 80184 | G32: 20 | H32: =D32*G32 -> 6240 | I32: =F32+H32 -> 86424 | J32: =I32*1.15 -> 99387.6 | L32: =M32*1 -> 257 | M32: 257
B33: ลูกถ้วย PIN POST TYPE | C33: ลูก | D33: 126 | E33: =L33 -> 762 | F33: =D33*E33 -> 96012 | G33: 80 | H33: =D33*G33 -> 10080 | I33: =F33+H33 -> 106092 | J33: =I33*1.15 -> 122005.8 | L33: =M33*1 -> 762 | M33: 762
B34: เหล็กประกับคอน | C34: ชุด | D34: 62 | E34: =L34 -> 48 | F34: =D34*E34 -> 2976 | G34: 30 | H34: =D34*G34 -> 1860 | I34: =F34+H34 -> 4836 | J34: =I34*1.15 -> 5561.4 | L34: =M34*1 -> 48 | M34: 48
B35: แคล้มสแตรนขนาด 185 ต.มม. | C35: ชุด | D35: 78 | E35: =L35 -> 145 | F35: =D35*E35 -> 11310 | G35: 80 | H35: =D35*G35 -> 6240 | I35: =F35+H35 -> 17550 | J35: =I35*1.15 -> 20182.5 | L35: =M35*1 -> 145 | M35: 145
B36: สายอลูมิเนียมเปลือยขนาด 50 ต.มม. | C36: เมตร | D36: 1990 | E36: 20 | F36: =D36*E36 -> 39800 | G36: 3.6 | H36: =D36*G36 -> 7164 | I36: =F36+H36 -> 46964 | J36: =I36*1.15 -> 54008.6 | L36: =M36*1 -> 75 | M36: 75
B37: กราวด์ร๊อด | C37: แท่ง | D37: 3 | E37: =L37 -> 468 | F37: =D37*E37 -> 1404 | G37: 270 | H37: =D37*G37 -> 810 | I37: =F37+H37 -> 2214 | J37: =I37*1.15 -> 2546.1 | L37: =M37*1 -> 468 | M37: 468
B38: ลวดเหล็กตีเกลียว 25 ต.มม. | C38: เมตร | D38: 680 | E38: =L38 -> 11 | F38: =D38*E38 -> 7480 | G38: 2 | H38: =D38*G38 -> 1360 | I38: =F38+H38 -> 8840 | J38: =I38*1.15 -> 10166 | L38: =M38*1 -> 11 | M38: 11
B39: เหล็กรับสายล่อฟ้าทางตรงขนาด 65x65x6x2250 มม. | C39: อัน | D39: 7 | E39: =L39 -> 409 | F39: =D39*E39 -> 2863 | G39: 130 | H39: =D39*G39 -> 910 | I39: =F39+H39 -> 3773 | J39: =I39*1.15 -> 4338.95 | L39: =M39*1 -> 409 | M39: 409
B40: เหล็กรับสายล่อฟ้าทางโค้งขนาด 65x65x6x2250 มม. | C40: อัน | D40: 24 | E40: =L40 -> 409 | F40: =D40*E40 -> 9816 | G40: 130 | H40: =D40*G40 -> 3120 | I40: =F40+H40 -> 12936 | J40: =I40*1.15 -> 14876.4 | L40: =M40*1 -> 409 | M40: 409
B41: สมอบกคอนกรีตขนาด 550x550x150 มม. | C41: อัน | D41: 19 | E41: =L41 -> 150 | F41: =D41*E41 -> 2850 | G41: 130 | H41: =D41*G41 -> 2470 | I41: =F41+H41 -> 5320 | J41: =I41*1.15 -> 6118 | L41: =M41*1 -> 150 | M41: 150
B42: อุปกรณ์ฮาร์ดแวร์ | C42: เหมา | D42: 1 | E42: 40505 | F42: =D42*E42 -> 40505 | G42: 0 | H42: =D42*G42 -> 0 | I42: =F42+H42 -> 40505 | J42: =I42*1.15 -> 46580.75
J43: =I43*1.15 -> 0
B44: รวมทั้งหมดงาน Transmission Line (Power House - Weir) | F44: =SUM(F29:F43) -> 438800 | H44: =SUM(H29:H43) -> 75584 | I44: =SUM(I29:I43) -> 514384 | J44: =I44*1.15 -> 591541.6
A46: 3 | B46: Transformer Installation (In switchyard)
B47: หม้อแปลงไฟฟ้าระบบ 3 เฟส 22-0.4/0.230 kV ขนาด 500 เควีเอ | C47: เครื่อง | D47: 2 | E47: =L47 -> 485390 | F47: =D47*E47 -> 970780 | G47: 7840 | H47: =D47*G47 -> 15680 | I47: =F47+H47 -> 986460 | J47: =I47*1.15 -> 1134429 | L47: =M47*1 -> 485390 | M47: 485390
B48: หม้อแปลงไฟฟ้าระบบ 3 เฟส 22-0.4/0.230 kV ขนาด 100 เควีเอ | C48: เครื่อง | D48: 1 | E48: =L48 -> 154840 | F48: =D48*E48 -> 154840 | G48: 2930 | H48: =D48*G48 -> 2930 | I48: =F48+H48 -> 157770 | J48: =I48*1.15 -> 181435.5 | L48: =M48*1 -> 154840 | M48: 154840
B49: เสา คอร. ขนาด 12.0 เมตร | C49: ต้น | D49: 1 | E49: =L49 -> 4040 | F49: =D49*E49 -> 4040 | G49: 870 | H49: =D49*G49 -> 870 | I49: =F49+H49 -> 4910 | J49: =I49*1.15 -> 5646.5 | L49: =M49*1 -> 4040 | M49: 4040
B50: เสา คอร. ขนาด 9.0 เมตร | C50: ต้น | D50: 1 | E50: =L50 -> 1830 | F50: =D50*E50 -> 1830 | G50: 750 | H50: =D50*G50 -> 750 | I50: =F50+H50 -> 2580 | J50: =I50*1.15 -> 2967 | L50: =M50*1 -> 1830 | M50: 1830
B51: เสา คอร. ขนาด 8.0 เมตร | C51: ต้น | D51: 1 | E51: =L51 -> 1410 | F51: =D51*E51 -> 1410 | G51: 660 | H51: =D51*G51 -> 660 | I51: =F51+H51 -> 2070 | J51: =I51*1.15 -> 2380.5 | L51: =M51*1 -> 1410 | M51: 1410
B52: คาน คอร. 150x250x3500 มม. | C52: ชุด | D52: 6 | E52: =L52 -> 1010 | F52: =D52*E52 -> 6060 | G52: 290 | H52: =D52*G52 -> 1740 | I52: =F52+H52 -> 7800 | J52: =I52*1.15 -> 8970 | L52: =M52*1 -> 1010 | M52: 1010
B53: คอน คอร. 100x100x2500 มม. | C53: ชุด | D53: 1 | E53: =L53 -> 360 | F53: =D53*E53 -> 360 | G53: 130 | H53: =D53*G53 -> 130 | I53: =F53+H53 -> 490 | J53: =I53*1.15 -> 563.5 | L53: =M53*1 -> 360 | M53: 360
B54: คอน คอร. 120x120x2000 มม. | C54: ชุด | D54: 6 | E54: =L54 -> 460 | F54: =D54*E54 -> 2760 | G54: 210 | H54: =D54*G54 -> 1260 | I54: =F54+H54 -> 4020 | J54: =I54*1.15 -> 4623 | L54: =M54*1 -> 460 | M54: 460
B55: ล่อฟ้าแรงสูง 20-21 kV 5 kA | C55: ชุด | D55: 9 | E55: =L55 -> 2370 | F55: =D55*E55 -> 21330 | G55: 80 | H55: =D55*G55 -> 720 | I55: =F55+H55 -> 22050 | J55: =I55*1.15 -> 25357.5 | L55: =M55*1 -> 2370 | M55: 2370
B56: ดร๊อปเอาท์ฟิวส์ 100 A | C56: ชุด | D56: 9 | E56: =L56 -> 1521 | F56: =D56*E56 -> 13689 | G56: 140 | H56: =D56*G56 -> 1260 | I56: =F56+H56 -> 14949 | J56: =I56*1.15 -> 17191.35 | L56: =M56*1 -> 1521 | M56: 1521
B57: Insulator Pin Post Type 22 kV | C57: ชุด | D57: 12 | E57: =L57 -> 754 | F57: =D57*E57 -> 9048 | G57: 80 | H57: =D57*G57 -> 960 | I57: =F57+H57 -> 10008 | J57: =I57*1.15 -> 11509.2 | L57: =M57*1 -> 754 | M57: 754
B58: Insulator Suspension type A Class 52-1 Type 22 kV | C58: ชุด | D58: 36 | E58: =L58 -> 754 | F58: =D58*E58 -> 27144 | G58: 20 | H58: =D58*G58 -> 720 | I58: =F58+H58 -> 27864 | J58: =I58*1.15 -> 32043.6 | L58: =M58*1 -> 754 | M58: 754
... B61: แท่งกราวด์ 3/4' x 10 ' | C61: ชุด | D61: 13 | E61: =L61 -> 468 | F61: =D61*E61 -> 6084 | G61: 270 | H61: =D61*G61 -> 3510 | I61: =F61+H61 -> 9594 | J61: =I61*1.15 -> 11033.1 | L61: =M61*1 -> 468 | M61: 468
B62: Thermo Well | C62: ชุด | D62: 26 | E62: 350 | F62: =D62*E62 -> 9100 | G62: 120 | H62: =D62*G62 -> 3120 | I62: =F62+H62 -> 12220 | J62: =I62*1.15 -> 14053 | L62: =M62*1 -> 469 | M62: 469
B63: อุปกรณ์เบ็ดเตล็ด | C63: เหมา | D63: 1 | E63: 79000 | F63: =D63*E63 -> 79000 | G63: 0 | H63: =D63*G63 -> 0 | I63: =F63+H63 -> 79000 | J63: =I63*1.15 -> 90850
J64: =I64*1.15 -> 0 | L64: =M64*1 -> 1 | M64: 1
B65: รวมทั้งหมดงาน Transformer Installation (Power House) | F65: =SUM(F47:F64) -> 1354621 | H65: =SUM(H47:H64) -> 45770 | I65: =SUM(I47:I64) -> 1400391 | J65: =I65*1.15 -> 1610449.6
A67: 4 | B67: Transformer Installation (Weir)
B68: หม้อแปลงไฟฟ้าระบบ 3 เฟส 22-0.4/0.230 kV ขนาด 50 เควีเอ | C68: เครื่อง | D68: 1 | E68: =L68 -> 113650 | F68: =D68*E68 -> 113650 | G68: 2930 | H68: =D68*G68 -> 2930 | I68: =F68+H68 -> 116580 | J68: =I68*1.15 -> 134067 | L68: =M68*1 -> 113650 | M68: 113650
B69: เสา คอร. ขนาด 12.0 เมตร | C69: ต้น | D69: 2 | E69: =L69 -> 4040 | F69: =D69*E69 -> 8080 | G69: 870 | H69: =D69*G69 -> 1740 | I69: =F69+H69 -> 9820 | J69: =I69*1.15 -> 11293 | L69: =M69*1 -> 4040 | M69: 4040
B70: คาน คอร. 150x250x3200 มม. | C70: ชุด | D70: 2 | E70: =L70 -> 1010 | F70: =D70*E70 -> 2020 | G70: 290 | H70: =D70*G70 -> 580 | I70: =F70+H70 -> 2600 | J70: =I70*1.15 -> 2990 | L70: =M70*1 -> 1010 | M70: 1010
B71: คอน คอร. 100x100x2500 มม. | C71: ชุด | D71: 2 | E71: =L71 -> 360 | F71: =D71*E71 -> 720 | G71: 130 | H71: =D71*G71 -> 260 | I71: =F71+H71 -> 980 | J71: =I71*1.15 -> 1127 | L71: =M71*1 -> 360 | M71: 360
B72: คอน คอร. 100x100x3200 มม. | C72: ชุด | D72: 2 | E72: =L72 -> 460 | F72: =D72*E72 -> 920 | G72: 210 | H72: =D72*G72 -> 420 | I72: =F72+H72 -> 1340 | J72: =I72*1.15 -> 1541 | L72: =M72*1 -> 460 | M72: 460
B73: ล่อฟ้าแรงสูง 20-21 kV 5 kA | C73: ชุด | D73: 3 | E73: =L73 -> 2370 | F73: =D73*E73 -> 7110 | G73: 80 | H73: =D73*G73 -> 240 | I73: =F73+H73 -> 7350 | J73: =I73*1.15 -> 8452.5 | L73: =M73*1 -> 2370 | M73: 2370
B74: ดร๊อปเอาท์ฟิวส์ 100 A | C74: ชุด | D74: 3 | E74: =L74 -> 1521 | F74: =D74*E74 -> 4563 | G74: 140 | H74: =D74*G74 -> 420 | I74: =F74+H74 -> 4983 | J74: =I74*1.15 -> 5730.45 | L74: =M74*1 -> 1521 | M74: 1521
B75: Insulator Pin Post Type 22 kV | C75: ชุด | D75: 9 | E75: =L75 -> 754 | F75: =D75*E75 -> 6786 | G75: 80 | H75: =D75*G75 -> 720 | I75: =F75+H75 -> 7506 | J75: =I75*1.15 -> 8631.9 | L75: =M75*1 -> 754 | M75: 754
B76: อุปกรณ์เบ็ดเตล็ด | C76: เหมา | D76: 1 | E76: 15039 | F76: =D76*E76 -> 15039 | G76: 0 | H76: =D76*G76 -> 0 | I76: =F76+H76 -> 15039 | J76: =I76*1.15 -> 17294.85
B77: รวมทั้งหมดงาน Transformer Installation (Weir) | F77: =SUM(F68:F76) -> 158888 | H77: =SUM(H68:H76) -> 7310 | I77: =SUM(I68:I76) -> 166198 | J77: =I77*1.15 -> 191127.7
A79: 5 | B79: สายไฟเมนแรงต่ำจากหม้อแปลง - ตู้ MDB - ตู้จ่ายไฟย่อย(ฝาย)
B80: สายไฟฟ้า THW ขนาด 50 sq.mm. | C80: เมตร | D80: 240 | E80: =L80 -> 518.4 | F80: =D80*E80 -> 124416 | G80: 50 | H80: =D80*G80 -> 12000 | I80: =F80+H80 -> 136416 | J80: =I80*1.15 -> 156878.4 | L80: =M80*0.9 -> 518.4 | M80: 576
B81: ท่อชนิด IMC dia 65 mm. | C81: เมตร | D81: 60 | E81: =L81 -> 387 | F81: =D81*E81 -> 23220 | G81: 35 | H81: =D81*G81 -> 2100 | I81: =F81+H81 -> 25320 | J81: =I81*1.15 -> 29118 | L81: =M81*0.9 -> 387 | M81: 430
B82: อุปกรณ์เบ็ดเตล็ด (ข้อต่อ, ข้องอ, แคล้มยึดท่อ ฯลฯ) | C82: เหมารวม | D82: 1 | E82: =SUM(F80:F81)*0.1 -> 14763.6 | F82: =D82*E82 -> 14763.6 | G82: 0 | H82: =D82*G82 -> 0 | I82: =F82+H82 -> 14763.6 | J82: =I82*1.15 -> 16978.14
B83: รวมทั้งหมดงานสายไฟเมนแรงต่ำจากตู้ MDB ไปยังตู้จ่ายไฟย่อย | F83: =F80+F81+F82 -> 162399.6 | G83: =G80+G81+G82 -> 85 | H83: =H80+H81+H82 -> 14100 | I83: =F83+H83 -> 176499.6 | J83: =I83*1.15 -> 202974.54
A85: 6 | B85: ตู้เมน MDB (Power House)
B86: 3.1.1.1 ตู้เมน MDB (Main Distribution Board)
B87: ตู้เหล็กพร้อมพ่นสี ขนาด 0.8x2.2x1.0 เมตร | C87: ชุด | D87: 1 | E87: 30000 | F87: =D87*E87 -> 30000 | G87: 1000 | H87: =D87*G87 -> 1000 | I87: =F87+H87 -> 31000 | J87: =I87*1.15 -> 35650
B88: บัสบาร์ทองแดงพร้อมซัพพอร์ท | C88: เหมารวม | D88: 1 | E88: 100000 | F88: =D88*E88 -> 100000 | G88: 1000 | H88: =D88*G88 -> 1000 | I88: =F88+H88 -> 101000 | J88: =I88*1.15 -> 116150
B89: 3.1.1.2 Molded Case Circuit Breaker (MCCB) | H89: =D89*G89 -> 0 | J89: =I89*1.15 -> 0
B90: - 3P 200AT/250AF | C90: ชุด | D90: 1 | E90: =L90 -> 8550 | F90: =D90*E90 -> 8550 | G90: 100 | H90: =D90*G90 -> 100 | I90: =F90+H90 -> 8650 | J90: =I90*1.15 -> 9947.5 | L90: =M90*0.9 -> 8550 | M90: 9500
B91: - 3P 100AT/100AF | C91: ชุด | D91: 5 | E91: =L91 -> 4860 | F91: =D91*E91 -> 24300 | G91: 100 | H91: =D91*G91 -> 500 | I91: =F91+H91 -> 24800 | J91: =I91*1.15 -> 28520 | L91: =M91*0.9 -> 4860 | M91: 5400
B92: - 3P 50AT/100AF | C92: ชุด | D92: 5 | E92: =L92 -> 4770 | F92: =D92*E92 -> 23850 | G92: 100 | H92: =D92*G92 -> 500 | I92: =F92+H92 -> 24350 | J92: =I92*1.15 -> 28002.5 | L92: =M92*0.9 -> 4770 | M92: 5300
B93: Ammeter 0 - 200 A | C93: ชุด | D93: 1 | E93: 730 | F93: =D93*E93 -> 730 | G93: 50 | H93: =D93*G93 -> 50 | I93: =F93+H93 -> 780 | J93: =I93*1.15 -> 897
B94: Amp Selector Switch | C94: ชุด | D94: 1 | E94: 320 | F94: =D94*E94 -> 320 | G94: 50 | H94: =D94*G94 -> 50 | I94: =F94+H94 -> 370 | J94: =I94*1.15 -> 425.5
B95: CT 200/5 A | C95: ชุด | D95: 6 | E95: 190 | F95: =D95*E95 -> 1140 | G95: 50 | H95: =D95*G95 -> 300 | I95: =F95+H95 -> 1440 | J95: =I95*1.15 -> 1656
B96: Volt meter 0-500 V | C96: ชุด | D96: 1 | E96: 880 | F96: =D96*E96 -> 880 | G96: 50 | H96: =D96*G96 -> 50 | I96: =F96+H96 -> 930 | J96: =I96*1.15 -> 1069.5
B97: Volt Selector Switch | C97: ชุด | D97: 1 | E97: 320 | F97: =D97*E97 -> 320 | G97: 50 | H97: =D97*G97 -> 50 | I97: =F97+H97 -> 370 | J97: =I97*1.15 -> 425.5
B98: Watt Meter | C98: ชุด | D98: 1 | E98: 900 | F98: =D98*E98 -> 900 | G98: 50 | H98: =D98*G98 -> 50 | I98: =F98+H98 -> 950 | J98: =I98*1.15 -> 1092.5
B99: Watt - Hour Meter | C99: ชุด | D99: 1 | E99: 6000 | F99: =D99*E99 -> 6000 | G99: 50 | H99: =D99*G99 -> 50 | I99: =F99+H99 -> 6050 | J99: =I99*1.15 -> 6957.5
B100: ฟิวส์ควบคุม (Control Fuse) | C100: ชุด | D100: 1 | E100: 1000 | F100: =D100*E100 -> 1000 | G100: 50 | H100: =D100*G100 -> 50 | I100: =F100+H100 -> 1050 | J100: =I100*1.15 -> 1207.5
B101: หลอดไฟ (Pilot Lamp) | C101: ชุด | D101: 1 | E101: 600 | F101: =D101*E101 -> 600 | G101: 50 | H101: =D101*G101 -> 50 | I101: =F101+H101 -> 650 | J101: =I101*1.15 -> 747.5
B102: อุปกรณ์เบ็ดเตล็ดประกอบตู้ | C102: เหมารวม | D102: 1 | E102: =SUM(F87:F101)*0.1 -> 19859 | F102: =D102*E102 -> 19859 | G102: 0 | H102: =D102*G102 -> 0 | I102: =F102+H102 -> 19859 | J102: =I102*1.15 -> 22837.85
B103: รวมทั้งหมดงานตู้เมน MDB (Power House) | F103: =SUM(F87:F102) -> 218449 | H103: =SUM(H87:H102) -> 3800 | I103: =SUM(I87:I102) -> 222249 | J103: =I103*1.15 -> 255586.35
A105: 7 | B105: Weir Site Power Supply Switch Board
B106: 3.1.1.1 ตู้เมน MDB (Main Distribution Board)
B107: ตู้เหล็กพร้อมพ่นสี ขนาด 1.4x2.0x0.5 เมตร | C107: ชุด | D107: 1 | E107: 30000 | F107: =D107*E107 -> 30000 | G107: 1000 | H107: =D107*G107 -> 1000 | I107: =F107+H107 -> 31000 | J107: =I107*1.15 -> 35650
B108: บัสบาร์ทองแดงพร้อมซัพพอร์ท | C108: เหมารวม | D108: 1 | E108: 50000 | F108: =D108*E108 -> 50000 | G108: 1000 | H108: =D108*G108 -> 1000 | I108: =F108+H108 -> 51000 | J108: =I108*1.15 -> 58650
B109: 3.1.1.2 Molded Case Circuit Breaker (MCCB) | J109: =I109*1.15 -> 0
B110: - 3P 100AT/100AF | C110: ชุด | D110: 1 | E110: 5000 | F110: =D110*E110 -> 5000 | G110: 100 | H110: =D110*G110 -> 100 | I110: =F110+H110 -> 5100 | J110: =I110*1.15 -> 5865 | L110: =M110*0.9 -> 0 | M110: 0
...
