Workbook
Name \a: #REF!
Name \z: #REF!
Name __ml1: #REF!
Name __sp1: #REF!
Name __tc1: #REF!
Name _ml1: #REF!
Name _Pm2544: #REF!
Name _sp1: #REF!
Name _sp2: #REF!
Name _tc1: #REF!
Name A: #REF!
Name aa: #REF!
Name ACW: #REF!
Name AT: #REF!
Name ATF: #REF!
Name ATH: #REF!
Name ATJ: #REF!
Name ATS: #REF!
Name AV.SP: #REF!
Name av1.sp: #REF!
Name B: #REF!
Name BA: #REF!
Name BB: #REF!
Name bd: '[1]Cal Fto'!#REF!
Name BD.: #REF!
Name BG: #REF!
Name BL: #REF!
Name Bm: #REF!
Name BOne: #REF!
Name BR: #REF!
Name bu: #REF!
Name BU.: #REF!
Name BZ: #REF!
Name c.: #REF!
Name Cnl: #REF!
Name CR: #REF!
Name cs: #REF!
Name CT: #REF!
Name CV: #REF!
Name D: '[1]Cal Fto'!#REF!
Name DS: #REF!
Name DT: #REF!
Name e: #REF!
Name EL.1: '[1]Cal Fto'!#REF!
Name EL.10: '[1]Cal Fto'!#REF!
Name EL.11: #REF!
Name EL.2: '[1]Cal Fto'!#REF!
Name EL.3: '[1]Cal Fto'!#REF!
Name EL.4: '[1]Cal Fto'!#REF!
Name EL.5: '[1]Cal Fto'!#REF!
Name EL.6: '[1]Cal Fto'!#REF!
Name EL.7: '[1]Cal Fto'!#REF!
Name EL.8: '[1]Cal Fto'!#REF!
Name EL.9: '[1]Cal Fto'!#REF!
Name ER: #REF!
Name f: #REF!
Name froad: #REF!
Name FSL: #REF!
Name GR: #REF!
Name H: #REF!

Sheet สรุปรวม
B1: เอกสารประกวดราคาหมายเลข 1
B3: งานจ้างปรับปรุงประสิทธิภาพและเพิ่มกำลังผลิต โครงการไฟฟ้าพลังน้ำคลองทุ่งเพล
B4: ตำบลพลวง อำเภอเขาคิชฌกูฏ จังหวัดจันทบุรี
B6: ลำดับ | C6: รายการ | E6: ราคารวม
E7: (บาท)
B8: 1 | C8: โครงการไฟฟ้าพลังน้ำคลองทุ่งเพล 2
B9: 2 | C9: โครงการไฟฟ้าพลังน้ำขนาดเล็กมากท้ายเขื่อนพลวง 1
B10: 3 | C10: โครงการไฟฟ้าพลังน้ำขนาดเล็กมากท้ายเขื่อนพลวง 2
D12: (รวมภาษีมูลค่าเพิ่มร้อยละ 7)
C14: รวมราคางานจ้างปรับปรุงประสิทธิภาพและเพิ่มกำลังผลิต
C15: โครงการไฟฟ้าพลังน้ำคลองทุ่งเพล ตำบลพลวง อำเภอเขาคิชฌกูฏ จังหวัดจันทบุรี
C16: เป็นเงินทั้งสิ้น

Sheet สรุปรวม KTP2
B1: โครงการไฟฟ้าพลังน้ำคลองทุ่งเพล 2
B2: งานโยธา งานอุปกรณ์ไฟฟ้า-เครื่องจักรกลและงานสายส่งไฟฟ้าแรงสูง
B3: งานจ้างปรับปรุงประสิทธิภาพและเพิ่มกำลังผลิต โครงการไฟฟ้าพลังน้ำคลองทุ่งเพล
B4: ลำดับ | C4: รายการ | E4: ราคารวม
E5: (บาท)
B6: 1 | C6: งานโยธา (ส่วนที่ 1)
D7: หมวดงานอาคาร
D8: หมวดงานชลประทาน
D9: หมวดงานสะพานและท่อเหลี่ยม
D10: หมวดงานทาง
D11: รวมงานโยธาส่วนที่ 1
B14: 2 | C14: งานอุปกรณ์เครื่องจักรกลและไฟฟ้า (ส่วนที่ 2)
C17: รวมราคาค่าก่อสร้างโครงการไฟฟ้าพลังน้ำคลองทุ่งเพล 2 ทั้งสิ้น | E17: =E14+E11 -> 0

Sheet KTP2สรุปรวมงานโยธา-F
B1: โครงการไฟฟ้าพลังน้ำคลองทุ่งเพล 2
B2: ส่วนที่ 1
B3: งานจ้างปรับปรุงประสิทธิภาพและเพิ่มกำลังผลิต โครงการไฟฟ้าพลังน้ำคลองทุ่งเพล
B5: ที่ | D5: รายการ | E5: ราคารวม
E6: (บาท)
C7: หมวดงานอาคาร
B8: 1 | D8: ='1 House'!B3 -> งานจ้างปรับปรุงประสิทธิภาพและเพิ่มกำลังผลิต โครงการไฟฟ้าพลังน้ำคลองทุ่งเพล
D9: รวมเงินค่าก่อสร้างหมวดงานอาคาร
C11: หมวดงานชลประทาน
B12: 1 | D12: ='2controlhouse'!B3 -> งานจ้างปรับปรุงประสิทธิภาพและเพิ่มกำลังผลิต โครงการไฟฟ้าพลังน้ำคลองทุ่งเพล
B13: 2 | D13: ='3PS'!B3 -> งานจ้างปรับปรุงประสิทธิภาพและเพิ่มกำลังผลิต โครงการไฟฟ้าพลังน้ำคลองทุ่งเพล
B14: 3 | D14: ='4PH'!B3 -> งานจ้างปรับปรุงประสิทธิภาพและเพิ่มกำลังผลิต โครงการไฟฟ้าพลังน้ำคลองทุ่งเพล
B15: 4 | D15: ='5TR'!B3 -> งานจ้างปรับปรุงประสิทธิภาพและเพิ่มกำลังผลิต โครงการไฟฟ้าพลังน้ำคลองทุ่งเพล
B16: 5 | D16: กลุ่มที่ 6 : งานระบบไฟฟ้าแรงสูงและแรงต่ำ
B17: 6 | D17: =' 7สายส่ง'!B4 -> กลุ่มที่ 7 : งานสายส่งไฟฟ้าแรงสูง
D18: รวมเงินค่าก่อสร้างหมวดงานชลประทาน
C20: หมวดงานสะพานและท่อเหลี่ยม
B21: 1 | D21: กลุ่มที่ 2 : งานอาคารควบคุม
B22: 2 | D22: กลุ่มที่ 3 : ท่อส่งน้ำ (Penstock)
B23: 3 | D23: กลุ่มที่ 4 : อาคารโรงไฟฟ้า (Power House)
B24: 4 | D24: กลุ่มที่ 5 : อาคารระบายท้ายน้ำ (Tailrace)
D25: รวมเงินค่าก่อสร้างหมวดงานสะพานและท่อเหลี่ยม
C27: หมวดงานทาง
B28: 1 | D28: กลุ่มที่ 1 : งานทั่วไปและงานสาธารณูปโภคบริเวณโรงไฟฟ้า
D29: รวมเงินค่าก่อสร้างหมวดงานทาง
D31: ค่าก่อสร้างรวมเป็นเงินทั้งสิ้น (รวมภาษีมูลค่าเพิ่มร้อยละ 7)

Sheet 1 House
B1: โครงการไฟฟ้าพลังน้ำคลองทุ่งเพล 2
B2: งานโยธา
B3: งานจ้างปรับปรุงประสิทธิภาพและเพิ่มกำลังผลิต โครงการไฟฟ้าพลังน้ำคลองทุ่งเพล
B5: หมวดที่ | C5: รายการงาน | G5: ราคาค่าก่อสร้าง (บาท)
C7: หมวดงานอาคาร
B8: 12 | C8: การก่อสร้างอาคารควบคุม
C10: หมวดงานทาง
B11: 14 | C11: งานระบบไฟฟ้า
C13: รวมเงินงานกลุ่มที่ 1 หมวดงานอาคาร (รวมภาษีมูลค่าเพิ่มร้อยละ 7)
C14: รวมเงินงานกลุ่มที่ 2 หมวดงานอาคาร

Sheet กลุ่มที่1
B1: โครงการไฟฟ้าพลังน้ำคลองทุ่งเพล 2 | Y1: วิวรรธน์
B2: งานโยธา
B3: งานจ้างปรับปรุงประสิทธิภาพและเพิ่มกำลังผลิต โครงการไฟฟ้าพลังน้ำคลองทุ่งเพล
B5: รายการ ที่ | C5: รายละเอียดงาน | G5: ปริมาณงาน | I5: ราคาต่อหน่วย | J5: รวมเป็น
J6: จำนวนเงิน
G7: หน่วย | H7: ปริมาณ | I7: (บาท) | J7: (บาท)
C9: หมวดงานอาคาร | I9: =#REF! -> #REF! | AB9: 1.733 | AC9: 0.266
C10: หมวดที่ 12 การก่อสร้างอาคารควบคุม
B11: 1 | C11: งานก่อสร้างอาคารสำนักงาน | G11: เหมา | H11: 1
B12: 2 | C12: งานลานอเนกประสงค์พร้อมส่วนประกอบและแสงสว่าง | G12: เหมา | H12: 1 | Y12: =H12/$AA$12 -> 0.0019083969 | Z12: ตร.ม. / ยาว (ม.) | AA12: 524 | AB12: ยาว (ม.) | AC12: 4 | AD12: กว้าง (ม.) | AE12: =AF12/#REF! -> #REF! | AF12: 8274 | AH12: =J12-AF12 -> -8274
C13: รวมเงินงานหมวดที่ 12 | AH13: =J13-AF13 -> 0
C15: งานระบบโซล่าเซลล์บนหลังคา
B16: 1 | C16: ระบบโซล่าเซลล์ติดตั้งบนหลังคาบริเวณอาคารสำนักงานพร้อมส่วนประกอบอื่นๆ 10 kW | G16: เหมา | H16: 1
C17: พร้อมทดสอบ
B18: 2 | C18: ระบบโซล่าเซลล์ติดตั้งบนหลังคาบริเวณโรงไฟฟ้าพร้อมส่วนประกอบอื่นๆ 10 kW | G18: เหมา | H18: 1 | Y18: =H18/$AA$18 -> 0.0047619048 | Z18: ตร.ม. / ยาว (ม.) | AA18: 210 | AB18: ยาว (ม.) | AC18: 3 | AD18: กว้าง (ม.) | AE18: =AF18/#REF! -> #REF! | AF18: 2909.69 | AH18: =J18-AF18 -> -2909.69
C19: พร้อมทดสอบ
C20: รวมเงินงานระบบโซล่าเซลล์บนหลังคา
C22: รวมเงินกลุ่มที่ 1 หมวดงานอาคาร
C24: หมวดงานทาง | I24: =#REF! -> #REF!
C25: หมวดที่ 14 งานระบบไฟฟ้า | Y25: =H25/#REF! -> #REF! | Z25: ลบ.ม. / ยาว (ม.) | AE25: =AF25/#REF! -> #REF! | AF25: 185888.22 | AH25: =J25-AF25 -> -185888.22
B26: 1 | C26: งานระบบไฟฟ้าสาธารณะสำหรับชุมชนรอบโรงไฟฟ้า ประกอบไปด้วย | AH26: =J26-AF26 -> 0
B27: 1.1 | C27: หม้อแปลง 30 kVA 3 เฟส พร้อมชุดฟิวส์ อุปกรณ์ประกอบ และติดตั้ง | G27: ชุด | H27: 1
B28: 1.2 | C28: ตู้ควบคุมไฟฟ้าแสงสว่าง พร้อมอุปกรณ์ประกอบ และติดตั้ง | G28: ชุด | H28: 1
B29: 1.3 | C29: โคมไฟฟ้าถนน LED ขนาด 50W | G29: ชุด | H29: 85
C30: พร้อมติดตั้งคาร์ทริคฟิวส์กันฝน, กิ่งโคมชุบกาวาไนซ์
C31: ขาจับกิ่งโคมแบบปรับได้ชุบกาวาไนซ์
C32: สายไฟฟ้าต่อเข้าโคม และอุปกรณ์ประกอบครบชุด
B33: 1.4 | C33: สาย THW-A 50 sq.mm. พร้อมอุปกรณ์ประกอบ | G33: เมตร | H33: 8800
B34: 1.5 | C34: แรค พร้อมลูกถ้วย 4 ชุด และอุปกรณ์ประกอบ | G34: ชุด | H34: 44
B35: 1.6 | C35: แรค พร้อมลูกถ้วย 2 ชุด และอุปกรณ์ประกอบ | G35: ชุด | H35: 41
B36: 1.7 | C36: แรค พร้อมลูกถ้วย 1 ชุด และอุปกรณ์ประกอบ | G36: ชุด | H36: 44
C38: รวมเงินกลุ่มที่ 1 หมวดงานทาง
C42: รวมเงินงานกลุ่มที่ 1 | J42: =J22+J38 -> 0 | L42: =SUM(L11:L36) -> 0 | Z42: =J42/2300 -> 0
D134: PVC Waterstop " B "

Sheet 2controlhouse
B1: โครงการไฟฟ้าพลังน้ำคลองทุ่งเพล 2
B2: งานโยธา
B3: งานจ้างปรับปรุงประสิทธิภาพและเพิ่มกำลังผลิต โครงการไฟฟ้าพลังน้ำคลองทุ่งเพล
B5: หมวดที่ | C5: รายการงาน | G5: ราคาค่าก่อสร้าง (บาท)
C7: หมวดงานชลประทาน
B8: 2 | C8: งานถางป่า ขุดตอ และงานเปิดหน้าดิน
B9: 4 | C9: งานขุดดินและขุด-ระเบิดหิน
B10: 5 | C10: งานถมบดอัด
B11: 10 | C11: งานเหล็กและอุปกรณ์ชลศาสตร์
B12: 12 | C12: งานก่อสร้างอาคารควบคุม
C13: รวมเงินงานกลุ่มที่ 2 หมวดงานชลประทาน
C15: หมวดงานสะพานและท่อเหลี่ยม
B16: 7 | C16: งานคอนกรีต
C17: รวมเงินงานกลุ่มที่ 2 หมวดงานสะพานและท่อเหลี่ยม
C19: รวมเงินงานกลุ่มที่ 1 (รวมภาษีมูลค่าเพิ่มร้อยละ 7)

Sheet กลุ่มที่2controlhouse
B1: โครงการไฟฟ้าพลังน้ำคลองทุ่งเพล 2
B2: งานโยธา
B3: งานจ้างปรับปรุงประสิทธิภาพและเพิ่มกำลังผลิต โครงการไฟฟ้าพลังน้ำคลองทุ่งเพล
B5: รายการ ที่ | C5: รายละเอียดงาน | G5: ปริมาณงาน | I5: ราคาต่อหน่วย | J5: รวมเป็น
J6: จำนวนเงิน
G7: หน่วย | H7: ปริมาณ | I7: (บาท) | J7: (บาท)
C9: หมวดงานชลประทาน | I9: =#REF! -> #REF!
C10: หมวดที่ 2 งานถางป่า ขุดตอ และงานเปิดหน้าดิน
B11: 2.4(1) | C11: งานถางป่า ขุดตอ และรากไม้ | G11: ตร.ม. | H11: 270
B12: 2.4(2) | C12: งานขุดเปิดหน้าดิน | G12: ลบ.ม. | H12: 81
C13: รวมเงินงานหมวดที่ 2
C14: หมวดที่ 4 งานขุดดินและขุด-ระเบิดหิน
B15: 4.7(1) | C15: งานขุดขนย้ายดิน | G15: ลบ.ม. | H15: 742
B16: 4.7(2) | C16: งานขุดหินผุหรือดินขุดยาก | G16: ลบ.ม. | H16: 186
C17: รวมเงินงานหมวดที่ 4
C19: หมวดที่ 5 งานถมบดอัด
B20: 5.11(1) | C20: งานถมวัสดุบดอัดแน่น | G20: ลบ.ม. | H20: 445
B21: 5.11(2) | C21: งานดินถมบดอัดแน่น | G21: ลบ.ม. | H21: 111
C22: รวมเงินงานหมวดที่ 5
C24: รวมเงิน (ยอดยกไป)
C25: รวมเงิน (ยอดยกมา)
C26: หมวดที่ 10 งานเหล็กและอุปกรณ์ชลศาสตร์
B27: 10.12(1) | C27: งานเหล็กแพลตฟอร์ม (STEEL PLATFORM) | G27: กก. | H27: 308
B28: 10.12(2) | C28: งานเหล็กแผ่น Steel Plate Collar | G28: กก. | H28: 231
B29: 10.12(3) | C29: งานเหล็กฝังในคอนกรีต | G29: กก. | H29: 437
B30: 10.12(4) | C30: งานติดตั้ง Hatchway ขนาด 3.84 x 3.44 ม. | G30: ชุด | H30: 1
B31: 10.12(5) | C31: งานติดตั้ง Hatchway ขนาด 2.94 x 2.62 ม. | G31: ชุด | H31: 1
B32: 10.12(6) | C32: งานติดตั้งประตูบานเหล็กพร้อมวงกบเหล็ก ขนาด 0.9 x 2.0 ม. | G32: ชุด | H32: 1
B33: 10.12(7) | C33: งานจัดหาและติดตั้งราวกันตก | G33: ม. | H33: 66
C34: รวมเงินงานหมวดที่ 10
C35: หมวดที่ 12 การก่อสร้างอาคารควบคุม
B36: 12.11(1) | D36: งานพื้นขัดหยาบ | G36: ตร.ม. | H36: 169
C37: รวมเงินงานหมวดที่ 12
C39: หมวดงานสะพานและท่อเหลี่ยม
C40: หมวดที่ 7 งานคอนกรีต
B41: 7.16(1) | C41: งานคอนกรีตหยาบ | G41: ลบ.ม. | H41: 9.5
B42: 7.16(2) | C42: งานคอนกรีตไม่รวมเหล็กเสริม | G42: ลบ.ม. | H42: 213
B43: 7.16(3) | C43: งานเหล็กเสริมคอนกรีต | G43: กก. | H43: 12780
B44: 7.16(4) | C44: งาน Waterstop type A | G44: ม. | H44: 71.4
B45: 7.16(5) | C45: งาน Joint sealer | G45: ม. | H45: 3
...

Sheet 3PS
B1: โครงการไฟฟ้าพลังน้ำคลองทุ่งเพล 2
B2: งานโยธา
B3: งานจ้างปรับปรุงประสิทธิภาพและเพิ่มกำลังผลิต โครงการไฟฟ้าพลังน้ำคลองทุ่งเพล
B4: หมวดที่ | C4: รายการงาน | G4: ราคาค่าก่อสร้าง (บาท)
C6: หมวดงานชลประทาน
B7: 2 | C7: งานถางป่า ขุดตอ และงานเปิดหน้าดิน
B8: 4 | C8: งานขุดดินและขุด-ระเบิดหิน
B9: 5 | C9: งานถมบดอัด
B10: 10 | C10: งานเหล็กและอุปกรณ์ชลศาสตร์
B11: 11 | C11: งานท่อเหล็ก
C12: รวมเงินงานกลุ่มที่ 3 หมวดงานชลประทาน
C14: หมวดงานสะพานและท่อเหลี่ยม
B15: 7 | C15: งานคอนกรีต
C16: รวมเงินงานกลุ่มที่ 3 หมวดงานสะพานและท่อเหลี่ยม
C19: รวมเงินงานกลุ่มที่ 3 (รวมภาษีมูลค่าเพิ่มร้อยละ 7)
D47: PVC waterstop Type "B"
D51: PVC Waterstop Type "B"
D117: PVC Waterstop " B "

Sheet กลุ่มที่3PS
B1: โครงการไฟฟ้าพลังน้ำคลองทุ่งเพล 2
B2: งานโยธา
B3: งานจ้างปรับปรุงประสิทธิภาพและเพิ่มกำลังผลิต โครงการไฟฟ้าพลังน้ำคลองทุ่งเพล
B4: รายการ ที่ | C4: รายละเอียดงาน | G4: ปริมาณงาน | I4: จำนวนเงิน | J4: รวมเป็น
J5: จำนวนเงิน
G6: หน่วย | H6: ปริมาณ | I6: (บาท) | J6: (บาท)
C7: หมวดงานชลประทาน | I7: =#REF! -> #REF!
C8: หมวดที่ 2 งานถางป่า ขุดตอ และงานเปิดหน้าดิน
B9: 2.4(1) | C9: งานถางป่า ขุดตอ และรากไม้ | G9: ตร.ม. | H9: 10740
B10: 2.4(2) | C10: งานขุดเปิดหน้าดิน | G10: ลบ.ม. | H10: =H9*0.3 -> 3222
C11: รวมเงินงานหมวดที่ 2
C13: หมวดที่ 4 งานขุดดินและขุด-ระเบิดหิน
B14: 4.7(1) | C14: งานขุดขนย้ายดิน | G14: ลบ.ม. | H14: 2680
B15: 4.7(2) | C15: งานขุดหินผุหรือดินขุดยาก | G15: ลบ.ม. | H15: 600
C16: รวมเงินงานหมวดที่ 4
C18: หมวดที่ 5 งานถมบดอัด
B19: 5.11(1) | C19: งานถมวัสดุบดอัดแน่น | G19: ลบ.ม. | H19: =ROUND(2690*1,2) -> 2690
C20: รวมเงินงานหมวดที่ 5
C22: หมวดที่ 10 งานเหล็กและอุปกรณ์ชลศาสตร์
B23: 10.13(1) | C23: งานจัดหาและติดตั้ง Gate Valve ขนาด Ø 1" | G23: ชุด | H23: 3
B24: 10.13(2) | C24: งานจัดหาและติดตั้ง Gate Valve ขนาด Ø 150 mm. | G24: ชุด | H24: 2
B25: 10.13(3) | C25: งานจัดหาและติดตั้ง Gate Valve ขนาด Ø 300 mm. | G25: ชุด | H25: 2
B26: 10.13(4) | C26: งานจัดหาและติดตั้ง Gate Valve ขนาด Ø 800 mm. | G26: ชุด | H26: 1
B27: 10.13(5) | C27: งานจัดหาและติดตั้ง Gate Valve ขนาด Ø 1,500 mm. | G27: ชุด | H27: 1
B28: 10.13(6) | C28: งานจัดหาและติดตั้ง Butterfly Valve Ø 400 มม. | G28: ชุด | H28: 1
B29: 10.13(7) | C29: งานจัดหาและติดตั้ง Howell Bunger Valve ขนาด Ø 400 mm. | G29: ชุด | H29: 1
B30: 10.13(8) | C30: งานจัดหาและติดตั้ง Double Orifice Air valve ขนาด Ø 150 mm. | G30: ชุด | H30: 4
B31: 10.13(9) | C31: งานจัดหาและติดตั้ง Double Orifice Air valve ขนาด Ø 200 mm. | G31: ชุด | H31: 1
C32: รวมเงินงานหมวดที่ 10
C34: หมวดที่ 11 งานท่อเหล็ก
B35: 11.18(1) | C35: งานจัดหาและติดตั้ง ท่อเหล็กเหนียว Ø 800 มม. ความหนา 12.7 มม. | G35: ม. | H35: 1200
B36: 11.18(2) | C36: งานจัดหาและติดตั้ง ท่อเหล็กเหนียว Ø 600 มม. ความหนา 9 มม. | G36: ม. | H36: 36
B37: 11.18(3) | C37: งานจัดหาและติดตั้ง ท่อเหล็กเหนียว Ø 400 มม. ความหนา 7.9 มม. | G37: ม. | H37: 55
B38: 11.18(4) | C38: งานจัดหาและติดตั้ง ท่อเหล็กเหนียว Ø 300 มม. ความหนา 6 มม. | G38: ม. | H38: 6
B39: 11.18(5) | C39: งานจัดหาและติดตั้ง ท่อเหล็กเหนียว Ø 150 มม. ความหนา 6 มม. | G39: ม. | H39: 6
B40: 11.18(6) | C40: งานจัดหาและติดตั้ง ท่อ GALVANIZE STEEL PIPE Ø 1" | G40: ม. | H40: 12
B41: 11.18(7) | C41: งานท่อแยก Wye Branch จากขนาด 1,500 มม. เป็น 800 มม. | G41: ท่อน | H41: 1
B42: 11.18(8) | C42: งานท่อแยก Wye Branch จากขนาด 800 มม. เป็น 400-800 มม. | G42: ท่อน | H42: 1
B43: 11.18(9) | C43: งานท่อแยก Wye Branch จากขนาด 800 มม. เป็น 2-600 มม. | G43: ท่อน | H43: 1
B44: 11.18(10) | C44: งานท่อเหล็กโค้ง Ø 800 มม. หนา 9 มม. | G44: ท่อน | H44: 12
...

Sheet 4PH
B1: โครงการไฟฟ้าพลังน้ำคลองทุ่งเพล 2
B2: งานโยธา
B3: งานจ้างปรับปรุงประสิทธิภาพและเพิ่มกำลังผลิต โครงการไฟฟ้าพลังน้ำคลองทุ่งเพล
B5: หมวดที่ | C5: รายการงาน | G5: ราคาค่าก่อสร้าง (บาท)
C7: หมวดงานชลประทาน
B8: 2 | C8: งานถางป่า ขุดตอ และงานเปิดหน้าดิน
B9: 4 | C9: งานขุดดินและขุด-ระเบิดหิน
B10: 5 | C10: งานถมบดอัด
B11: 10 | C11: งานเหล็กและอุปกรณ์ชลศาสตร์
B12: 12 | C12: งานก่อสร้างอาคารควบคุม
C13: รวมเงินงานกลุ่มที่ 3 หมวดงานชลประทาน
C15: หมวดงานสะพานและท่อเหลี่ยม
B16: 7 | C16: งานคอนกรีต
C17: รวมเงินงานกลุ่มที่ 3 หมวดงานสะพานและท่อเหลี่ยม
C19: รวมเงินงานกลุ่มที่ 4 (รวมภาษีมูลค่าเพิ่มร้อยละ 7)
D49: PVC waterstop Type "B"
D53: PVC Waterstop Type "B"

Sheet กลุ่มที่4 PH
B1: โครงการไฟฟ้าพลังน้ำคลองทุ่งเพล 2
B2: งานโยธา
B3: งานจ้างปรับปรุงประสิทธิภาพและเพิ่มกำลังผลิต โครงการไฟฟ้าพลังน้ำคลองทุ่งเพล
B4: รายการ ที่ | C4: รายละเอียดงาน | G4: ปริมาณงาน | I4: ราคาต่อหน่วย | J4: รวมเป็น
J5: จำนวนเงิน
G6: หน่วย | H6: ปริมาณ | I6: (บาท) | J6: (บาท)
C8: หมวดงานชลประทาน | I8: =#REF! -> #REF!
C9: หมวดที่ 2 งานถางป่า ขุดตอ และงานเปิดหน้าดิน
B10: 2.4(1) | C10: งานถางป่า ขุดตอ และรากไม้ | G10: ตร.ม. | H10: =ROUND(2970*1,2) -> 2970
B11: 2.4(2) | C11: งานขุดเปิดหน้าดิน | G11: ลบ.ม. | H11: 297
C12: รวมเงินงานหมวดที่ 2
C14: หมวดที่ 4 งานขุดดินและขุด-ระเบิดหิน
B15: 4.7(1) | C15: งานขุดขนย้ายดิน | G15: ลบ.ม. | H15: 2730
B16: 4.7(2) | C16: งานขุด-ระเบิดหิน | G16: ลบ.ม. | H16: 5460
B17: 4.7(3) | C17: งานขุดหินผุหรือดินขุดยาก | G17: ลบ.ม. | H17: 910
C18: รวมเงินงานหมวดที่ 4
C20: หมวดที่ 5 งานถมบดอัด
B21: 5.11(1) | C21: งานถมวัสดุบดอัดแน่น | G21: ลบ.ม. | H21: 1024
B22: 5.11(2) | C22: งานถมวัสดุกลับบดอัดแน่น | G22: ลบ.ม. | H22: 256
C23: รวมเงินงานหมวดที่ 5
C26: หมวดที่ 10 งานเหล็กและอุปกรณ์ชลศาสตร์
B27: 10.12(1) | C27: งานจัดหาและติดตั้งบันไดลิง | G27: กก. | H27: 153
B28: 10.12(2) | C28: งานเหล็กแผ่น Steel Plate Collar | G28: กก. | H28: 302
B29: 10.12(3) | C29: งานเหล็กแผ่น Stainless Steel Liner 12 mm. | G29: กก. | H29: 1424
B30: 10.12(4) | C30: งานจัดหาและติดตั้งราวกันตก | G30: ม. | H30: 62
C31: รวมเงินงานหมวดที่ 10
C33: รวมเงิน (ยอดยกไป)
C34: รวมเงิน (ยอดยกมา)
C36: หมวดที่ 12 การก่อสร้างอาคารควบคุม
B37: 12.11(1) | C37: งานอาคาร Power House และ EDG House
C38: 1) | D38: งานผนัง
D39: - | E39: ผนัง 1 งานผนังอิฐก่อฉาบปูน | G39: ตร.ม. | H39: =539+53 -> 592
D40: - | E40: ผนัง 2 บุกระเบื้อง 8" x 8" | G40: ตร.ม. | H40: 12
D41: - | E41: ทาสีผนังภายนอก | G41: ตร.ม. | H41: =450+53 -> 503
D42: - | E42: ทาสีผนังภายใน | G42: ตร.ม. | H42: =683+53 -> 736
C43: 2) | D43: งานพื้น
D44: - | E44: พื้นขัดหยาบ | G44: ตร.ม. | H44: =125+135+88 -> 348
D45: - | E45: พื้นกระเบื้องกันลื่น 12"x12" | G45: ตร.ม. | H45: 4
D46: - | E46: พื้นกระเบื้องขนาด 12"x12" | G46: ตร.ม. | H46: 46
D47: - | E47: พื้นเคลือบอีพอกซี่ | G47: ตร.ม. | H47: 280
...

Sheet 5TR
B1: โครงการไฟฟ้าพลังน้ำคลองทุ่งเพล 2
B2: งานโยธา
B3: งานจ้างปรับปรุงประสิทธิภาพและเพิ่มกำลังผลิต โครงการไฟฟ้าพลังน้ำคลองทุ่งเพล
B5: หมวดที่ | C5: รายการงาน | G5: ราคาค่าก่อสร้าง (บาท)
C7: หมวดงานชลประทาน
B8: 2 | C8: งานถางป่า ขุดตอ และงานเปิดหน้าดิน
B9: 4 | C9: งานขุดดินและขุด-ระเบิดหิน
B10: 5 | C10: งานถมบดอัด
B11: 8 | C11: งานป้องกัน และเพิ่มเสถียรภาพลาดงานขุด
B12: 10 | C12: งานเหล็กและอุปกรณ์ชลศาสตร์
C13: รวมเงินงานกลุ่มที่ 5 หมวดงานชลประทาน
C15: หมวดงานสะพานและท่อเหลี่ยม
B16: 7 | C16: งานคอนกรีต
C17: รวมเงินงานกลุ่มที่ 5 หมวดงานสะพานและท่อเหลี่ยม
C20: รวมเงินงานกลุ่มที่ 5 (รวมภาษีมูลค่าเพิ่มร้อยละ 7)
D52: PVC waterstop Type "B"
D56: PVC Waterstop Type "B"
D122: PVC Waterstop " B "

Sheet กลุ่มที่5 TR
B1: โครงการไฟฟ้าพลังน้ำคลองทุ่งเพล 2
B2: งานโยธา
B3: งานจ้างปรับปรุงประสิทธิภาพและเพิ่มกำลังผลิต โครงการไฟฟ้าพลังน้ำคลองทุ่งเพล
B4: รายการที่ | C4: รายละเอียดงาน | G4: ปริมาณงาน | I4: ราคาต่อหน่วย | J4: รวมเป็น
J5: จำนวนเงิน
G6: หน่วย | H6: ปริมาณ | I6: (บาท) | J6: (บาท)
C7: หมวดงานชลประทาน | I7: ='กลุ่มที่4 PH'!I8 -> #REF!
C8: หมวดที่ 2 งานถางป่า ขุดตอ และงานเปิดหน้าดิน
B9: 2.4(1) | C9: งานถางป่า ขุดตอ และรากไม้ | G9: ตร.ม. | H9: 2200
B10: 2.4(2) | C10: งานขุดเปิดหน้าดิน | G10: ลบ.ม. | H10: =ROUND(H9*0.2,2) -> 440
C11: รวมเงินงานหมวดที่ 2
C13: หมวดที่ 4 งานขุดดินและขุด-ระเบิดหิน
B14: 4.7(1) | C14: งานขุดขนย้ายดิน | G14: ลบ.ม. | H14: 1100
B15: 4.7(2) | C15: งานขุดหินผุหรือดินขุดยาก | G15: ลบ.ม. | H15: 13302
C16: รวมเงินงานหมวดที่ 4
C18: หมวดที่ 5 งานถมบดอัดดิน
B19: 5.11(1) | C19: งานถมวัสดุบดอัดแน่น | G19: ลบ.ม. | H19: 6405
C20: รวมเงินงานหมวดที่ 5
C22: หมวดที่ 8 งานป้องกัน และเพิ่มเสถียรภาพลาดงานขุด
B23: 8.8(3) | C23: งานท่อ และรูระบายน้ำ
C24: - Side Drain | G24: ชุด
C25: - Under Drain | G25: ชุด
B26: 8.8(1) | C26: งานหินเรียง | G26: ลบ.ม. | H26: 675
B27: 8.8(2) | C27: งานแผ่น Geotextile | G27: ตร.ม. | H27: =ROUND(H26*0.5*2*1.2,2) -> 810
B28: 8.8(3) | C28: งานท่อ และรูระบายน้ำ | G28: ชุด | H28: 100
C29: รวมเงินงานหมวดที่ 8
C31: หมวดที่ 10 งานเหล็กและอุปกรณ์ชลศาสตร์
B32: 10.12(1) | C32: งาน Bluck Head Gate | G32: ชุด | H32: 2
B33: 10.12(2) | C33: ='กลุ่มที่4 PH'!C27 -> งานจัดหาและติดตั้งบันไดลิง | G33: ม. | H33: 150
B34: 10.12(3) | C34: Gantry Crane 5 Tons | G34: ชุด | H34: 1
C35: รวมเงินงานหมวดที่ 10
C37: หมวดงานสะพานและท่อเหลี่ยม
C38: หมวดที่ 7 งานคอนกรีต
B39: 7.16(1) | C39: งานคอนกรีตหยาบ | G39: ลบ.ม. | H39: 14
B40: 7.16(2) | C40: งานคอนกรีตไม่รวมเหล็กเสริม | G40: ลบ.ม. | H40: =ROUND(585*1.05,0) -> 614
B41: 7.16(3) | C41: งานเหล็กเสริมคอนกรีต | G41: กก. | H41: =ROUND(H40*75,2) -> 46050
B42: 7.16(4) | C42: งาน PVC Waterstop "A" | G42: ม. | H42: 110
B43: 7.16(5) | C43: งาน Elastic Sealer | G43: ม. | H43: 110
B44: 7.16(6) | C44: งาน Sealing Compound | G44: ตร.ม. | H44: 2
C45: รวมเงินงานหมวดที่ 7
...

Sheet 6Elec.
B1: โครงการไฟฟ้าพลังน้ำคลองทุ่งเพล 2 | I1: วิวรรธน์
B2: งานโยธา
B3: งานจ้างปรับปรุงประสิทธิภาพและเพิ่มกำลังผลิต โครงการไฟฟ้าพลังน้ำคลองทุ่งเพล
B5: หมวดที่ | C5: รายการงาน | G5: ราคาค่าก่อสร้าง (บาท)
C7: หมวดงานชลประทาน
B9: 14 | C9: งานระบบไฟฟ้า
C11: รวมเงินงานกลุ่มที่ 7 หมวดงานชลประทาน (รวมภาษีมูลค่าเพิ่มร้อยละ 7)
C13: รวมเงินงานกลุ่มที่ 5
D107: PVC Waterstop " B "

Sheet กลุ่มที่6 Elec.
B1: โครงการไฟฟ้าพลังน้ำคลองทุ่งเพล 2
B2: งานโยธา
B3: งานจ้างปรับปรุงประสิทธิภาพและเพิ่มกำลังผลิต โครงการไฟฟ้าพลังน้ำคลองทุ่งเพล
B5: รายการ ที่ | C5: รายละเอียดงาน | G5: ปริมาณงาน | I5: ราคาต่อหน่วย | J5: รวมเป็น
J6: จำนวนเงิน
G7: หน่วย | H7: ปริมาณ | I7: (บาท) | J7: (บาท)
C8: หมวดงานชลประทาน | I8: ='กลุ่มที่5 TR'!I7 -> #REF!
C9: หมวดที่ 14 งานระบบไฟฟ้า
B10: 14.13 (1) | C10: แผงจ่ายไฟย่อย | G10: เหมาจ่าย | H10: 1
B11: 14.13 (2) | C11: โคมไฟ สวิทช์ เต้ารับไฟฟ้า พร้อมงานเดินสายไฟฟ้าจาก LP (Powerhouse) | G11: เหมาจ่าย | H11: 1
B12: 14.13 (3) | C12: ระบบไฟถนนบริเวณ Powerhouse | G12: เหมาจ่าย | H12: 1
B13: 14.13 (4) | C13: งานพื้นฐานราก และรั้ว SWITCHYARD | H13: 1
C14: รวมเงินงานกลุ่มที่ 5
D55: PVC waterstop Type "B"
D59: PVC Waterstop Type "B"
D125: PVC Waterstop " B "

Sheet  7สายส่ง
B1: โครงการไฟฟ้าพลังน้ำคลองทุ่งเพล 2 | I1: วิวรรธน์
B2: โครงการไฟฟ้าพลังน้ำคลองทุ่งเพล 2
B3: งานจ้างปรับปรุงประสิทธิภาพและเพิ่มกำลังผลิต โครงการไฟฟ้าพลังน้ำคลองทุ่งเพล
B4: กลุ่มที่ 7 : งานสายส่งไฟฟ้าแรงสูง
B5: หมวดที่ | C5: รายการงาน | G5: ราคาค่าก่อสร้าง (บาท)
C7: หมวดงานชลประทาน
B9: 14 | C9: งานสายส่งไฟฟ้าแรงสูง
C11: รวมเงินงานกลุ่มที่ 6 หมวดงานชลประทาน (รวมภาษีมูลค่าเพิ่มร้อยละ 7)
C13: รวมเงินงานกลุ่มที่ 6
D107: PVC Waterstop " B "

Sheet 7สายส่งไฟฟ้า
B1: โครงการไฟฟ้าพลังน้ำคลองทุ่งเพล 2
B2: งานโยธา
B3: งานจ้างปรับปรุงประสิทธิภาพและเพิ่มกำลังผลิต โครงการไฟฟ้าพลังน้ำคลองทุ่งเพล
B4: รายการ ที่ | C4: รายละเอียดงาน | G4: ปริมาณงาน | I4: ราคาต่อหน่วย | J4: รวมเป็น
J5: จำนวนเงิน
G6: หน่วย | H6: ปริมาณ | I6: (บาท) | J6: (บาท)
C7: หมวดงานชลประทาน
C8: หมวดงานชลประทาน | I8: ='กลุ่มที่4 PH'!I8 -> #REF!
C9: งานสายส่งไฟฟ้าแรงสูง
B10: 14.2(1) | C10: สายส่งไฟฟ้า 22kV 70 sq.mm (SAC) 3 เฟส พร้อมเสาคอนกรีต | G10: กม. | H10: =2.43 -> 2.43
C11: และอุปกรณ์ประกอบแรงสูง
B12: 14.2(3) | C12: โหลดเบรคสวิตซ์ พร้อมอุปกรณ์สำหรับควบคุม | G12: ชุด | H12: 1
C13: งานปรับปรุงและขยายเขตสายส่งไฟฟ้า
B14: 14.2(4) | C14: งานปรับปรุงและขยายเขตสายส่งไฟฟ้า | G14: งาน | H14: 1
C16: รวมเงินงานกลุ่มที่ 6
D57: PVC waterstop Type "B"
D61: PVC Waterstop Type "B"
D127: PVC Waterstop " B "

Sheet Schedule 3
B1: โครงการไฟฟ้าพลังน้ำคลองทุ่งเพล 2
B2: ส่วนที่ 2
B3: งานจ้างปรับปรุงประสิทธิภาพและเพิ่มกำลังผลิต โครงการไฟฟ้าพลังน้ำคลองทุ่งเพล
B4: ตารางแสดงปริมาณงานและราคา
B6: Item No. | C6: Details | D6: Total
D7: (Baht)
B9: 1 | C9: Total Price of Equipment
B10: 2 | C10: Total Price of Maintenance Tools and Instruments
B11: 3 | C11: Price of Erection
B12: 4 | C12: Price of Field Performance Tests
C14: รวมราคาย่อย
C15: ภาษีมูลค่าเพิ่ม 7%
B16: ราคารวมทั้งสิ้น
B18: Note : The Bidder shall breakdown the Price of Maintenance Tools and Instruments as specified
B19: in Clause S1.05 Volume 2 in Schedule 6

Sheet Schedule 4 Sum
B1: ='Schedule 3'!B1 -> โครงการไฟฟ้าพลังน้ำคลองทุ่งเพล 2
B2: ='Schedule 3'!B2 -> ส่วนที่ 2
B3: งานจ้างปรับปรุงประสิทธิภาพและเพิ่มกำลังผลิต โครงการไฟฟ้าพลังน้ำคลองทุ่งเพล
B4: ='Schedule 3'!B4 -> ตารางแสดงปริมาณงานและราคา
B6: Item No. | C6: Details | G6: Total
G7: (Baht)
B9: 1 | C9: ='Schedule 4 Price'!C8 -> Turbine and Governor
B10: 2 | C10: ='Schedule 4 Price'!C13 -> Inlet Valve
B11: 3 | C11: ='Schedule 4 Price'!C16 -> Mechanical Auxiliary Equipment
B12: 4 | C12: ='Schedule 4 Price'!C24 -> Electrical Equipment
B13: 5 | C13: ='Schedule 4 Price'!C43 -> Control, Protection and Alarm System
B24: ราคารวมทั้งสิ้น

Sheet Schedule 4 Price
B1: ='Schedule 3'!B1 -> โครงการไฟฟ้าพลังน้ำคลองทุ่งเพล 2
B2: ='Schedule 3'!B2 -> ส่วนที่ 2
B3: งานจ้างปรับปรุงประสิทธิภาพและเพิ่มกำลังผลิต โครงการไฟฟ้าพลังน้ำคลองทุ่งเพล
B4: รายการเครื่องผลิตไฟฟ้ากังหันน้ำและชุดควบคุม
B6: Item No. | C6: Details | D6: Quantity | E6: Unit | F6: UNIT RATE | G6: Total
F7: BAHT/UNIT | G7: (Baht)
B8: 1 | C8: Turbine and Governor
C9: (1) Turbine | D9: 2 | E9: Set
C10: (2) Hydraulic Governing System | D10: 2 | E10: Set
C11: (3) PLC Governor Cubicle | D11: 2 | E11: Set
C12: Sub - Total
B13: 2 | C13: Inlet Valve
C14: (1) Inet Valve and Bypass Valve | D14: 2 | E14: Set
C15: Sub - Total
B16: 3 | C16: Mechanical Auxiliary Equipment
C17: (1) Overhead Traveling Crane | D17: 1 | E17: Set
C18: (2) Unit Cooling Water System | D18: 2 | E18: Set
C19: (3) Diesel-driven Standby Electric Power System | D19: 1 | E19: Set
C20: (4) Air conditioning, ventilation system | D20: 1 | E20: LS
C21: (5) Water Drainage System | D21: 1 | E21: LS
C22: (6) Portable Fire Extinguishers | D22: 1 | E22: LS
C23: Sub - Total
B24: 4 | C24: Electrical Equipment
C25: (1) Generator with Flywheel | D25: 2 | E25: Set
C26: (2) Excitation System | D26: 2 | E26: Set
C27: (3) Power Transformer | D27: 2 | E27: Set
C28: (4) Station Service Transformer | D28: 1 | E28: Set
C29: (5) 22kV VCB, CT, PT, 22kV Protection and Metering System Panel | D29: 1 | E29: Set
C30: (6) Gen Switchgear, NGR, Relay and Metering System | D30: 2 | E30: Set
C31: (7) LV Distribution Board 400V (MDB) | D31: 1 | E31: set
C32: (8) Station Service DS Cubicle | D32: 1 | E32: System
C33: (9) Battery and Battery Charger | D33: 1 | E33: Set
C34: (10) UPS System | D34: 1 | E34: Set
C35: (11) DC Distribution Panel Board | D35: 1 | E35: Set
C36: (12) Disconnecting Switch, Drop Out fuse and Lightning Arrester | D36: 1 | E36: Lot
... C41: (17) Revenue Meter with Auxiliary | D41: 1 | E41: Set
C42: Sub - Total
B43: 5 | C43: Control, Protection and Alarm System
C44: (1) Control, Protection and Alarm Equipment | D44: 1 | E44: System
C45: (2) Network Communication System with Accessories | D45: 1 | E45: System
...

Sheet สรุปรวม PL1
B1: โครงการไฟฟ้าพลังน้ำขนาดเล็กมากท้ายเขื่อนพลวง 1
B2: งานโยธา งานอุปกรณ์ไฟฟ้า-เครื่องจักรกลและงานสายส่งไฟฟ้า
B3: งานจ้างปรับปรุงประสิทธิภาพและเพิ่มกำลังผลิต โครงการไฟฟ้าพลังน้ำคลองทุ่งเพล
B4: ลำดับ | C4: รายการ | E4: ราคารวม
E5: (บาท)
B6: 1 | C6: งานโยธา (ส่วนที่ 1)
D7: หมวดงานชลประทาน
D8: หมวดงานสะพานและท่อเหลี่ยม
C9: รวมงานโยธา (ส่วนที่ 1)
B11: 2 | C11: งานอุปกรณ์เครื่องจักรกลและไฟฟ้า (ส่วนที่ 2)
C14: รวมราคาค่าก่อสร้างโครงการทั้งสิ้น (รวมภาษีมูลค่าเพิ่มร้อยละ 7)

Sheet PL1 สรุปรวมงานโยธา-F
B1: โครงการไฟฟ้าพลังน้ำขนาดเล็กมากท้ายเขื่อนพลวง 1
B2: ส่วนที่ 1
B3: งานจ้างปรับปรุงประสิทธิภาพและเพิ่มกำลังผลิต โครงการไฟฟ้าพลังน้ำคลองทุ่งเพล
B5: กลุ่มที่ | D5: รายการ | E5: ราคารวม
E6: (บาท)
C7: หมวดงานชลประทาน
B8: 1 | D8: ท่อส่งน้ำ (Penstock)
B9: 2 | D9: อาคารโรงไฟฟ้า (Power Box)
B10: 3 | D10: งานสายส่งไฟฟ้าแรงสูง
D11: รวมเงินค่าก่อสร้างหมวดงานชลประทาน
C13: หมวดงานสะพานและท่อเหลี่ยม
B14: 1 | D14: ท่อส่งน้ำ (Penstock)
B15: 2 | D15: อาคารโรงไฟฟ้า(Power Box)
D16: รวมเงินค่าก่อสร้างหมวดงานสะพานและท่อเหลี่ยม
D18: รวมเป็นเงินทั้งสิ้น (รวมภาษีมูลค่าเพิ่มร้อยละ 7)

Sheet 1 PS
B1: โครงการไฟฟ้าพลังน้ำขนาดเล็กมากท้ายเขื่อนพลวง 1
B2: งานโยธา
B3: งานจ้างปรับปรุงประสิทธิภาพและเพิ่มกำลังผลิต โครงการไฟฟ้าพลังน้ำคลองทุ่งเพล
B4: หมวดที่ | C4: รายการงาน | G4: ราคาค่าก่อสร้าง (บาท)
C5: หมวดงานชลประทาน
B6: 2 | C6: งานถางป่า ขุดตอ และงานเปิดหน้าดิน
B7: 3 | C7: งานขุดดินและขุด-ระเบิดหิน
B8: 4 | C8: งานถมบดอัด
B9: 6 | C9: งานเหล็กและอุปกรณ์ชลศาสตร์
B10: 7 | C10: งานท่อเหล็ก
B11: 8 | C11: งานเบ็ดเตล็ด (MISCELLANEOUS)
C12: รวมเงินหมวดงานชลประทาน
C14: หมวดงานสะพานและท่อเหลี่ยม
B15: 5 | C15: งานคอนกรีต
C16: รวมเงินหมวดงานสะพานและท่อเหลี่ยม
C18: รวมเงินงานกลุ่มที่ 1 (รวมภาษีมูลค่าเพิ่มร้อยละ 7)
D46: PVC waterstop Type "B"
D50: PVC Waterstop Type "B"
D116: PVC Waterstop " B "

Sheet กลุ่มที่1 PS
B1: โครงการไฟฟ้าพลังน้ำขนาดเล็กมากท้ายเขื่อนพลวง 1
B2: งานโยธา
B3: งานจ้างปรับปรุงประสิทธิภาพและเพิ่มกำลังผลิต โครงการไฟฟ้าพลังน้ำคลองทุ่งเพล
B4: รายการ ที่ | C4: รายละเอียดงาน | G4: ปริมาณงาน | I4: ราคาต่อหน่วย | J4: รวมเป็น
J5: จำนวนเงิน
G6: หน่วย | H6: ปริมาณ | I6: (บาท) | J6: (บาท)
C7: หมวดงานชลประทาน
C8: หมวดที่ 2 งานถางป่า ขุดตอ และงานเปิดหน้าดิน
B9: 2.4(1) | C9: งานถางป่า ขุดตอ และรากไม้ | G9: ตร.ม. | H9: 120
B10: 2.4(2) | C10: งานขุดเปิดหน้าดิน | G10: ลบ.ม. | H10: =120*0.2 -> 24
C11: รวมเงินงานหมวดที่ 2
C13: หมวดที่ 3 งานขุดดินและขุด-ระเบิดหิน
B14: 3.4(1) | C14: งานขุดขนย้ายดิน | G14: ลบ.ม. | H14: 31
B15: 3.4(2) | C15: งานขุดหินผุหรือดินขุดยาก | G15: ลบ.ม. | H15: 3
C16: รวมเงินงานหมวดที่ 3
C18: หมวดที่ 4 งานถมบดอัด
B19: 4.11(1) | C19: งานดินถมบดอัดแน่น | G19: ลบ.ม. | H19: 30
C20: รวมเงินงานหมวดที่ 4
C22: หมวดที่ 6 งานเหล็กและอุปกรณ์ชลศาสตร์
B23: 6.12(1) | C23: งานจัดหาและติดตั้ง Butterfly valve Ø 600 มม. | G23: ชุด | H23: 2
B24: 6.12(2) | C24: งานจัดหาและติดตั้ง Reducing valve Ø 600 มม. | G24: ชุด | H24: 1
C25: รวมเงินงานหมวดที่ 6
C27: หมวดที่ 7 งานท่อเหล็ก
B28: 7.17(1) | C28: งานจัดหาและติดตั้ง ท่อเหล็กเหนียว Ø 600 มม. ความหนา 6 มม. | G28: ม. | H28: 30
B29: 7.17(2) | C29: งานจัดหาและติดตั้ง ท่อเหล็กเหนียว Ø 500 มม. ความหนา 6 มม. | G29: ม. | H29: 3
B30: 7.17(3) | C30: งานท่อลดจากขนาด 600 มม. เป็น 500 มม. | G30: ท่อน | H30: 1
B31: 7.17(4) | C31: งานท่อแยก Wye Branch จากขนาด 600 มม. เป็น 600 มม. | G31: ท่อน | H31: 1
B32: 7.17(5) | C32: งานท่อเหล็กโค้ง Ø 600 มม. หนา 6 มม. | G32: ชุด | H32: 2
B33: 7.17(6) | C33: งานเหล็กยึดและรองรับท่อเหล็ก Ø 600 มม. พร้อมอุปกรณ์ประกอบ | G33: ชุด | H33: 7
B34: 7.17(7) | C34: งานจัดหาและติดตั้ง Mechanical Coupling ขนาด Ø 500 มม. | G34: ชุด | H34: 1
B35: 7.17(8) | C35: งานจัดหาและติดตั้ง Mechanical Coupling ขนาด Ø 600 มม. | G35: ชุด | H35: 3
C36: รวมเงินงานหมวดที่ 7
C38: หมวดที่ 8 งานเบ็ดเตล็ด (MISCELLANEOUS)
B39: 8.7(1) | C39: งานหินเรียง | G39: ลบ.ม. | H39: 15
B40: 8.7(2) | C40: งานแผ่น Geotextile | G40: ตร.ม. | H40: 20
C41: รวมเงินงานหมวดที่ 8
C43: หมวดงานสะพานและท่อเหลี่ยม
C44: หมวดที่ 5 งานคอนกรีต
B45: 5.16(1) | C45: งานคอนกรีตหยาบ | G45: ลบ.ม. | H45: 1
B46: 5.16(2) | C46: งานคอนกรีตผสมหินใหญ่ | G46: ลบ.ม. | H46: 22
...

Sheet 2 PH
B1: โครงการไฟฟ้าพลังน้ำขนาดเล็กมากท้ายเขื่อนพลวง 1
B2: งานโยธา
B3: งานจ้างปรับปรุงประสิทธิภาพและเพิ่มกำลังผลิต โครงการไฟฟ้าพลังน้ำคลองทุ่งเพล
B5: หมวดที่ | C5: รายการงาน | G5: ราคาค่าก่อสร้าง (บาท)
C6: หมวดงานชลประทาน
B7: 2 | C7: งานถางป่า ขุดตอ และงานเปิดหน้าดิน
B8: 3 | C8: งานขุดดินและขุด-ระเบิดหิน
B9: 4 | C9: งานถมบดอัด
B10: 6 | C10: งานเหล็ก
C11: รวมเงินหมวดงานชลประทาน
C13: หมวดงานสะพานและท่อเหลี่ยม
B14: 5 | C14: งานคอนกรีต
C15: รวมเงินหมวดงานสะพานและท่อเหลี่ยม
C17: รวมเงินงานกลุ่มที่ 2 (รวมภาษีมูลค่าเพิ่มร้อยละ 7)
D47: PVC waterstop Type "B"
D51: PVC Waterstop Type "B"

Sheet กลุ่มที่2 PH
B1: โครงการไฟฟ้าพลังน้ำขนาดเล็กมากท้ายเขื่อนพลวง 1
B2: งานโยธา
B3: งานจ้างปรับปรุงประสิทธิภาพและเพิ่มกำลังผลิต โครงการไฟฟ้าพลังน้ำคลองทุ่งเพล
B4: รายการ ที่ | C4: รายละเอียดงาน | G4: ปริมาณงาน | I4: ราคาต่อหน่วย | J4: รวมเป็น
J5: จำนวนเงิน
G6: หน่วย | H6: ปริมาณ | I6: (บาท) | J6: (บาท)
C7: หมวดงานชลประทาน
C8: หมวดที่ 2 งานถางป่า ขุดตอ และงานเปิดหน้าดิน
B9: 2.4(1) | C9: งานถางป่า ขุดตอ และรากไม้ | G9: ตร.ม. | H9: 50
B10: 2.4(2) | C10: งานขุดเปิดหน้าดิน | G10: ลบ.ม. | H10: 10
C11: รวมเงินงานหมวดที่ 2
C13: หมวดที่ 3 งานขุดดินและขุด-ระเบิดหิน
B14: 3.4(1) | C14: งานขุดขนย้ายดิน | G14: ลบ.ม. | H14: 20
C15: รวมเงินงานหมวดที่ 3
C17: หมวดที่ 4 งานถมบดอัด
B18: 4.11(1) | C18: งานดินถมบดอัดแน่น | G18: ลบ.ม. | H18: 20
B19: 4.11(2) | C19: งานถมวัสดุกลับบดอัดแน่น | G19: ลบ.ม. | H19: 5
C20: รวมเงินงานหมวดที่ 4
C22: หมวดที่ 6 งานเหล็กและอุปกรณ์ชลศาสตร์
B23: 6.12(1) | C23: งานเหล็กแผ่น Stainless Steel Liner 12 mm. | G23: กก. | H23: 232.91
C24: รวมเงินงานหมวดที่ 6
C26: หมวดงานสะพานและท่อเหลี่ยม
C27: หมวดที่ 5 งานคอนกรีต
B28: 5.16(1) | C28: งานคอนกรีตหยาบ | G28: ลบ.ม. | H28: 3
B29: 5.16(2) | C29: งานคอนกรีตไม่รวมเหล็กเสริม | G29: ลบ.ม. | H29: 40
B30: 5.16(3) | C30: งานเหล็กเสริมคอนกรีต | G30: กก. | H30: 760
B31: 5.16(4) | C31: งาน Waterstop type A | G31: ม. | H31: 10
B32: 5.16(5) | C32: งาน Joint sealer | G32: ม. | H32: 10
C33: รวมเงินงานหมวดที่ 5
C35: รวมเงินงานกลุ่มที่ 2

Sheet part 3สายส่ง
B1: โครงการไฟฟ้าพลังน้ำคลองทุ่งเพล 2 | I1: วิวรรธน์
B2: โครงการไฟฟ้าพลังน้ำขนาดเล็กมากท้ายเขื่อนพลวง 1
B3: งานจ้างปรับปรุงประสิทธิภาพและเพิ่มกำลังผลิต โครงการไฟฟ้าพลังน้ำคลองทุ่งเพล
B4: กลุ่มที่ 3 : งานสายส่งไฟฟ้า
B5: หมวดที่ | C5: รายการงาน | G5: ราคาค่าก่อสร้าง (บาท)
C7: หมวดงานชลประทาน
B8: 1.4 | C8: งานสายส่งไฟฟ้าแรงสูง
C13: รวมเงินงานกลุ่มที่ 3 (รวมภาษีมูลค่าเพิ่มร้อยละ 7)
D107: PVC Waterstop " B "

Sheet สายส่งไฟฟ้า
B1: โครงการไฟฟ้าพลังน้ำขนาดเล็กมากท้ายเขื่อนพลวง 1
B2: งานโยธา
B3: งานจ้างปรับปรุงประสิทธิภาพและเพิ่มกำลังผลิต โครงการไฟฟ้าพลังน้ำคลองทุ่งเพล
B5: รายการ ที่ | C5: รายละเอียดงาน | G5: ปริมาณงาน | I5: ราคาต่อหน่วย | J5: รวมเป็น
J6: จำนวนเงิน
G7: หน่วย | H7: ปริมาณ | I7: (บาท) | J7: (บาท)
C8: หมวดงานชลประทาน
C9: หมวดงานชลประทาน | I9: =#REF! -> #REF!
C10: งานสายส่งไฟฟ้า
C11: งานระบบไฟฟ้า
B12: 1.4(1) | C12: สายส่งไฟฟ้า 400V พร้อมอุปกรณ์ประกอบ | G12: m | H12: =1150*4 -> 4600
B13: 1.4(2) | C13: เสาคอนกรีตสูง 9 เมตรพร้อมอุปกรณ์ประกอบ | H13: 2
B14: 1.4(3) | C14: แรค พร้อมลูกถ้วย 4 ชุด และอุปกรณ์ประกอบ | G14: set | H14: 37
C16: รวมเงินงานกลุ่มที่ 3
D57: PVC waterstop Type "B"
D61: PVC Waterstop Type "B"
D127: PVC Waterstop " B "

Sheet Schedule 2
B1: โครงการไฟฟ้าพลังน้ำขนาดเล็กมากท้ายเขื่อนพลวง 1
B2: ส่วนที่ 2
B3: งานจ้างปรับปรุงประสิทธิภาพและเพิ่มกำลังผลิต โครงการไฟฟ้าพลังน้ำคลองทุ่งเพล
B4: ตารางแสดงปริมาณงานและราคา
B6: รายการที่ | C6: รายละเอียดงาน | D6: ราคารวมทั้งสิ้น
D7: (บาท)
B9: 1 | C9: Total Price of Equipment
B10: 2 | C10: Total Price of Maintenance Tools and Instruments*
B11: 3 | C11: Price of Erection
B12: 4 | C12: Price of Field Performance Tests
C14: รวมราคา
C15: ภาษีมูลค่าเพิ่ม 7%
B16: ราคารวมทั้งสิ้น
B18: Note : The Bidder shall breakdown the Price of Maintenance Tools and Instruments in Schedule 6

Sheet Schedule 2 Sum
B1: ='Schedule 2'!B1 -> โครงการไฟฟ้าพลังน้ำขนาดเล็กมากท้ายเขื่อนพลวง 1
B2: ='Schedule 2'!B2 -> ส่วนที่ 2
B3: งานจ้างปรับปรุงประสิทธิภาพและเพิ่มกำลังผลิต โครงการไฟฟ้าพลังน้ำคลองทุ่งเพล
B4: ='Schedule 2'!B4 -> ตารางแสดงปริมาณงานและราคา
B6: รายการที่ | C6: รายละเอียดงาน | G6: ราคารวมทั้งสิ้น
G7: (บาท)
B9: 1 | C9: ='Schedule 2 Price'!C8 -> TURBINE AND GOVERNOR
B10: 2 | C10: ='Schedule 2 Price'!C12 -> INLET VALVE
B11: 3 | C11: ='Schedule 2 Price'!C15 -> GEAR BOX
B12: 4 | C12: ='Schedule 2 Price'!C18 -> MECHANICAL AUXILIARY EQUIPMENT
B13: 5 | C13: ='Schedule 2 Price'!C23 -> ELECTRICAL EQUIPMENT
B14: 6 | C14: ='Schedule 2 Price'!C35 -> CONTROL, PROTECTION AND MONITORING
B24: ราคารวมทั้งสิ้น

Sheet Schedule 2 Price
B1: โครงการไฟฟ้าพลังน้ำขนาดเล็กมากท้ายเขื่อนพลวง 1
B2: ส่วนที่ 2
B3: งานจ้างปรับปรุงประสิทธิภาพและเพิ่มกำลังผลิต โครงการไฟฟ้าพลังน้ำคลองทุ่งเพล
B4: รายการเครื่องผลิตไฟฟ้ากังหันน้ำและชุดควบคุม
B6: รายการที่ | C6: รายละเอียดงาน | D6: ปริมาณงาน | E6: หน่วย | F6: ราคาต่อหน่วย | G6: ราคารวมทั้งสิ้น
G7: (บาท)
B8: 1 | C8: TURBINE AND GOVERNOR
C9: (1) TURBINE | D9: 1 | E9: SET
C10: (2) GOVERNING SYSTEM | D10: 1 | E10: SET
C11: ราคารวมรายการ 1
B12: 2 | C12: INLET VALVE
C13: (1) INLET VALVE AND BYPASS VALVE | D13: 1 | E13: SET
C14: ราคารวมรายการ 2
B15: 3 | C15: GEAR BOX
C16: (1) GEAR BOX | D16: 1 | E16: SET
C17: ราคารวมรายการ 3
B18: 4 | C18: MECHANICAL AUXILIARY EQUIPMENT
C19: (1) ElECTRIC HOIST AND SUPPORT | D19: 1 | E19: LS
C20: (2) POWER BOX WITH VENTILATION AND AIR CONDITIONING | D20: 1 | E20: LS
C21: (3) FIRE PROTECTION EQUIPMENT | D21: 1 | E21: LS
C22: ราคารวมรายการ 4
B23: 5 | C23: ELECTRICAL EQUIPMENT
C24: (1) GENERATOR AND AUXILIARY EQUIPMENT | D24: 1 | E24: SET
C25: (2) LV SWITCHGEAR AC,DC PANEL | D25: 1 | E25: SYSTEM
C26: DISCONNECTING SWITCH AND ATS
C27: (3) DUMMY LOAD | D27: 1 | E27: SET
C28: (4) CABLE AND RACEWAY | D28: 1 | E28: LS
C29: (5) GROUNDING SYSTEM AND LIGHTNING PROTECTION SYSTEM | D29: 1 | E29: LS
C30: (6) LIGHTING AND RECEPTACLE SOCKET | D30: 1 | E30: LS
C31: (7) EMERGENCY LIGHTING AND EXIT SIGN | D31: 1 | E31: SET
C32: (8) CCTV SYSTEM | D32: 1 | E32: SYSTEM
C33: (9) FIRE DETECTION AND ALARM SYSTEM | D33: 1 | E33: SYSTEM
C34: ราคารวมรายการ 5
B35: 6 | C35: CONTROL, PROTECTION AND MONITORING
C36: (1) CONTROL, PROTECTION, METERING | D36: 1 | E36: LS
C37: AND MONITORING SYSTEM
C38: ราคารวมรายการ 6

Sheet สรุปรวม PL2
B1: โครงการไฟฟ้าพลังน้ำขนาดเล็กมากท้ายเขื่อนพลวง 2
B2: งานโยธา งานอุปกรณ์ไฟฟ้า-เครื่องจักรกลและงานสายส่งไฟฟ้า
B3: งานจ้างปรับปรุงประสิทธิภาพและเพิ่มกำลังผลิต โครงการไฟฟ้าพลังน้ำคลองทุ่งเพล
B4: ลำดับ | C4: รายการ | E4: ราคารวม
E5: (บาท)
B6: 1 | C6: งานโยธา (ส่วนที่ 1)
D7: หมวดงานชลประทาน
D8: หมวดงานสะพานและท่อเหลี่ยม
C9: รวมงานโยธา (ส่วนที่ 1)
B11: 2 | C11: งานอุปกรณ์เครื่องจักรกลและไฟฟ้า (ส่วนที่ 2)
C15: รวมราคาค่าก่อสร้างโครงการทั้งสิ้น (รวมภาษีมูลค่าเพิ่มร้อยละ 7)

Sheet PL2 สรุปรวมงานโยธา-F
B1: โครงการไฟฟ้าพลังน้ำขนาดเล็กมากท้ายเขื่อนพลวง 2
B2: ส่วนที่ 1
B3: งานจ้างปรับปรุงประสิทธิภาพและเพิ่มกำลังผลิต โครงการไฟฟ้าพลังน้ำคลองทุ่งเพล
B5: กลุ่มที่ | D5: รายการ | E5: ราคารวม
E6: (บาท)
D7: หมวดงานชลประทาน
B8: 1 | D8: ท่อส่งน้ำ (Penstock)
B9: 2 | D9: อาคารโรงไฟฟ้า (Power Box)
B10: 3 | D10: งานสายส่งไฟฟ้าแรงสูง
D11: รวมเงินค่าก่อสร้างหมวดงานชลประทาน
D13: หมวดงานสะพานและท่อเหลี่ยม
B14: 1 | D14: ท่อส่งน้ำ (Penstock)
B15: 2 | D15: อาคารโรงไฟฟ้า (Power Box)
D16: รวมเงินค่าก่อสร้างหมวดงานสะพานและท่อเหลี่ยม
D18: รวมเป็นเงินทั้งสิ้น (รวมภาษีมูลค่าเพิ่มร้อยละ 7)

Sheet 1 PS PL2
B1: โครงการไฟฟ้าพลังน้ำขนาดเล็กมากท้ายเขื่อนพลวง 2
B2: งานโยธา
B3: งานจ้างปรับปรุงประสิทธิภาพและเพิ่มกำลังผลิต โครงการไฟฟ้าพลังน้ำคลองทุ่งเพล
B5: หมวดที่ | C5: รายการงาน | G5: ราคาค่าก่อสร้าง (บาท)
C7: หมวดงานชลประทาน
B8: 2 | C8: งานถางป่า ขุดตอ และงานเปิดหน้าดิน
B9: 3 | C9: งานขุดดินและขุด-ระเบิดหิน
B10: 4 | C10: งานถมบดอัด
B11: 6 | C11: งานเหล็กและอุปกรณ์ชลศาสตร์
B12: 7 | C12: งานท่อเหล็ก
C13: รวมเงินหมวดงานชลประทาน
C15: หมวดงานสะพานและท่อเหลี่ยม
B16: 5 | C16: งานคอนกรีต
C17: รวมเงินหมวดงานสะพานและท่อเหลี่ยม
C19: รวมเงินงานกลุ่มที่ 1 (รวมภาษีมูลค่าเพิ่มร้อยละ 7)
D47: PVC waterstop Type "B"
D51: PVC Waterstop Type "B"
D117: PVC Waterstop " B "

Sheet กลุ่มที่1 PS PL2
B1: โครงการไฟฟ้าพลังน้ำขนาดเล็กมากท้ายเขื่อนพลวง 2
B2: งานโยธา
B3: งานจ้างปรับปรุงประสิทธิภาพและเพิ่มกำลังผลิต โครงการไฟฟ้าพลังน้ำคลองทุ่งเพล
B4: รายการ ที่ | C4: รายละเอียดงาน | G4: ปริมาณงาน | I4: ราคาต่อหน่วย | J4: รวมเป็น
J5: จำนวนเงิน
G6: หน่วย | H6: ปริมาณ | I6: (บาท) | J6: (บาท)
C7: หมวดงานชลประทาน | I7: =#REF! -> #REF!
C8: หมวดที่ 2 งานถางป่า ขุดตอ และงานเปิดหน้าดิน
B9: 2.4(1) | C9: งานถางป่า ขุดตอ และรากไม้ | G9: ตร.ม. | H9: 40
B10: 2.4(2) | C10: งานขุดเปิดหน้าดิน | G10: ลบ.ม. | H10: 8
C11: รวมเงินงานหมวดที่ 2
C13: หมวดที่ 3 งานขุดดินและขุด-ระเบิดหิน
B14: 3.4(1) | C14: งานขุดขนย้ายดิน | G14: ลบ.ม. | H14: 6
B15: 3.4(2) | C15: งานขุดหินผุหรือดินขุดยาก | G15: ลบ.ม. | H15: 1
C16: รวมเงินงานหมวดที่ 3
C18: หมวดที่ 4 งานถมบดอัด
B19: 4.11(1) | C19: งานดินถมบดอัดแน่น | G19: ลบ.ม. | H19: 2
C20: รวมเงินงานหมวดที่ 4
C22: หมวดที่ 6 งานเหล็กและอุปกรณ์ชลศาสตร์
B23: 6.12(1) | C23: งานจัดหาและติดตั้ง Butterfly valve Ø 600 มม. | G23: ชุด | H23: 1
C24: รวมเงินงานหมวดที่ 6
C26: หมวดที่ 7 งานท่อเหล็ก
B27: 7.17(1) | C27: งานจัดหาและติดตั้ง ท่อเหล็กเหนียว Ø 600 มม. ความหนา 7.9 มม. | G27: ม. | H27: 12
B28: 7.17(2) | C28: งานท่อแยก Wye Branch จากขนาด 1000 มม. เป็น 600 มม. | G28: ท่อน | H28: 1
B29: 7.17(3) | C29: MECHANICAL COUPLING ขนาด 0.60 ม. | G29: ชุด | H29: 2
C30: รวมเงินงานหมวดที่ 7
C32: หมวดงานสะพานและท่อเหลี่ยม
C33: หมวดที่ 5 งานคอนกรีต
B34: 5.16(1) | C34: งานคอนกรีตหยาบ | G34: ลบ.ม. | H34: 1
B35: 5.16(2) | C35: งานคอนกรีตไม่รวมเหล็กเสริม (Thrust Block, Anchor Block ,Pipe Support) | G35: ลบ.ม. | H35: 10
B36: 5.16(3) | C36: งานเหล็กเสริมคอนกรีต | G36: กก. | H36: 500
C37: รวมเงินงานหมวดที่ 5
C40: รวมเงินงานกลุ่มที่ 1
D90: PVC Waterstop " B "

Sheet 2 PH PL2
B1: โครงการไฟฟ้าพลังน้ำขนาดเล็กมากท้ายเขื่อนพลวง 2
B2: งานโยธา
B3: งานจ้างปรับปรุงประสิทธิภาพและเพิ่มกำลังผลิต โครงการไฟฟ้าพลังน้ำคลองทุ่งเพล
B5: หมวดที่ | C5: รายการงาน | G5: ราคาค่าก่อสร้าง (บาท)
C7: หมวดงานชลประทาน
B8: 2 | C8: งานถางป่า ขุดตอ และงานเปิดหน้าดิน
B9: 3 | C9: งานขุดดินและขุด-ระเบิดหิน
B10: 4 | C10: งานถมบดอัด
B11: 6 | C11: งานเหล็ก
C12: รวมเงินหมวดงานชลประทาน
C14: หมวดงานสะพานและท่อเหลี่ยม
B15: 5 | C15: งานคอนกรีต
C16: รวมเงินหมวดงานงานสะพานและท่อเหลี่ยม
C18: รวมเงินงานกลุ่มที่ 2 (รวมภาษีมูลค่าเพิ่มร้อยละ 7)
D48: PVC waterstop Type "B"
D52: PVC Waterstop Type "B"

Sheet กลุ่มที่2 PH PL2
B1: โครงการไฟฟ้าพลังน้ำขนาดเล็กมากท้ายเขื่อนพลวง 2
B2: งานโยธา
B3: งานจ้างปรับปรุงประสิทธิภาพและเพิ่มกำลังผลิต โครงการไฟฟ้าพลังน้ำคลองทุ่งเพล
B4: รายการ ที่ | C4: รายละเอียดงาน | G4: ปริมาณงาน | I4: ราคาต่อหน่วย | J4: รวมเป็น
J5: จำนวนเงิน
G6: หน่วย | H6: ปริมาณ | I6: (บาท) | J6: (บาท)
C7: หมวดงานชลประทาน | I7: =#REF! -> #REF!
C8: หมวดที่ 2 งานถางป่า ขุดตอ และงานเปิดหน้าดิน
B9: 2.4(1) | C9: งานถางป่า ขุดตอ และรากไม้ | G9: ตร.ม. | H9: 95
B10: 2.4(2) | C10: งานขุดเปิดหน้าดิน | G10: ลบ.ม. | H10: 20
C11: รวมเงินงานหมวดที่ 2
C13: หมวดที่ 3 งานขุดดินและขุด-ระเบิดหิน
B14: 3.4(1) | C14: งานขุดขนย้ายดิน | G14: ลบ.ม. | H14: 110
C15: รวมเงินงานหมวดที่ 3
C17: หมวดที่ 4 งานถมบดอัด
B18: 4.11(1) | C18: งานดินถมบดอัดแน่น | G18: ลบ.ม. | H18: 35
B19: 4.11(2) | C19: งานถมวัสดุกลับบดอัดแน่น | G19: ลบ.ม. | H19: 5
C20: รวมเงินงานหมวดที่ 4
C22: หมวดที่ 6 งานเหล็กและอุปกรณ์ชลศาสตร์
B23: 6.12(1) | C23: งานเหล็กแผ่น Stainless Steel Liner 12 mm. | G23: กก. | H23: =1.8*2*0.012*7850 -> 339.12
B24: 6.12(2) | C24: งานจัดหาและติดตั้งราวกันตก | G24: ม. | H24: 16
C25: รวมเงินงานหมวดที่ 6
C27: หมวดงานสะพานและท่อเหลี่ยม
C28: หมวดที่ 5 งานคอนกรีต
B29: 5.16(1) | C29: งานคอนกรีตหยาบ | G29: ลบ.ม. | H29: 5
B30: 5.16(2) | C30: งานคอนกรีตไม่รวมเหล็กเสริม | G30: ลบ.ม. | H30: 35
B31: 5.16(3) | C31: งานเหล็กเสริมคอนกรีต | G31: กก. | H31: 2100
B32: 5.16(4) | C32: งาน Waterstop type A | G32: ม. | H32: 6
B33: 5.16(5) | C33: งาน Joint sealer | G33: ม. | H33: 6
C34: รวมเงินงานหมวดที่ 5
C36: รวมเงินงานกลุ่มที่ 2

Sheet 3สายส่ง PL2
B1: โครงการไฟฟ้าพลังน้ำคลองทุ่งเพล 2 | I1: วิวรรธน์
B2: โครงการไฟฟ้าพลังน้ำขนาดเล็กมากท้ายเขื่อนพลวง 2
B3: งานจ้างปรับปรุงประสิทธิภาพและเพิ่มกำลังผลิต โครงการไฟฟ้าพลังน้ำคลองทุ่งเพล
B4: กลุ่มที่ 3 : งานสายส่งไฟฟ้า
B5: หมวดที่ | C5: รายการงาน | G5: ราคาค่าก่อสร้าง (บาท)
C7: หมวดงานชลประทาน
B9: 14 | C9: งานสายส่งไฟฟ้า
C11: รวมเงินงานกลุ่มที่ 3 หมวดงานชลประทาน (รวมภาษีมูลค่าเพิ่มร้อยละ 7)
C13: รวมเงินงานกลุ่มที่ 3
D107: PVC Waterstop " B "

Sheet สายส่งไฟฟ้า PL2
B1: โครงการไฟฟ้าพลังน้ำขนาดเล็กมากท้ายเขื่อนพลวง 2
B2: งานโยธา
B3: งานจ้างปรับปรุงประสิทธิภาพและเพิ่มกำลังผลิต โครงการไฟฟ้าพลังน้ำคลองทุ่งเพล
B5: รายการ ที่ | C5: รายละเอียดงาน | G5: ปริมาณงาน | I5: ราคาต่อหน่วย | J5: รวมเป็น
J6: จำนวนเงิน
G7: หน่วย | H7: ปริมาณ | I7: (บาท) | J7: (บาท)
C8: หมวดงานชลประทาน
C9: หมวดงานชลประทาน | I9: =#REF! -> #REF!
C10: งานสายส่งไฟฟ้า
C11: งานระบบไฟฟ้า
B12: 14(1) | C12: สายส่งไฟฟ้า 400V พร้อมอุปกรณ์ประกอบ | G12: m | H12: =(320*7) -> 2240
B13: 14(2) | C13: เสาคอนกรีตสูง 9 เมตรพร้อมอุปกรณ์ประกอบ | H13: 3
B14: 14(3) | C14: แรค พร้อมลูกถ้วย 4 ชุด และอุปกรณ์ประกอบ | G14: set | H14: 12
B15: 14(4) | C15: แรค พร้อมลูกถ้วย 3 ชุด และอุปกรณ์ประกอบ | G15: set | H15: 12
C17: รวมเงินงานกลุ่มที่ 3
D58: PVC waterstop Type "B"
D62: PVC Waterstop Type "B"
D128: PVC Waterstop " B "

Sheet Schedule 2 PL2
B1: โครงการไฟฟ้าพลังน้ำขนาดเล็กมากท้ายเขื่อนพลวง 2
B2: ส่วนที่ 2
B3: งานจ้างปรับปรุงประสิทธิภาพและเพิ่มกำลังผลิต โครงการไฟฟ้าพลังน้ำคลองทุ่งเพล
B4: ตารางแสดงปริมาณงานและราคา
B6: รายการที่ | C6: รายละเอียดงาน | D6: ราคารวมทั้งสิ้น
D7: (บาท)
B9: 1 | C9: Total Price of Equipment
B10: 2 | C10: Total Price of Maintenance Tools and Instruments*
B11: 3 | C11: Price of Erection
B12: 4 | C12: Price of Field Performance Tests
C14: รวมราคา
C15: ภาษีมูลค่าเพิ่ม 7%
B16: ราคารวมทั้งสิ้น
B18: Note : The Bidder shall breakdown the Price of Maintenance Tools and Instruments in Schedule 6

Sheet Schedule 2 Sum PL2
B1: ='Schedule 2 PL2'!B1 -> โครงการไฟฟ้าพลังน้ำขนาดเล็กมากท้ายเขื่อนพลวง 2
B2: ='Schedule 2 PL2'!B2 -> ส่วนที่ 2
B3: งานจ้างปรับปรุงประสิทธิภาพและเพิ่มกำลังผลิต โครงการไฟฟ้าพลังน้ำคลองทุ่งเพล
B4: ='Schedule 2 PL2'!B4 -> ตารางแสดงปริมาณงานและราคา
B6: รายการที่ | C6: รายละเอียดงาน | G6: ราคารวมทั้งสิ้น
G7: (บาท)
B9: 1 | C9: TURBINE AND GOVERNOR
B10: 2 | C10: INLET VALVE
B11: 3 | C11: GEAR BOX
B12: 4 | C12: MECHANICAL AUXILIARY EQUIPMENT
B13: 5 | C13: ELECTRICAL EQUIPMENT
B14: 6 | C14: CONTROL, PROTECTION AND MONITORING
B24: SUB - TOTAL

Sheet Schedule 2 Price PL2
B1: โครงการไฟฟ้าพลังน้ำขนาดเล็กมากท้ายเขื่อนพลวง 2
B2: ส่วนที่ 2
B3: งานจ้างปรับปรุงประสิทธิภาพและเพิ่มกำลังผลิต โครงการไฟฟ้าพลังน้ำคลองทุ่งเพล
B4: รายการเครื่องผลิตไฟฟ้ากังหันน้ำและชุดควบคุม
B6: รายการที่ | C6: รายละเอียดงาน | D6: ปริมาณงาน | E6: ราคาต่อ | F6: ราคาต่อหน่วย | G6: ราคารวมทั้งสิ้น
G7: (บาท)
B8: 1 | C8: Turbine and Governor
C9: (1) Turbine | D9: 1 | E9: SET
C10: (2) Governing System | D10: 1 | E10: SET
C11: ราคารวมรายการ 1
B12: 2 | C12: Inlet Valve
C13: (1) Inet Valve and Bypass Valve | D13: 1 | E13: SET
C14: ราคารวมรายการ 2
B15: 3 | C15: GEAR BOX
C16: (1) GEAR BOX | D16: 1 | E16: SET
C17: ราคารวมรายการ 3
B18: 4 | C18: MECHANICAL AUXILIARY EQUIPMENT
C19: (1) ELECTRIC HOIST AND SUPPORT | D19: 1 | E19: LS
C20: (2) POWER BOX WITH VENTILATION AND AIR CONDITIONING | D20: 1 | E20: LS
C21: (3) FIRE PROTECTION EQUIPMENT | D21: 1 | E21: LS
C22: ราคารวมรายการ 4
B23: 5 | C23: ELECTRICAL EQUIPMENT
C24: (1) GENERATOR AND AUXILIARY EQUIPMENT | D24: 1 | E24: SET
C25: (2) LV SWITCHGEAR AC,DC PANEL AND MCCB PANEL | D25: 1 | E25: SET
C26: (3) CABLE AND RACEWAY | D26: 1 | E26: LS
C27: (4) GROUNDING SYSTEM AND LIGHTNING PROTECTION SYSTEM | D27: 1 | E27: LS
C28: (5) LIGHTING AND RECEPTACLE SOCKET | D28: 1 | E28: LS
C29: (6) EMERGENCY LIGHTING AND EXIT SIGN | D29: 1 | E29: SET
C30: (7) CCTV SYSTEM | D30: 1 | E30: SYSTEM
C31: (8) FIRE DETECTION AND ALARM SYSTEM | D31: 1 | E31: SYSTEM
C32: ราคารวมรายการ 5
B33: 6 | C33: CONTROL, PROTECTION AND MONITORING
C34: (1) CONTROL, PROTECTION, METERING | D34: 1 | E34: LS
C35: AND MONITORING SYSTEM
C36: ราคารวมรายการ 6

Sheet Sheet2

Sheet 15-รื้ออาคารเดิม
A1: ราคาสินค้าเฉลี่ยวัสดุก่อสร้าง (ไม่รวมภาษี) ของจังหวัดน่าน เดือนเมษายน ปี 2560
B2: หลักเกณฑ์การคำนวณราคางานต้นทุนต่อหน่วย
B3: โครงการไฟฟ้าพลังน้ำขนาดเล็กท้ายน้ำปัว จังหวัดน่าน
B4: ลำดับ | I4: รายการ | N4: หน่วย | O4: ราคา | P4: หมายเหตุ | R4: ( คิดเท่ากับ ปริมาณงานคอนกรีตของอาคารใหม่ )
B5: ที่ | O5: ต่อหน่วย | R5: ใช้ 20% ของราคาต่อหน่วยของคอนกรีตเสริมเหล็ก
C6: หมวดที่ 15 งานรื้อย้ายอาคารเดิม | R6: - ราคาคอนกรีตไม่เสริมเหล็ก | V6: = | X6: 2368 | Z6: บาท
C7: งานรื้อย้ายอาคารเดิม | O7: =+L17 -> #REF! | R7: - หักค่าเหล็กเสริมฯ (เมื่อนำไปขาย) | V7: = | X7: =25.94*70*0.35 -> 635.53 | Z7: บาท
C8: - งานดินขุดด้วยเครื่องจักร | R8: รวมราคาคอนกรีตเสริมเหล็ก | V8: = | X8: =X6-X7 -> 1732.47 | Z8: บาท/ลบ.ม.
D9: ปริมาณงาน | F9: = | G9: 400 | H9: ลบ.ม. | J9: 25.665 | K9: = | L9: =+J9*G9 -> 10266 | M9: บาท | R9: ราคาค่ารื้อย้ายอาคารสลายพลังงาน | V9: = | X9: =+X8*0.2 -> 346.494 | Z9: บาท/ลบ.ม.
C11: - งานคอนกรีตเสริมเหล็ก
D12: ปริมาณงาน | F12: = | G12: 200 | H12: ลบ.ม. | J12: =+X9 -> 346.494 | K12: = | L12: =+J12*G12 -> 69298.8 | M12: บาท
C14: - งานหินทิ้งและรองพื้น
D15: ปริมาณงาน | F15: = | G15: 200 | H15: ลบ.ม. | J15: =#REF! -> #REF! | K15: = | L15: =+J15*G15 -> #REF! | M15: บาท
J17: รวมทั้งสิ้น | L17: =ROUND(SUM(L9:L15),-2) -> #REF! | M17: บาท

Sheet 16-อุปกรณ์ชลฯ
B2: หลักเกณฑ์การคำนวณราคางานต้นทุนต่อหน่วย
B3: โครงการไฟฟ้าพลังน้ำขนาดเล็กน้ำปัว จังหวัดน่าน
B4: ลำดับ | I4: รายการ | N4: หน่วย | O4: ราคา | P4: หมายเหตุ
B5: ที่ | O5: ต่อหน่วย
C6: หมวดที่ 16 งานอุปกรณ์ชลศาสตร์
B7: 16.1 | C7: งานจัดหาและติดตั้ง Butterfly Valve ขนาด 1,500 มม.และ Bypass Pipe & Gate Valve | N7: ชุด | O7: =+J11 -> 2929000 | P7: CS Flow Solution
D8: - | E8: ค่าวัสดุพร้อมขนส่งถึงสถานที่ก่อสร้าง | I8: = | J8: 2252900 | M8: บาท | P8: Tel: 029484183-4
D9: - | E9: ค่าติดตั้ง (30%) | I9: = | J9: =SUM(J8:J8)*0.3 -> 675870 | M9: บาท
G10: รวมทั้งสิ้น | I10: = | J10: =SUM(J8:J9) -> 2928770 | M10: บาท
G11: ขอใช้ | I11: = | J11: =ROUND(J10,-3) -> 2929000 | M11: บาท
B13: 16.2 | C13: งานจัดหาและติดตั้ง High Pressure Slide Gate 1.5x1.5 ม. พร้อมอุปกรณ์ประกอบ | O13: =+J16 -> 6500000
E14: ค่าวัสดุพร้อมขนส่งถึงสถานที่ก่อสร้าง | I14: = | J14: 5000000 | M14: บาท
E15: ค่าติดตั้ง (30%) | I15: = | J15: =+J14*0.3 -> 1500000 | M15: บาท
I16: = | J16: =SUM(J14:J15) -> 6500000 | M16: บาท
B18: 16.3 | C18: งานจัดหาและติดตั้ง Travelling Crane ขนาด 2 ตัน | N18: ชุด | O18: =+J21 -> 273000
D19: - ค่า Travelling Crane | I19: = | J19: =180000+30000 -> 210000 | M19: บาท
D20: - ค่าประกอบ ติดตั้ง | I20: = | J20: =+J19*0.3 -> 63000 | M20: บาท
I21: = | J21: =SUM(J19:J20) -> 273000 | M21: บาท
B23: 16.3 | C23: งานจัดหาและติดตั้ง Travelling Crane ขนาด 5 ตัน | N23: ชุด | O23: =+J26 -> 577850
D24: - ค่า Travelling Crane | I24: = | J24: =412500+32000 -> 444500 | M24: บาท
D25: - ค่าประกอบ ติดตั้ง | I25: = | J25: =+J24*0.3 -> 133350 | M25: บาท
I26: = | J26: =SUM(J24:J25) -> 577850 | M26: บาท
B28: 16.3 | C28: งานจัดหาและติดตั้ง Travelling Crane ขนาด 16 ตัน | N28: ชุด | O28: =+J31 -> 3250000
D29: - ค่า Travelling Crane | I29: = | J29: 2500000 | M29: บาท
D30: - ค่าประกอบ ติดตั้ง | I30: = | J30: =+J29*0.3 -> 750000 | M30: บาท
I31: = | J31: =SUM(J29:J30) -> 3250000 | M31: บาท
B33: 16.5 | C33: งานจัดหาและติดตั้ง Air Relief Valve ขนาด 150 มม. ( High Speed Air Valve ) | N33: ชุด | O33: =+J37 -> 24000 | P33: สยามซินดิเคท
D34: - | E34: ค่าวัสดุพร้อมขนส่งถึงสถานที่ก่อสร้าง | I34: = | J34: 18500 | M34: บาท | P34: เทคโนโลยี
D35: - | E35: ค่าติดตั้ง (30%) | I35: = | J35: =SUM(J34:J34)*0.3 -> 5550 | M35: บาท | P35: Tel: 02 7336080-99
G36: รวมทั้งสิ้น | I36: = | J36: =SUM(J34:J35) -> 24050 | M36: บาท
G37: ขอใช้ | I37: = | J37: =ROUND(J36,-3) -> 24000 | M37: บาท
B39: 16.6 | C39: งานจัดหาและติดตั้ง Air Relief Valve ขนาด 200 มม. ( High Speed Air Valve ) | N39: ชุด | O39: =+J43 -> 35000 | P39: สยามซินดิเคท
D40: - | E40: ค่าวัสดุพร้อมขนส่งถึงสถานที่ก่อสร้าง | I40: = | J40: 27100 | M40: บาท | P40: เทคโนโลยี
D41: - | E41: ค่าติดตั้ง (30%) | I41: = | J41: =SUM(J40:J40)*0.3 -> 8130 | M41: บาท | P41: Tel: 02 7336080-99
G42: รวมทั้งสิ้น | I42: = | J42: =SUM(J40:J41) -> 35230 | M42: บาท
G43: ขอใช้ | I43: = | J43: =ROUND(J42,-3) -> 35000 | M43: บาท
B45: 16.7 | C45: งานจัดหาและติดตั้ง Gate Valve ขนาด 300 มม. ( Rising Stem ) | N45: ชุด | O45: =+J49 -> 51000 | P45: สยามซินดิเคท
D46: - | E46: ค่าวัสดุพร้อมขนส่งถึงสถานที่ก่อสร้าง | I46: = | J46: 39400 | M46: บาท | P46: เทคโนโลยี
D47: - | E47: ค่าติดตั้ง (30%) | I47: = | J47: =SUM(J46:J46)*0.3 -> 11820 | M47: บาท | P47: Tel: 02 7336080-99
G48: รวมทั้งสิ้น | I48: = | J48: =SUM(J46:J47) -> 51220 | M48: บาท
...

Sheet 14EE
A2: 14. งานไฟฟ้า
A3: โครงการไฟฟ้าพลังน้ำขนาดเล็กน้ำปัว จังหวัดน่าน
A4: ลำดับ | B4: รายละเอียด | C4: หน่วย | D4: ปริมาณ | E4: วัสดุ | G4: ค่าแรง | I4: รวม | J4: รวมค่าดำเนินการ
E5: ราคาต่อหน่วย | F5: จำนวน | G5: ราคาต่อหน่วย | H5: จำนวน | J5: และกำไร
B6: 14. งานระบบไฟฟ้า
A7: 1 | B7: Transmission Line (PEA - Power House)
B8: เสา คอร. ขนาด 12.0 เมตร | C8: ต้น | D8: 261 | E8: =L8 -> 4040 | F8: =D8*E8 -> 1054440 | G8: 870 | H8: =D8*G8 -> 227070 | I8: =F8+H8 -> 1281510 | J8: =I8*1.15 -> 1473736.5 | L8: =M8*1 -> 4040 | M8: 4040
B9: รีโครสเซอร์ 3 เฟส 22 เควี 560 แอมป์ | C9: ชุด | D9: 1 | E9: =L9 -> 400200 | F9: =D9*E9 -> 400200 | G9: 2000 | H9: =D9*G9 -> 2000 | I9: =F9+H9 -> 402200 | J9: =I9*1.15 -> 462530 | L9: =M9*1 -> 400200 | M9: 400200
B10: อุปกรณ์สำหรับแขวนรีโครสเซอร์บนเสาเดี่ยว | C10: ชุด | D10: 1 | E10: 3196 | F10: =D10*E10 -> 3196 | G10: 500 | H10: =D10*G10 -> 500 | I10: =F10+H10 -> 3696 | J10: =I10*1.15 -> 4250.4
B11: คอน คอร. ขนาด 120x120x2000 มม. | C11: อัน | D11: 120 | E11: =L11 -> 460 | F11: =D11*E11 -> 55200 | G11: 210 | H11: =D11*G11 -> 25200 | I11: =F11+H11 -> 80400 | J11: =I11*1.15 -> 92460 | L11: =M11*1 -> 460 | M11: 460
B12: คอน คอร. ขนาด 100x100x2500 มม. | C12: อัน | D12: 340 | E12: =L12 -> 360 | F12: =D12*E12 -> 122400 | G12: 130 | H12: =D12*G12 -> 44200 | I12: =F12+H12 -> 166600 | J12: =I12*1.15 -> 191590 | L12: =M12*1 -> 360 | M12: 360
B13: ลูกถ้วยแขวนชนิด 52-1 | C13: ลูก | D13: 1392 | E13: =L13 -> 257 | F13: =D13*E13 -> 357744 | G13: 20 | H13: =D13*G13 -> 27840 | I13: =F13+H13 -> 385584 | J13: =I13*1.15 -> 443421.6 | L13: =M13*1 -> 257 | M13: 257
B14: ลูกถ้วย PIN POST TYPE | C14: ลูก | D14: 1186 | E14: =L14 -> 762 | F14: =D14*E14 -> 903732 | G14: 80 | H14: =D14*G14 -> 94880 | I14: =F14+H14 -> 998612 | J14: =I14*1.15 -> 1148403.8 | L14: =M14*1 -> 762 | M14: 762
B15: เหล็กประกับคอน | C15: ชุด | D15: 514 | E15: =L15 -> 48 | F15: =D15*E15 -> 24672 | G15: 30 | H15: =D15*G15 -> 15420 | I15: =F15+H15 -> 40092 | J15: =I15*1.15 -> 46105.8 | L15: =M15*1 -> 48 | M15: 48
B16: แคล้มสแตรนขนาด 185 ต.มม. | C16: ชุด | D16: 348 | E16: =L16 -> 145 | F16: =D16*E16 -> 50460 | G16: 80 | H16: =D16*G16 -> 27840 | I16: =F16+H16 -> 78300 | J16: =I16*1.15 -> 90045 | L16: =M16*1 -> 145 | M16: 145
B17: สายอลูมิเนียมเปลือยขนาด 185 ต.มม. | C17: เมตร | D17: 22490 | E17: =L17 -> 75 | F17: =D17*E17 -> 1686750 | G17: 3.6 | H17: =D17*G17 -> 80964 | I17: =F17+H17 -> 1767714 | J17: =I17*1.15 -> 2032871.1 | L17: =M17*1 -> 75 | M17: 75
B18: กราวด์ร๊อด | C18: แท่ง | D18: 25 | E18: =L18 -> 468 | F18: =D18*E18 -> 11700 | G18: 270 | H18: =D18*G18 -> 6750 | I18: =F18+H18 -> 18450 | J18: =I18*1.15 -> 21217.5 | L18: =M18*1 -> 468 | M18: 468
B19: ลวดเหล็กตีเกลียว 25 ต.มม. | C19: เมตร | D19: 7625 | E19: =L19 -> 11 | F19: =D19*E19 -> 83875 | G19: 2 | H19: =D19*G19 -> 15250 | I19: =F19+H19 -> 99125 | J19: =I19*1.15 -> 113993.75 | L19: =M19*1 -> 11 | M19: 11
B20: เหล็กรับสายล่อฟ้าทางตรงขนาด 65x65x6x2250 มม. | C20: อัน | D20: 46 | E20: =L20 -> 409 | F20: =D20*E20 -> 18814 | G20: 130 | H20: =D20*G20 -> 5980 | I20: =F20+H20 -> 24794 | J20: =I20*1.15 -> 28513.1 | L20: =M20*1 -> 409 | M20: 409
B21: เหล็กรับสายล่อฟ้าปลายสายขนาด 100x50x5x2250 มม. | C21: อัน | D21: 56 | E21: =L21 -> 915 | F21: =D21*E21 -> 51240 | G21: 130 | H21: =D21*G21 -> 7280 | I21: =F21+H21 -> 58520 | J21: =I21*1.15 -> 67298 | L21: =M21*1 -> 915 | M21: 915
B22: เหล็กรับสายล่อฟ้าทางโค้งขนาด 65x65x6x2250 มม. | C22: อัน | D22: 147 | E22: =L22 -> 409 | F22: =D22*E22 -> 60123 | G22: 130 | H22: =D22*G22 -> 19110 | I22: =F22+H22 -> 79233 | J22: =I22*1.15 -> 91117.95 | L22: =M22*1 -> 409 | M22: 409
B23: สมอบกคอนกรีตขนาด 550x550x150 มม. | C23: อัน | D23: 51 | E23: =L23 -> 150 | F23: =D23*E23 -> 7650 | G23: 130 | H23: =D23*G23 -> 6630 | I23: =F23+H23 -> 14280 | J23: =I23*1.15 -> 16422 | L23: =M23*1 -> 150 | M23: 150
B24: อุปกรณ์ฮาร์ดแวร์ | C24: เหมารวม | D24: 1 | E24: 250000 | F24: =D24*E24 -> 250000 | G24: 0 | H24: =D24*G24 -> 0 | I24: =F24+H24 -> 250000 | J24: =I24*1.15 -> 287500
B26: รวมทั้งหมดงาน Transmission Line (PEA - Power House) | F26: =SUM(F8:F24) -> 5142196 | H26: =SUM(H8:H24) -> 606914 | I26: =SUM(I8:I24) -> 5749110 | J26: =I26*1.15 -> 6611476.5
A28: 2 | B28: Transmission Line (Power House - Weir)
B29: เสา คอร. ขนาด 12.0 เมตร | C29: ต้น | D29: 30 | E29: =L29 -> 4040 | F29: =D29*E29 -> 121200 | G29: 870 | H29: =D29*G29 -> 26100 | I29: =F29+H29 -> 147300 | J29: =I29*1.15 -> 169395 | L29: =M29*1 -> 4040 | M29: 4040
B30: คอน คอร. ขนาด 120x120x2000 มม. | C30: อัน | D30: 26 | E30: =L30 -> 460 | F30: =D30*E30 -> 11960 | G30: 210 | H30: =D30*G30 -> 5460 | I30: =F30+H30 -> 17420 | J30: =I30*1.15 -> 20033 | L30: =M30*1 -> 460 | M30: 460
B31: คอน คอร. ขนาด 100x100x2500 มม. | C31: อัน | D31: 29 | E31: =L31 -> 360 | F31: =D31*E31 -> 10440 | G31: 130 | H31: =D31*G31 -> 3770 | I31: =F31+H31 -> 14210 | J31: =I31*1.15 -> 16341.5 | L31: =M31*1 -> 360 | M31: 360
B32: ลูกถ้วยแขวนชนิด 52-1 | C32: ลูก | D32: 312 | E32: =L32 -> 257 | F32: =D32*E32 -> 80184 | G32: 20 | H32: =D32*G32 -> 6240 | I32: =F32+H32 -> 86424 | J32: =I32*1.15 -> 99387.6 | L32: =M32*1 -> 257 | M32: 257
B33: ลูกถ้วย PIN POST TYPE | C33: ลูก | D33: 126 | E33: =L33 -> 762 | F33: =D33*E33 -> 96012 | G33: 80 | H33: =D33*G33 -> 10080 | I33: =F33+H33 -> 106092 | J33: =I33*1.15 -> 122005.8 | L33: =M33*1 -> 762 | M33: 762
B34: เหล็กประกับคอน | C34: ชุด | D34: 62 | E34: =L34 -> 48 | F34: =D34*E34 -> 2976 | G34: 30 | H34: =D34*G34 -> 1860 | I34: =F34+H34 -> 4836 | J34: =I34*1.15 -> 5561.4 | L34: =M34*1 -> 48 | M34: 48
B35: แคล้มสแตรนขนาด 185 ต.มม. | C35: ชุด | D35: 78 | E35: =L35 -> 145 | F35: =D35*E35 -> 11310 | G35: 80 | H35: =D35*G35 -> 6240 | I35: =F35+H35 -> 17550 | J35: =I35*1.15 -> 20182.5 | L35: =M35*1 -> 145 | M35: 145
B36: สายอลูมิเนียมเปลือยขนาด 50 ต.มม. | C36: เมตร | D36: 1990 | E36: 20 | F36: =D36*E36 -> 39800 | G36: 3.6 | H36: =D36*G36 -> 7164 | I36: =F36+H36 -> 46964 | J36: =I36*1.15 -> 54008.6 | L36: =M36*1 -> 75 | M36: 75
B37: กราวด์ร๊อด | C37: แท่ง | D37: 3 | E37: =L37 -> 468 | F37: =D37*E37 -> 1404 | G37: 270 | H37: =D37*G37 -> 810 | I37: =F37+H37 -> 2214 | J37: =I37*1.15 -> 2546.1 | L37: =M37*1 -> 468 | M37: 468
B38: ลวดเหล็กตีเกลียว 25 ต.มม. | C38: เมตร | D38: 680 | E38: =L38 -> 11 | F38: =D38*E38 -> 7480 | G38: 2 | H38: =D38*G38 -> 1360 | I38: =F38+H38 -> 8840 | J38: =I38*1.15 -> 10166 | L38: =M38*1 -> 11 | M38: 11
B39: เหล็กรับสายล่อฟ้าทางตรงขนาด 65x65x6x2250 มม. | C39: อัน | D39: 7 | E39: =L39 -> 409 | F39: =D39*E39 -> 2863 | G39: 130 | H39: =D39*G39 -> 910 | I39: =F39+H39 -> 3773 | J39: =I39*1.15 -> 4338.95 | L39: =M39*1 -> 409 | M39: 409
B40: เหล็กรับสายล่อฟ้าทางโค้งขนาด 65x65x6x2250 มม. | C40: อัน | D40: 24 | E40: =L40 -> 409 | F40: =D40*E40 -> 9816 | G40: 130 | H40: =D40*G40 -> 3120 | I40: =F40+H40 -> 12936 | J40: =I40*1.15 -> 14876.4 | L40: =M40*1 -> 409 | M40: 409
B41: สมอบกคอนกรีตขนาด 550x550x150 มม. | C41: อัน | D41: 19 | E41: =L41 -> 150 | F41: =D41*E41 -> 2850 | G41: 130 | H41: =D41*G41 -> 2470 | I41: =F41+H41 -> 5320 | J41: =I41*1.15 -> 6118 | L41: =M41*1 -> 150 | M41: 150
B42: อุปกรณ์ฮาร์ดแวร์ | C42: เหมา | D42: 1 | E42: 40505 | F42: =D42*E42 -> 40505 | G42: 0 | H42: =D42*G42 -> 0 | I42: =F42+H42 -> 40505 | J42: =I42*1.15 -> 46580.75
J43: =I43*1.15 -> 0
...
